Workbook
Name CelkemDPHVypocet: Stavba!$H$56
Name CenaCelkem: Stavba!$G$29
Name CenaCelkemBezDPH: Stavba!$G$28
Name CenaCelkemVypocet: Stavba!$I$56
Name cisloobjektu: Stavba!$D$3
Name CisloRozpoctu: '[1]Krycí list'!$C$2
Name CisloStavby: Stavba!$D$2
Name cislostavby: '[1]Krycí list'!$A$7
Name CisloStavebnihoRozpoctu: Stavba!$D$4
Name dadresa: Stavba!$D$12:$G$12
Name DIČ: Stavba!$I$12
Name dmisto: Stavba!$E$13:$G$13
Name DPHSni: Stavba!$G$24
Name DPHZakl: Stavba!$G$26
Name dpsc: Stavba!$D$13
Name IČO: Stavba!$I$11
Name Mena: Stavba!$J$29
Name MistoStavby: Stavba!$D$4
Name nazevobjektu: Stavba!$E$3
Name NazevRozpoctu: '[1]Krycí list'!$D$2
Name NazevStavby: Stavba!$E$2
Name nazevstavby: '[1]Krycí list'!$C$7
Name NazevStavebnihoRozpoctu: Stavba!$E$4
Name oadresa: Stavba!$D$6
Name Objednatel: Stavba!$D$5
Name Objekt: Stavba!$B$38
Name odic: Stavba!$I$6
Name oico: Stavba!$I$5
Name omisto: Stavba!$E$7
Name onazev: Stavba!$D$6
Name opsc: Stavba!$D$7
Name padresa: Stavba!$D$9
Name pdic: Stavba!$I$9
Name pico: Stavba!$I$8
Name pmisto: Stavba!$E$10
Name PocetMJ: #REF!
Name PoptavkaID: Stavba!$A$1
Name pPSC: Stavba!$D$10
Name Projektant: Stavba!$D$8
Name SazbaDPH1: Stavba!$E$23
Name SazbaDPH1: '[1]Krycí list'!$C$30
Name SazbaDPH2: Stavba!$E$25
Name SazbaDPH2: '[1]Krycí list'!$C$32
Name SloupecCC: #REF!
Name SloupecCisloPol: #REF!
Name SloupecJC: #REF!
Name SloupecMJ: #REF!
Name SloupecMnozstvi: #REF!
Name SloupecNazPol: #REF!
Name SloupecPC: #REF!
Name Vypracoval: Stavba!$D$14
Name ZakladDPHSni: Stavba!$G$23
Name ZakladDPHSniVypocet: Stavba!$F$56
Name ZakladDPHZakl: Stavba!$G$25
Name ZakladDPHZaklVypocet: Stavba!$G$56
Name ZaObjednatele: Stavba!$G$34
Name Zaokrouhleni: Stavba!$G$27
Name ZaZhotovitele: Stavba!$D$34
Name Zhotovitel: Stavba!$D$11:$G$11

Sheet Stavba
A1: #RTSROZP# | B1: Soupis stavebních prací, dodávek a služeb
B2: Stavba: | D2: 1625923-72 | E2: Obec Chuchelna - lokalita Bačov a Komárov - doplnění a obnova vodohospodářské infrastruktury
B5: Zadavatel | D5: Vodohospodářské sdružení Turnov | H5: IČO: | I5: 49295934
D6: Antonína Dvořáka 287 | H6: DIČ: | I6: CZ49295934
D7: 51101 | E7: Turnov
B8: Projektant: | D8: AQUA PROCON s.r.o. | H8: IČO: | I8: 46964371
D9: Palackého třída 768/12 | H9: DIČ: | I9: CZ46964371
D10: 61200 | E10: Brno-Královo Pole
B11: Zhotovitel: | H11: IČO:
H12: DIČ:
B14: Vypracoval:
B15: Rozpis ceny | I15: Celkem
A16: HSV | B16: HSV | I16: =SUM(I44+I46+I48-I17+I51) -> 0
A17: PSV | B17: PSV | I17: =SUM('SO-01 01.1 Pol'!G206+'SO-01 01.1 Pol'!G296+'SO-01 01.1 Pol'!G316+'SO-02 02.1 Pol'!G281+'SO-02 02.1 Pol'!G299) -> 0
A18: MON | B18: MON | I18: =SUM(I54) -> 0
A19: VN | B19: Ostatní a vedlejší náklady stavby | I19: =SUM(I40) -> 0
A20: ON | B20: Povinná rezerva | I20: =SUM(I42) -> 200000
B21: Celkem | I21: =SUM(I16:J20) -> 200000
B22: Rekapitulace daní
B23: Základ pro sníženou DPH | E23: 12 | F23: % | G23: 0 | J23: =Mena -> CZK
B24: Snížená DPH | E24: =SazbaDPH1 -> 12 | F24: % | G24: 0 | J24: =Mena -> CZK
B25: Základ pro základní DPH | E25: 21 | F25: % | G25: =SUM(I21) -> 200000 | J25: =Mena -> CZK
B26: Základní DPH | E26: =SazbaDPH2 -> 21 | F26: % | G26: 1228309.3 | J26: =Mena -> CZK
A27: =ZakladDPHSni+ZakladDPHZakl -> 200000
A28: =(A27-INT(A27))*100 -> 0 | B28: Cena celkem bez DPH | G28: =A27 -> 200000 | J28: =Mena -> CZK
B29: Cena celkem s DPH | G29: =ZakladDPHSni+DPHSni+ZakladDPHZakl+DPHZakl+Zaokrouhleni -> 1428309.3 | J29: CZK
C32: v | F32: dne
D35: Za zhotovitele | H35: Za objednatele
B37: Rekapitulace dílčích částí
A38: #CASTI>> | B38: Číslo | C38: Název | F38: =B23 -> Základ pro sníženou DPH | G38: =B25 -> Základ pro základní DPH | H38: DPH celkem | I38: Cena celkem | J38: %
A39: 1 | B39: Stavba | F39: ='VRN 99.01 Naklady'!AE42+'SO-01 01.1 Pol'!AE326+'SO-02 02.1 Pol'!AE347+'SO-03 03.1 Pol'!AE496+#REF!+'PS-01 PS-01.1 Pol'!AE230+'PS-01 PS-01.2 Pol'!AE78+'PS-02 PS-02.1 Pol'!AE192 -> #REF! | G39: ='VRN 99.01 Naklady'!AF42+'SO-01 01.1 Pol'!AF326+'SO-02 02.1 Pol'!AF347+'SO-03 03.1 Pol'!AF496+#REF!+'PS-01 PS-01.1 Pol'!AF230+'PS-01 PS-01.2 Pol'!AF78+'PS-02 PS-02.1 Pol'!AF192 -> #REF! | I39: =F39+G39+H39 -> #REF! | J39: =IF(CenaCelkemVypocet=0,"",I39/CenaCelkemVypocet*100) -> #REF!
A40: 2 | B40: OaVNS | C40: Ostatní a vedlejší náklady stavby | F40: ='VRN 99.01 Naklady'!AE42 -> 0 | G40: ='VRN 99.01 Naklady'!AF42 -> 0 | I40: =SUM(G40) -> 0 | J40: =IF(CenaCelkemVypocet=0,"",I40/CenaCelkemVypocet*100) -> 0
A41: 3 | B41: 99.01 | C41: Ostatní a vedlejší náklady staby | F41: ='VRN 99.01 Naklady'!AE42 -> 0 | G41: ='VRN 99.01 Naklady'!AF42 -> 0 | I41: =F41+G41+H41 -> 0 | J41: =IF(CenaCelkemVypocet=0,"",I41/CenaCelkemVypocet*100) -> 0
B42: PR | C42: Povinná rezerva | F42: 0 | G42: 200000 | I42: =SUM(G42) -> 200000 | J42: =IF(CenaCelkemVypocet=0,"",I42/CenaCelkemVypocet*100) -> 100
A43: 2 | C43: Inženýrský objekt
A44: 2 | B44: SO-01 | C44: Stavební úpravy ČS Komárov | F44: ='SO-01 01.1 Pol'!AE326 -> 0 | G44: ='SO-01 01.1 Pol'!AF326 -> 0 | I44: =F44+G44+H44 -> 0 | J44: =IF(CenaCelkemVypocet=0,"",I44/CenaCelkemVypocet*100) -> 0
A45: 3 | B45: 01.1 | C45: Stavební úpravy ČS Komárov | F45: ='SO-01 01.1 Pol'!AE326 -> 0 | G45: ='SO-01 01.1 Pol'!AF326 -> 0 | I45: =F45+G45+H45 -> 0 | J45: =IF(CenaCelkemVypocet=0,"",I45/CenaCelkemVypocet*100) -> 0
A46: 2 | B46: SO-02 | C46: Šachta nad vrtem HVLK-1 | F46: ='SO-02 02.1 Pol'!AE347 -> 0 | G46: ='SO-02 02.1 Pol'!AF347 -> 0 | I46: =F46+G46+H46 -> 0 | J46: =IF(CenaCelkemVypocet=0,"",I46/CenaCelkemVypocet*100) -> 0
A47: 3 | B47: 02.1 | C47: Šachta nad vrtem HVLK-1 | F47: ='SO-02 02.1 Pol'!AE347 -> 0 | G47: ='SO-02 02.1 Pol'!AF347 -> 0 | I47: =F47+G47+H47 -> 0 | J47: =IF(CenaCelkemVypocet=0,"",I47/CenaCelkemVypocet*100) -> 0
A48: 2 | B48: SO-03 | C48: Venkovní propoje | F48: ='SO-03 03.1 Pol'!AE496 -> 0 | G48: =SUM(G49) -> 0 | I48: =F48+G48+H48 -> 0 | J48: =IF(CenaCelkemVypocet=0,"",I48/CenaCelkemVypocet*100) -> 0
...

Sheet VzorPolozky
A1: Položkový rozpočet
A2: S:
A3: O:
A4: R:

Sheet Pokyny pro vyplnění
A1: Pokyny pro vyplnění
A2: Ve všech listech tohoto souboru můžete měnit pouze buňky s modrým pozadím. Jedná se o tyto údaje : - údaje o firmě - jednotkové ceny položek zadané na maximálně dvě desetinná místa

Sheet VRN 99.01 Naklady
A1: Soupis vedlejších a ostatních nákladů | AG1: #TypZaznamu#
A2: S: | B2: 1625923-72 | C2: Obec Chuchelna - lokalita Bačov a Komárov - doplnění a obnova vodohospodářské infrastruktury | AG2: STA
A3: O: | B3: VRN | C3: Ostatní a vedlejší náklady stavby | AC3: NAK | AG3: OBJ
A4: R: | B4: 99.01 | C4: Ostatní a vedlejší náklady stavby | AG4: ROZ
A6: P.č. | B6: Číslo položky | C6: Název položky | D6: MJ | E6: Množství | F6: Cena / MJ | G6: Celkem | H6: Dodávka | I6: Dodávka celk. | J6: Montáž | K6: Montáž celk. | L6: DPH | M6: Cena s DPH | N6: Hmotnost / MJ | O6: Hmotnost celk.(t) | P6: Dem. hmotnost / MJ | Q6: Dem. hmotnost celk.(t) | R6: Ceník | S6: Cen. soustava / platnost | T6: Cenová úroveň | U6: Nhod / MJ | V6: Nhod celk. | W6: Dodavatel | X6: Typ položky | Y6: Stav položky
A8: Díl: | B8: VN | C8: Vedlejší náklady | G8: =SUMIF(AG9:AG16,"<>NOR",G9:G16) -> 0 | I8: =SUM(I9:I16) -> 0 | K8: =SUM(K9:K16) -> 125000 | M8: =SUM(M9:M16) -> 0 | O8: =SUM(O9:O16) -> 0 | Q8: =SUM(Q9:Q16) -> 0 | V8: =SUM(V9:V16) -> 0 | AG8: DIL
A9: 1 | B9: 01 | C9: Zařízení staveniště | D9: soubor | E9: 1 | G9: =ROUND(E9*F9,2) -> 0 | H9: 0 | I9: =ROUND(E9*H9,2) -> 0 | J9: 110000 | K9: =ROUND(E9*J9,2) -> 110000 | L9: 21 | M9: =G9*(1+L9/100) -> 0 | N9: 0 | O9: =ROUND(E9*N9,2) -> 0 | P9: 0 | Q9: =ROUND(E9*P9,2) -> 0 | S9: Vlastní | T9: Indiv | U9: 0 | V9: =ROUND(E9*U9,2) -> 0 | X9: VRN | Y9: Běžná | AG9: POL99_8
C10: viz příloha B | AG10: POP
C11: Veškeré náklady spojené s vybudováním, provozem a odstraněním zařízení staveniště. | AG11: POP
A12: 2 | B12: 02 | C12: Vytyčení stavby | D12: soubor | E12: 1 | G12: =ROUND(E12*F12,2) -> 0 | H12: 0 | I12: =ROUND(E12*H12,2) -> 0 | J12: 15000 | K12: =ROUND(E12*J12,2) -> 15000 | L12: 21 | M12: =G12*(1+L12/100) -> 0 | N12: 0 | O12: =ROUND(E12*N12,2) -> 0 | P12: 0 | Q12: =ROUND(E12*P12,2) -> 0 | S12: Vlastní | T12: Indiv | U12: 0 | V12: =ROUND(E12*U12,2) -> 0 | X12: VRN | Y12: Běžná | AG12: POL99_8
AG13: POP
C14: viz příloha B | AG14: POP
C15: Geodetické zaměření výchozích vytyčopvacích údajů. | AG15: POP
C16: Vyhotovení protokolu o vytyčení stavby se seznamem souřadnic vytyčených bodů a jejich polohopisnými (S-JTSK) a výškopisnými (Bpv) hodnotami. | AG16: POP | BA16: =C16 -> Vyhotovení protokolu o vytyčení stavby se seznamem souřadnic vytyčených bodů a jejich polohopisnými (S-JTSK) a výškopisnými (Bpv) hodnotami.
A17: Díl: | B17: ON | C17: Ostatní náklady | G17: =SUMIF(AG18:AG40,"<>NOR",G18:G40) -> 0 | I17: =SUM(I18:I40) -> 0 | K17: =SUM(K18:K40) -> 133000 | M17: =SUM(M18:M40) -> 0 | O17: =SUM(O18:O40) -> 0 | Q17: =SUM(Q18:Q40) -> 0 | V17: =SUM(V18:V40) -> 0 | AG17: DIL
A18: 3 | B18: 03 | C18: Geodetické zaměření skutečného provedení | D18: Soubor | E18: 1 | G18: =ROUND(E18*F18,2) -> 0 | H18: 0 | I18: =ROUND(E18*H18,2) -> 0 | J18: 15000 | K18: =ROUND(E18*J18,2) -> 15000 | L18: 21 | M18: =G18*(1+L18/100) -> 0 | N18: 0 | O18: =ROUND(E18*N18,2) -> 0 | P18: 0 | Q18: =ROUND(E18*P18,2) -> 0 | S18: Vlastní | T18: Indiv | U18: 0 | V18: =ROUND(E18*U18,2) -> 0 | X18: VRN | Y18: Běžná | AG18: POL99_8
C19: viz příloha B | AG19: POP
C20: Náklady na provedení skutečného zaměření stavby v rozsahu nezbytném pro zápis změny do katastru nemovitostí včetně zákresů, vyhotovení v požadovaném formátu a počtu | AG20: POP | BA20: =C20 -> Náklady na provedení skutečného zaměření stavby v rozsahu nezbytném pro zápis změny do katastru nemovitostí včetně zákresů, vyhotovení v požadovaném formátu a počtu
A21: 4 | B21: 04 | C21: Dopracování dokumentace pro provedení stavby | D21: soubor | E21: 1 | G21: =ROUND(E21*F21,2) -> 0 | H21: 0 | I21: =ROUND(E21*H21,2) -> 0 | J21: 28000 | K21: =ROUND(E21*J21,2) -> 28000 | L21: 21 | M21: =G21*(1+L21/100) -> 0 | N21: 0 | O21: =ROUND(E21*N21,2) -> 0 | P21: 0 | Q21: =ROUND(E21*P21,2) -> 0 | S21: Vlastní | T21: Indiv | U21: 0 | V21: =ROUND(E21*U21,2) -> 0 | X21: VRN | Y21: Běžná | AG21: POL99_8
C22: viz příloha B | AG22: POP
C23: Náklady spojené s vypracováním projektové dokumentace, většinou v obsahu a rozsahu projektové dokumentace pro provádění stavby, ale mohou zde být obsaženy i náklady na jiné stupně projektové dokumentace, pokud jsou součástí požadavků objednatele. | AG23: POP | BA23: =C23 -> Náklady spojené s vypracováním projektové dokumentace, většinou v obsahu a rozsahu projektové dokumentace pro provádění stavby, ale mohou zde být obsaženy i náklady na jiné stupně projektové dokumentace, pokud jsou součástí požadavků objednatele.
A24: 5 | B24: 05 | C24: Dokumentace skutečného provedení | D24: Soubor | E24: 1 | G24: =ROUND(E24*F24,2) -> 0 | H24: 0 | I24: =ROUND(E24*H24,2) -> 0 | J24: 25000 | K24: =ROUND(E24*J24,2) -> 25000 | L24: 21 | M24: =G24*(1+L24/100) -> 0 | N24: 0 | O24: =ROUND(E24*N24,2) -> 0 | P24: 0 | Q24: =ROUND(E24*P24,2) -> 0 | S24: Vlastní | T24: Indiv | U24: 0 | V24: =ROUND(E24*U24,2) -> 0 | X24: VRN | Y24: Běžná | AG24: POL99_8
C25: viz příloha B | AG25: POP
C26: Náklady na vyhotovení dokumentace skutečného provedení stavby a její předání objednateli v požadované formě a požadovaném počtu. | AG26: POP | BA26: =C26 -> Náklady na vyhotovení dokumentace skutečného provedení stavby a její předání objednateli v požadované formě a požadovaném počtu.
A27: 6 | B27: 07 | C27: Dočasná dopravní opatření | D27: soubor | E27: 1 | G27: =ROUND(E27*F27,2) -> 0 | H27: 0 | I27: =ROUND(E27*H27,2) -> 0 | J27: 15000 | K27: =ROUND(E27*J27,2) -> 15000 | L27: 21 | M27: =G27*(1+L27/100) -> 0 | N27: 0 | O27: =ROUND(E27*N27,2) -> 0 | P27: 0 | Q27: =ROUND(E27*P27,2) -> 0 | S27: Vlastní | T27: Indiv | U27: 0 | V27: =ROUND(E27*U27,2) -> 0 | X27: VRN | Y27: Běžná | AG27: POL99_8
C28: viz příloha B | AG28: POP
C29: Nákady spojené s provedením a údržbou dočasného dopravního opatření včetně projekčních prací a projednání s dotčenými orgány | AG29: POP | BA29: =C29 -> Nákady spojené s provedením a údržbou dočasného dopravního opatření včetně projekčních prací a projednání s dotčenými orgány
A30: 7 | B30: 08 | C30: Zkušební provoz a provozní řád | D30: soubor | E30: 1 | G30: =ROUND(E30*F30,2) -> 0 | H30: 0 | I30: =ROUND(E30*H30,2) -> 0 | J30: 35000 | K30: =ROUND(E30*J30,2) -> 35000 | L30: 21 | M30: =G30*(1+L30/100) -> 0 | N30: 0 | O30: =ROUND(E30*N30,2) -> 0 | P30: 0 | Q30: =ROUND(E30*P30,2) -> 0 | S30: Vlastní | T30: Indiv | U30: 0 | V30: =ROUND(E30*U30,2) -> 0 | X30: VRN | Y30: Běžná | AG30: POL99_8
C31: viz příloha B | AG31: POP
C32: Náklady zhotovitele na vypracování provozních řádů pro zkušební či trvalý provoz včetně nákladů na předání všech návodů k obsluze a údržbě pro technologická zařízení a včetně zaškolení obsluhy objednatele. | AG32: POP | BA32: =C32 -> Náklady zhotovitele na vypracování provozních řádů pro zkušební či trvalý provoz včetně nákladů na předání všech návodů k obsluze a údržbě pro technologická zařízení a včetně zaškolení obsluhy objednatele.
A33: 8 | B33: 09 | C33: Zaškolení obsluhy | D33: Soubor | E33: 1 | G33: =ROUND(E33*F33,2) -> 0 | H33: 0 | I33: =ROUND(E33*H33,2) -> 0 | J33: 5000 | K33: =ROUND(E33*J33,2) -> 5000 | L33: 21 | M33: =G33*(1+L33/100) -> 0 | N33: 0 | O33: =ROUND(E33*N33,2) -> 0 | P33: 0 | Q33: =ROUND(E33*P33,2) -> 0 | S33: Vlastní | T33: Indiv | U33: 0 | V33: =ROUND(E33*U33,2) -> 0 | X33: VRN | Y33: Běžná | AG33: POL99_8
C34: viz příloha B | AG34: POP
A35: 9 | B35: 10 | C35: Individuální a komplexní vyzkoušení | D35: soubor | E35: 1 | G35: =ROUND(E35*F35,2) -> 0 | H35: 0 | I35: =ROUND(E35*H35,2) -> 0 | J35: 5000 | K35: =ROUND(E35*J35,2) -> 5000 | L35: 21 | M35: =G35*(1+L35/100) -> 0 | N35: 0 | O35: =ROUND(E35*N35,2) -> 0 | P35: 0 | Q35: =ROUND(E35*P35,2) -> 0 | S35: Vlastní | T35: Indiv | U35: 0 | V35: =ROUND(E35*U35,2) -> 0 | X35: VRN | Y35: Běžná | AG35: POL99_8
C36: viz příloha B | AG36: POP
C37: Náklady nutné pro k odzkoušení objektů a jejich technických a technologických zařízení, elektrozařízení, řídících systémů a dispečinku ap. včetně vystavení dokladů o provedení zkoušek. | AG37: POP | BA37: =C37 -> Náklady nutné pro k odzkoušení objektů a jejich technických a technologických zařízení, elektrozařízení, řídících systémů a dispečinku ap. včetně vystavení dokladů o provedení zkoušek.
A38: 10 | B38: 11 | C38: Požadavky na zkoušky a doklady | D38: soubor | E38: 1 | G38: =ROUND(E38*F38,2) -> 0 | H38: 0 | I38: =ROUND(E38*H38,2) -> 0 | J38: 5000 | K38: =ROUND(E38*J38,2) -> 5000 | L38: 21 | M38: =G38*(1+L38/100) -> 0 | N38: 0 | O38: =ROUND(E38*N38,2) -> 0 | P38: 0 | Q38: =ROUND(E38*P38,2) -> 0 | S38: Vlastní | T38: Indiv | U38: 0 | V38: =ROUND(E38*U38,2) -> 0 | X38: VRN | Y38: Běžná | AG38: POL99_8
C39: viz příloha B | AG39: POP
C40: Náklady na zkoušky neuvedené v samostatných položkách soupisu prací včetně vyhotovení protokolů v požadovaném formátu a počtu. | AG40: POP | BA40: =C40 -> Náklady na zkoušky neuvedené v samostatných položkách soupisu prací včetně vyhotovení protokolů v požadovaném formátu a počtu.
AE41: 12 | AF41: 21 | AG41: DPH
B42: Celkem | G42: =G8+G17 -> 0 | AE42: =SUMIF(L7:L40,AE41,G7:G40) -> 0 | AF42: =SUMIF(L7:L40,AF41,G7:G40) -> 0 | AG42: SUM
...

Sheet SO-01 01.1 Pol
A1: Položkový soupis prací a dodávek | AG1: #TypZaznamu#
A2: S: | B2: 1625923-72 | C2: Obec Chuchelna - lokalita Bačov a Komárov - doplnění a obnova vodohospodářské infrastruktury | AG2: STA
A3: O: | B3: SO-01 | C3: Stavební úpravy ČS Komárov | AC3: ING | AG3: OBJ
A4: R: | B4: 01.1 | C4: Stavební úpravy ČS Komárov | AG4: ROZ
A6: P.č. | B6: Číslo položky | C6: Název položky | D6: MJ | E6: Množství | F6: Cena / MJ | G6: Celkem | H6: Dodávka | I6: Dodávka celk. | J6: Montáž | K6: Montáž celk. | L6: DPH | M6: Cena s DPH | N6: Hmotnost / MJ | O6: Hmotnost celk.(t) | P6: Dem. hmotnost / MJ | Q6: Dem. hmotnost celk.(t) | R6: Ceník | S6: Cen. soustava / platnost | T6: Cenová úroveň | U6: Nhod / MJ | V6: Nhod celk. | W6: Dodavatel | X6: Typ položky | Y6: Stav položky
A8: Díl: | B8: 2 | C8: Základy a zvláštní zakládání | G8: =SUMIF(AG9:AG21,"<>NOR",G9:G21) -> 0 | I8: =SUM(I9:I21) -> 422.87 | K8: =SUM(K9:K21) -> 414.48 | M8: =SUM(M9:M21) -> 0 | O8: =SUM(O9:O21) -> 0.21 | Q8: =SUM(Q9:Q21) -> 0 | V8: =SUM(V9:V21) -> 0.56 | AG8: DIL
A9: 1 | B9: 279312011R00 | C9: Beton základových zdí prostý třídy C 25/30 | D9: m3 | E9: 0.07695 | G9: =ROUND(E9*F9,2) -> 0 | H9: 3789.55 | I9: =ROUND(E9*H9,2) -> 291.61 | J9: 375.45 | K9: =ROUND(E9*J9,2) -> 28.89 | L9: 21 | M9: =G9*(1+L9/100) -> 0 | N9: 2.525 | O9: =ROUND(E9*N9,2) -> 0.19 | P9: 0 | Q9: =ROUND(E9*P9,2) -> 0 | R9: 801-1 | S9: RTS 24/ I | T9: RTS 24/ I | U9: 0.589 | V9: =ROUND(E9*U9,2) -> 0.05 | X9: Práce | Y9: Běžná | AG9: POL1_
C10: včetně kotvení do ŽB stěny pomocí trnů | AG10: POP
C11: viz příloha D.1.1.1, D.1.1.3 : | AG11: VV | AH11: 0
C12: základové bloky pod čerpadla přikotveny pomocí zalepené výztuže ke stávající bet. konstrukci : 0,90*0,45*0,19 | E12: 0.07695 | AG12: VV | AH12: 0
A13: 2 | B13: 279351105R00 | C13: Bednění základových zdí oboustranné, zřízení | D13: m2 | E13: 0.513 | G13: =ROUND(E13*F13,2) -> 0 | H13: 255.86 | I13: =ROUND(E13*H13,2) -> 131.26 | J13: 450.14 | K13: =ROUND(E13*J13,2) -> 230.92 | L13: 21 | M13: =G13*(1+L13/100) -> 0 | N13: 0.03931 | O13: =ROUND(E13*N13,2) -> 0.02 | P13: 0 | Q13: =ROUND(E13*P13,2) -> 0 | R13: 801-1 | S13: RTS 24/ I | T13: RTS 24/ I | U13: 0.65 | V13: =ROUND(E13*U13,2) -> 0.33 | X13: Práce | Y13: Běžná | AG13: POL1_
C14: bednění svislé nebo šikmé (odkloněné), půdorysně přímé nebo zalomené základových zdí ve volných nebo zapažených jámách, rýhách, šachtách, včetně případných vzpěr, | AG14: SPI | BA14: =C14 -> bednění svislé nebo šikmé (odkloněné), půdorysně přímé nebo zalomené základových zdí ve volných nebo zapažených jámách, rýhách, šachtách, včetně případných vzpěr,
C15: viz příloha D.1.1.1, D.1.1.3 : | AG15: VV | AH15: 0
C16: základové bloky pod čerpadla : (0,90+0,45)*2*0,19 | E16: 0.513 | AG16: VV | AH16: 0
A17: 3 | B17: 279351106R00 | C17: Bednění základových zdí oboustranné, odstranění | D17: m2 | E17: 0.513 | G17: =ROUND(E17*F17,2) -> 0 | H17: 0 | I17: =ROUND(E17*H17,2) -> 0 | J17: 301.5 | K17: =ROUND(E17*J17,2) -> 154.67 | L17: 21 | M17: =G17*(1+L17/100) -> 0 | N17: 0 | O17: =ROUND(E17*N17,2) -> 0 | P17: 0 | Q17: =ROUND(E17*P17,2) -> 0 | R17: 801-1 | S17: RTS 24/ I | T17: RTS 24/ I | U17: 0.35 | V17: =ROUND(E17*U17,2) -> 0.18 | X17: Práce | Y17: Běžná | AG17: POL1_
C18: bednění svislé nebo šikmé (odkloněné), půdorysně přímé nebo zalomené základových zdí ve volných nebo zapažených jámách, rýhách, šachtách, včetně případných vzpěr, | AG18: SPI | BA18: =C18 -> bednění svislé nebo šikmé (odkloněné), půdorysně přímé nebo zalomené základových zdí ve volných nebo zapažených jámách, rýhách, šachtách, včetně případných vzpěr,
C19: Včetně očištění, vytřídění a uložení bednicího materiálu. | AG19: POP
C20: viz příloha D.1.1.1, D.1.1.3 : | AG20: VV | AH20: 0
C21: základové bloky pod čerpadla : (0,90+0,45)*2*0,19 | E21: 0.513 | AG21: VV | AH21: 0
A22: Díl: | B22: 3 | C22: Svislé a kompletní konstrukce | G22: =SUMIF(AG23:AG37,"<>NOR",G23:G37) -> 0 | I22: =SUM(I23:I37) -> 9076.79 | K22: =SUM(K23:K37) -> 3812.34 | M22: =SUM(M23:M37) -> 0 | O22: =SUM(O23:O37) -> 2.93 | Q22: =SUM(Q23:Q37) -> 0 | V22: =SUM(V23:V37) -> 6.99 | AG22: DIL
A23: 4 | B23: 311231116RT3 | C23: Zdivo nosné z cihel a tvarovek pálených pod omítku z cihel plných, 290x140x65 mm, P 15, na maltu MC 10 | D23: m3 | E23: 1.4355 | G23: =ROUND(E23*F23,2) -> 0 | H23: 4416.98 | I23: =ROUND(E23*H23,2) -> 6340.57 | J23: 2043.02 | K23: =ROUND(E23*J23,2) -> 2932.76 | L23: 21 | M23: =G23*(1+L23/100) -> 0 | N23: 1.80776 | O23: =ROUND(E23*N23,2) -> 2.6 | P23: 0 | Q23: =ROUND(E23*P23,2) -> 0 | R23: 801-1 | S23: RTS 24/ I | T23: RTS 24/ I | U23: 3.765 | V23: =ROUND(E23*U23,2) -> 5.4 | X23: Práce | Y23: Běžná | AG23: POL1_
C24: Včetně pomocného lešení o výšce podlahy do 1,90 m a pro zatížení do 1,5 kPa. | AG24: POP
C25: viz příloha D.1.1.1, D.1.1.3 : | AG25: VV | AH25: 0
C26: Okenní otvor v obvodové nosné stěně – 2 ks : 1,45*1,10*0,45*2 | E26: 1.4355 | AG26: VV | AH26: 0
A27: 5 | B27: 342241124R00 | C27: Příčky z tvárnic pálených Příčky z tvárnic keramických pálených tloušťky 140 mm, z děrovaných příčkovek, P 10, zděných na tenkovrstvou maltu | D27: m2 | E27: 2.275 | G27: =ROUND(E27*F27,2) -> 0 | H27: 1037.62 | I27: =ROUND(E27*H27,2) -> 2360.59 | J27: 310.38 | K27: =ROUND(E27*J27,2) -> 706.11 | L27: 21 | M27: =G27*(1+L27/100) -> 0 | N27: 0.12818 | O27: =ROUND(E27*N27,2) -> 0.29 | P27: 0 | Q27: =ROUND(E27*P27,2) -> 0 | R27: 801-1 | S27: RTS 24/ I | T27: RTS 24/ I | U27: 0.55675 | V27: =ROUND(E27*U27,2) -> 1.27 | X27: Práce | Y27: Běžná | AG27: POL1_
C28: jednoduché nebo příčky zděné do svislé dřevěné, cihelné, betonové nebo ocelové konstrukce na jakoukoliv maltu vápenocementovou (MVC) nebo cementovou (MC), | AG28: SPI | BA28: =C28 -> jednoduché nebo příčky zděné do svislé dřevěné, cihelné, betonové nebo ocelové konstrukce na jakoukoliv maltu vápenocementovou (MVC) nebo cementovou (MC),
C29: Včetně pomocného lešení výšky do 1900 mm a pro zatížení do 1,5 kPa. | AG29: POP
C30: viz příloha D.1.1.1, D.1.1.3 : | AG30: VV | AH30: 0
C31: Vnitřní nenosné příčky : (1,25*3,10)-(0,80*2,00) | E31: 2.275 | AG31: VV | AH31: 0
A32: 6 | B32: 317121021R00 | C32: Montáž překladů keramických světlost do 1050 mm | D32: kus | E32: 1 | G32: =ROUND(E32*F32,2) -> 0 | H32: 12.53 | I32: =ROUND(E32*H32,2) -> 12.53 | J32: 173.47 | K32: =ROUND(E32*J32,2) -> 173.47 | L32: 21 | M32: =G32*(1+L32/100) -> 0 | N32: 0.00713 | O32: =ROUND(E32*N32,2) -> 0.01 | P32: 0 | Q32: =ROUND(E32*P32,2) -> 0 | R32: 801-1 | S32: RTS 24/ I | T32: RTS 24/ I | U32: 0.3175 | V32: =ROUND(E32*U32,2) -> 0.32 | X32: Práce | Y32: Běžná | AG32: POL1_
C33: viz příloha D.1.1.1, D.1.1.3 : | AG33: VV | AH33: 0
C34: překlad nad dveře : 1,00 | E34: 1 | AG34: VV | AH34: 0
A35: 7 | B35: 59340821R | C35: Překlad prefabrikovaný keramický spřažený; plochý; délka = 1 250 mm; šířka = 145 mm; výška = 71 mm | D35: kus | E35: 1.01 | G35: =ROUND(E35*F35,2) -> 0 | H35: 359.5 | I35: =ROUND(E35*H35,2) -> 363.1 | J35: 0 | K35: =ROUND(E35*J35,2) -> 0 | L35: 21 | M35: =G35*(1+L35/100) -> 0 | N35: 0.02704 | O35: =ROUND(E35*N35,2) -> 0.03 | P35: 0 | Q35: =ROUND(E35*P35,2) -> 0 | R35: SPCM | S35: RTS 24/ I | T35: RTS 24/ I | U35: 0 | V35: =ROUND(E35*U35,2) -> 0 | X35: Specifikace | Y35: Běžná | AG35: POL3_
C36: viz příloha D.1.1.1, D.1.1.3 : | AG36: VV | AH36: 0
C37: překlad nad dveře : 1,00*1,01 | E37: 1.01 | AG37: VV | AH37: 0
A38: Díl: | B38: 61 | C38: Úpravy povrchů vnitřní | G38: =SUMIF(AG39:AG55,"<>NOR",G39:G55) -> 0 | I38: =SUM(I39:I55) -> 915.42 | K38: =SUM(K39:K55) -> 3397.5 | M38: =SUM(M39:M55) -> 0 | O38: =SUM(O39:O55) -> 0.41 | Q38: =SUM(Q39:Q55) -> 0 | V38: =SUM(V39:V55) -> 5.99 | AG38: DIL
A39: 12 | B39: 602011102R00 | C39: Omítka stěn z hotových směsí postřik, báze, cementová, , , | D39: m2 | E39: 8.36 | G39: =ROUND(E39*F39,2) -> 0 | H39: 43.06 | I39: =ROUND(E39*H39,2) -> 359.98 | J39: 40.84 | K39: =ROUND(E39*J39,2) -> 341.42 | L39: 21 | M39: =G39*(1+L39/100) -> 0 | N39: 0.00605 | O39: =ROUND(E39*N39,2) -> 0.05 | P39: 0 | Q39: =ROUND(E39*P39,2) -> 0 | R39: 801-1 | S39: RTS 24/ I | T39: RTS 24/ I | U39: 0.08 | V39: =ROUND(E39*U39,2) -> 0.67 | X39: Práce | Y39: Běžná | AG39: POL1_
C40: po jednotlivých vrstvách | AG40: SPI
C41: viz příloha D.1.1.1, D.1.1.3 : | AG41: VV | AH41: 0
C42: Zazděný okenní otvor v obvodové nosné stěně – 2 ks : 1,45*1,10*2 | E42: 3.19 | AG42: VV | AH42: 0
...

Sheet SO-02 02.1 Pol
A1: Položkový soupis prací a dodávek | AG1: #TypZaznamu#
A2: S: | B2: 1625923-72 | C2: Obec Chuchelna - lokalita Bačov a Komárov - doplnění a obnova vodohospodářské infrastruktury | AG2: STA
A3: O: | B3: SO-02 | C3: Šachta nad vrtem HVLK-1 | AC3: ING | AG3: OBJ
A4: R: | B4: 02.1 | C4: Šachta nad vrtem HVLK-1 | AG4: ROZ
A6: P.č. | B6: Číslo položky | C6: Název položky | D6: MJ | E6: Množství | F6: Cena / MJ | G6: Celkem | H6: Dodávka | I6: Dodávka celk. | J6: Montáž | K6: Montáž celk. | L6: DPH | M6: Cena s DPH | N6: Hmotnost / MJ | O6: Hmotnost celk.(t) | P6: Dem. hmotnost / MJ | Q6: Dem. hmotnost celk.(t) | R6: Ceník | S6: Cen. soustava / platnost | T6: Cenová úroveň | U6: Nhod / MJ | V6: Nhod celk. | W6: Dodavatel | X6: Typ položky | Y6: Stav položky
A8: Díl: | B8: 1 | C8: Zemní práce | G8: =SUMIF(AG9:AG118,"<>NOR",G9:G118) -> 0 | I8: =SUM(I9:I118) -> 4931.71 | K8: =SUM(K9:K118) -> 184087.74 | M8: =SUM(M9:M118) -> 0 | O8: =SUM(O9:O118) -> 12.43 | Q8: =SUM(Q9:Q118) -> 0 | V8: =SUM(V9:V118) -> 257.82 | AG8: DIL
A9: 1 | B9: 115101201R00 | C9: Čerpání vody na dopravní výšku do 10 m s uvažovaným průměrným přítokem do 500 l/min | D9: h | E9: 224 | G9: =ROUND(E9*F9,2) -> 0 | H9: 0 | I9: =ROUND(E9*H9,2) -> 0 | J9: 126.5 | K9: =ROUND(E9*J9,2) -> 28336 | L9: 21 | M9: =G9*(1+L9/100) -> 0 | N9: 0 | O9: =ROUND(E9*N9,2) -> 0 | P9: 0 | Q9: =ROUND(E9*P9,2) -> 0 | R9: 800-1 | S9: RTS 24/ I | T9: RTS 24/ I | U9: 0.203 | V9: =ROUND(E9*U9,2) -> 45.47 | X9: Práce | Y9: Běžná | AG9: POL1_
C10: na vzdálenost od hladiny vody v jímce po výšku roviny proložené osou nejvyššího bodu výtlačného potrubí. Včetně odpadní potrubí v délce do 20 m. | AG10: SPI | BA10: =C10 -> na vzdálenost od hladiny vody v jímce po výšku roviny proložené osou nejvyššího bodu výtlačného potrubí. Včetně odpadní potrubí v délce do 20 m.
C11: včetně likvidace odčerpaných vod | AG11: POP
C12: Začátek provozního součtu | AG12: VV
C13: čerpání - pouze srážkové vody odhad cca 1 měsíc : | AG13: VV | AH13: 2
C14: celkem 4 týdnů / 7 dní v týdnu : | AG14: VV | AH14: 2
C15: Konec provozního součtu | AG15: VV
C16: odhad cyklické čerpání 80h dennně : 4*7*8 | E16: 224 | AG16: VV | AH16: 0
A17: 2 | B17: 115101301R00 | C17: Pohotovost záložní čerpací soupravy na dopravní výšku do 10 m s uvažovaným průměrným přítokem do 500 l/min | D17: den | E17: 28 | G17: =ROUND(E17*F17,2) -> 0 | H17: 0 | I17: =ROUND(E17*H17,2) -> 0 | J17: 56.6 | K17: =ROUND(E17*J17,2) -> 1584.8 | L17: 21 | M17: =G17*(1+L17/100) -> 0 | N17: 0 | O17: =ROUND(E17*N17,2) -> 0 | P17: 0 | Q17: =ROUND(E17*P17,2) -> 0 | R17: 800-1 | S17: RTS 24/ I | T17: RTS 24/ I | U17: 0 | V17: =ROUND(E17*U17,2) -> 0 | X17: Práce | Y17: Běžná | AG17: POL1_
C18: na vzdálenost (výšku) od hladiny vody v jímce po výšku roviny proložené osou nejvyššího bodu výtlačného potrubí. Včetně sacího a výtlačného potrubí, příp. odpadních žlabů, lešení pod čerpadlo a pod potrubí nebo pod odpadní žlaby a záložního zdroje energie. | AG18: SPI | BA18: =C18 -> na vzdálenost (výšku) od hladiny vody v jímce po výšku roviny proložené osou nejvyššího bodu výtlačného potrubí. Včetně sacího a výtlačného potrubí, příp. odpadních žlabů, lešení pod čerpadlo a pod potrubí nebo pod odpadní žlaby a záložního zdroje energie.
C19: Začátek provozního součtu | AG19: VV
C20: čerpání - pouze srážkové vody odhad cca 1 měsíc : | AG20: VV | AH20: 2
C21: Konec provozního součtu | AG21: VV
C22: celkem 4 týdnů / 7 dní v týdnu : 4*7 | E22: 28 | AG22: VV | AH22: 0
A23: 3 | B23: 121101101R00 | C23: Sejmutí ornice s přemístěním na vzdálenost do 50 m | D23: m3 | E23: 10.34175 | G23: =ROUND(E23*F23,2) -> 0 | H23: 0 | I23: =ROUND(E23*H23,2) -> 0 | J23: 90.2 | K23: =ROUND(E23*J23,2) -> 932.83 | L23: 21 | M23: =G23*(1+L23/100) -> 0 | N23: 0 | O23: =ROUND(E23*N23,2) -> 0 | P23: 0 | Q23: =ROUND(E23*P23,2) -> 0 | R23: 800-1 | S23: RTS 24/ I | T23: RTS 24/ I | U23: 0.097 | V23: =ROUND(E23*U23,2) -> 1 | X23: Práce | Y23: Běžná | AG23: POL1_
C24: nebo lesní půdy, s vodorovným přemístěním na hromady v místě upotřebení nebo na dočasné či trvalé skládky se složením | AG24: SPI | BA24: =C24 -> nebo lesní půdy, s vodorovným přemístěním na hromady v místě upotřebení nebo na dočasné či trvalé skládky se složením
C25: ornice : | AG25: VV | AH25: 0
C26: šachta : (3,40*3,40*0,30) | E26: 3.468 | AG26: VV | AH26: 0
C27: svahování : (((3,40+6,45)/2*1,60)*0,30)+(((3,40+6,40)/2*1,95)*0,30)+(((3,40+4,45)/2*0,70)*0,30)+(((3,40+4,40)/2*0,70)*0,30) | E27: 6.87375 | AG27: VV | AH27: 0
A28: 4 | B28: 131201201R00 | C28: Hloubení zapažených jam a zářezů do 100 m3, v hornině 3, převážně ručně | D28: m3 | E28: 43.22038 | G28: =ROUND(E28*F28,2) -> 0 | H28: 0 | I28: =ROUND(E28*H28,2) -> 0 | J28: 1176 | K28: =ROUND(E28*J28,2) -> 50827.17 | L28: 21 | M28: =G28*(1+L28/100) -> 0 | N28: 0 | O28: =ROUND(E28*N28,2) -> 0 | P28: 0 | Q28: =ROUND(E28*P28,2) -> 0 | R28: 800-1 | S28: RTS 24/ I | T28: RTS 24/ I | U28: 2.249 | V28: =ROUND(E28*U28,2) -> 97.2 | X28: Práce | Y28: Běžná | AG28: POL1_
C29: s urovnáním dna do předepsaného profilu a spádu, s případně nutným přemístěním výkopku ve výkopišti a dále buď s přemístěním výkopku na přilehlém terénu na vzdálenost do 3 m od kraje jámy nebo s naložením na dopravní prostředek | AG29: SPI | BA29: =C29 -> s urovnáním dna do předepsaného profilu a spádu, s případně nutným přemístěním výkopku ve výkopišti a dále buď s přemístěním výkopku na přilehlém terénu na vzdálenost do 3 m od kraje jámy nebo s naložením na dopravní prostředek
C30: viz příloha D.1.2.1, D.1.2.2 : | AG30: VV | AH30: 0
C31: Začátek provozního součtu | AG31: VV
C32: výkop : 4,30*4,30*(3,05-0,30) | E32: 50.8475 | AG32: VV | AH32: 2
C33: Mezisoučet | E33: 50.8475 | AG33: VV | AH33: 3
C34: Konec provozního součtu | AG34: VV
C35: geologie hor.3 - 85% : 50,8475*0,85 | E35: 43.22038 | AG35: VV | AH35: 0
A36: 5 | B36: 131201209R00 | C36: Hloubení zapažených jam a zářezů příplatek za lepivost, v hornině 3, | D36: m3 | E36: 21.61019 | G36: =ROUND(E36*F36,2) -> 0 | H36: 0 | I36: =ROUND(E36*H36,2) -> 0 | J36: 69.3 | K36: =ROUND(E36*J36,2) -> 1497.59 | L36: 21 | M36: =G36*(1+L36/100) -> 0 | N36: 0 | O36: =ROUND(E36*N36,2) -> 0 | P36: 0 | Q36: =ROUND(E36*P36,2) -> 0 | R36: 800-1 | S36: RTS 24/ I | T36: RTS 24/ I | U36: 0.107 | V36: =ROUND(E36*U36,2) -> 2.31 | X36: Práce | Y36: Běžná | AG36: POL1_
C37: s urovnáním dna do předepsaného profilu a spádu, s případně nutným přemístěním výkopku ve výkopišti a dále buď s přemístěním výkopku na přilehlém terénu na vzdálenost do 3 m od kraje jámy nebo s naložením na dopravní prostředek | AG37: SPI | BA37: =C37 -> s urovnáním dna do předepsaného profilu a spádu, s případně nutným přemístěním výkopku ve výkopišti a dále buď s přemístěním výkopku na přilehlém terénu na vzdálenost do 3 m od kraje jámy nebo s naložením na dopravní prostředek
C38: lepivost odhad 50% : 43,22038*0,5 | E38: 21.61019 | AG38: VV | AH38: 0
A39: 6 | B39: 131301201R00 | C39: Hloubení zapažených jam a zářezů do 100 m3, v hornině 4, převážně ručně | D39: m3 | E39: 7.62713 | G39: =ROUND(E39*F39,2) -> 0 | H39: 0 | I39: =ROUND(E39*H39,2) -> 0 | J39: 1557 | K39: =ROUND(E39*J39,2) -> 11875.44 | L39: 21 | M39: =G39*(1+L39/100) -> 0 | N39: 0 | O39: =ROUND(E39*N39,2) -> 0 | P39: 0 | Q39: =ROUND(E39*P39,2) -> 0 | R39: 800-1 | S39: RTS 24/ I | T39: RTS 24/ I | U39: 2.965 | V39: =ROUND(E39*U39,2) -> 22.61 | X39: Práce | Y39: Běžná | AG39: POL1_
C40: s urovnáním dna do předepsaného profilu a spádu, s případně nutným přemístěním výkopku ve výkopišti a dále buď s přemístěním výkopku na přilehlém terénu na vzdálenost do 3 m od kraje jámy nebo s naložením na dopravní prostředek | AG40: SPI | BA40: =C40 -> s urovnáním dna do předepsaného profilu a spádu, s případně nutným přemístěním výkopku ve výkopišti a dále buď s přemístěním výkopku na přilehlém terénu na vzdálenost do 3 m od kraje jámy nebo s naložením na dopravní prostředek
C41: viz příloha D.1.2.1, D.1.2.2 : | AG41: VV | AH41: 0
C42: výpočet hloubení jam v hor.3 : | AG42: VV | AH42: 0
...

Sheet SO-03 03.1 Pol
A1: Položkový soupis prací a dodávek | AG1: #TypZaznamu#
A2: S: | B2: 1625923-72 | C2: Obec Chuchelna - lokalita Bačov a Komárov - doplnění a obnova vodohospodářské infrastruktury | AG2: STA
A3: O: | B3: SO-03 | C3: Venkovní propoje | AC3: ING | AG3: OBJ
A4: R: | B4: 03.1 | C4: Venkovní propoje | AG4: ROZ
A6: P.č. | B6: Číslo položky | C6: Název položky | D6: MJ | E6: Množství | F6: Cena / MJ | G6: Celkem | H6: Dodávka | I6: Dodávka celk. | J6: Montáž | K6: Montáž celk. | L6: DPH | M6: Cena s DPH | N6: Hmotnost / MJ | O6: Hmotnost celk.(t) | P6: Dem. hmotnost / MJ | Q6: Dem. hmotnost celk.(t) | R6: Ceník | S6: Cen. soustava / platnost | T6: Cenová úroveň | U6: Nhod / MJ | V6: Nhod celk. | W6: Dodavatel | X6: Typ položky | Y6: Stav položky
A8: Díl: | B8: 1 | C8: Zemní práce | G8: =SUMIF(AG9:AG202,"<>NOR",G9:G202) -> 0 | I8: =SUM(I9:I202) -> 24012.3 | K8: =SUM(K9:K202) -> 200028.23 | M8: =SUM(M9:M202) -> 0 | O8: =SUM(O9:O202) -> 41.26 | Q8: =SUM(Q9:Q202) -> 0 | V8: =SUM(V9:V202) -> 250.26 | AG8: DIL
A9: 1 | B9: 115101201R00 | C9: Čerpání vody na dopravní výšku do 10 m s uvažovaným průměrným přítokem do 500 l/min | D9: h | E9: 80 | G9: =ROUND(E9*F9,2) -> 0 | H9: 0 | I9: =ROUND(E9*H9,2) -> 0 | J9: 126.5 | K9: =ROUND(E9*J9,2) -> 10120 | L9: 21 | M9: =G9*(1+L9/100) -> 0 | N9: 0 | O9: =ROUND(E9*N9,2) -> 0 | P9: 0 | Q9: =ROUND(E9*P9,2) -> 0 | R9: 800-1 | S9: RTS 24/ I | T9: RTS 24/ I | U9: 0.203 | V9: =ROUND(E9*U9,2) -> 16.24 | X9: Práce | Y9: Běžná | AG9: POL1_
C10: na vzdálenost od hladiny vody v jímce po výšku roviny proložené osou nejvyššího bodu výtlačného potrubí. Včetně odpadní potrubí v délce do 20 m. | AG10: SPI | BA10: =C10 -> na vzdálenost od hladiny vody v jímce po výšku roviny proložené osou nejvyššího bodu výtlačného potrubí. Včetně odpadní potrubí v délce do 20 m.
C11: včetně likvidace odčerpaných vod | AG11: POP
C12: povrchové čerpání - pouze srážkové vody : | AG12: VV | AH12: 0
C13: Začátek provozního součtu | AG13: VV
C14: přítok 5,0 - 10,0 l/s : 84,00 | E14: 84 | AG14: VV | AH14: 2
C15: cca 20-30m záběr odvodnění/týden : 84/25 | E15: 3.36 | AG15: VV | AH15: 2
C16: celkem 4 týdnů / 5 dní v týdnu : | AG16: VV | AH16: 2
C17: Konec provozního součtu | AG17: VV
C18: odhad cyklické čerpání 4h dennně : 4*5*4 | E18: 80 | AG18: VV | AH18: 0
A19: 2 | B19: 115101301R00 | C19: Pohotovost záložní čerpací soupravy na dopravní výšku do 10 m s uvažovaným průměrným přítokem do 500 l/min | D19: den | E19: 20 | G19: =ROUND(E19*F19,2) -> 0 | H19: 0 | I19: =ROUND(E19*H19,2) -> 0 | J19: 56.6 | K19: =ROUND(E19*J19,2) -> 1132 | L19: 21 | M19: =G19*(1+L19/100) -> 0 | N19: 0 | O19: =ROUND(E19*N19,2) -> 0 | P19: 0 | Q19: =ROUND(E19*P19,2) -> 0 | R19: 800-1 | S19: RTS 24/ I | T19: RTS 24/ I | U19: 0 | V19: =ROUND(E19*U19,2) -> 0 | X19: Práce | Y19: Běžná | AG19: POL1_
C20: na vzdálenost (výšku) od hladiny vody v jímce po výšku roviny proložené osou nejvyššího bodu výtlačného potrubí. Včetně sacího a výtlačného potrubí, příp. odpadních žlabů, lešení pod čerpadlo a pod potrubí nebo pod odpadní žlaby a záložního zdroje energie. | AG20: SPI | BA20: =C20 -> na vzdálenost (výšku) od hladiny vody v jímce po výšku roviny proložené osou nejvyššího bodu výtlačného potrubí. Včetně sacího a výtlačného potrubí, příp. odpadních žlabů, lešení pod čerpadlo a pod potrubí nebo pod odpadní žlaby a záložního zdroje energie.
C21: povrchové čerpání - pouze srážkové vody : | AG21: VV | AH21: 0
C22: Začátek provozního součtu | AG22: VV
C23: přítok 5,0 - 10,0 l/s : 84,00 | E23: 84 | AG23: VV | AH23: 2
C24: cca 20-30m záběr odvodnění/týden : 84/25 | E24: 3.36 | AG24: VV | AH24: 2
C25: Konec provozního součtu | AG25: VV
C26: celkem 4 týdnů / 5 dní v týdnu : 4*5 | E26: 20 | AG26: VV | AH26: 0
A27: 3 | B27: 119001411R00 | C27: Dočasné zajištění podzemního potrubí nebo vedení betonového potrubí DN do 200 mm | D27: m | E27: 0.9 | G27: =ROUND(E27*F27,2) -> 0 | H27: 160.98 | I27: =ROUND(E27*H27,2) -> 144.88 | J27: 434.02 | K27: =ROUND(E27*J27,2) -> 390.62 | L27: 21 | M27: =G27*(1+L27/100) -> 0 | N27: 0.01069 | O27: =ROUND(E27*N27,2) -> 0.01 | P27: 0 | Q27: =ROUND(E27*P27,2) -> 0 | R27: 800-1 | S27: RTS 24/ I | T27: RTS 24/ I | U27: 0.908 | V27: =ROUND(E27*U27,2) -> 0.82 | X27: Práce | Y27: Běžná | AG27: POL1_
C28: ve výkopišti ve stavu a poloze, ve kterých byla na začátku zemních prací, a to podepřením, vzepřením nebo vyvěšením, případně s ochranným bedněním, se zřízením a odstraněním zajišťovací konstrukce a včetně opotřebení použitých materiálů, | AG28: SPI | BA28: =C28 -> ve výkopišti ve stavu a poloze, ve kterých byla na začátku zemních prací, a to podepřením, vzepřením nebo vyvěšením, případně s ochranným bedněním, se zřízením a odstraněním zajišťovací konstrukce a včetně opotřebení použitých materiálů,
C29: přeložka č. 2 : | AG29: VV | AH29: 0
C30: stávající vodovodní řad ... 1x : 1*0,90 | E30: 0.9 | AG30: VV | AH30: 0
A31: 4 | B31: 119001421R00 | C31: Dočasné zajištění podzemního potrubí nebo vedení kabelů do 3 kabelů | D31: m | E31: 0.9 | G31: =ROUND(E31*F31,2) -> 0 | H31: 106.86 | I31: =ROUND(E31*H31,2) -> 96.17 | J31: 259.14 | K31: =ROUND(E31*J31,2) -> 233.23 | L31: 21 | M31: =G31*(1+L31/100) -> 0 | N31: 0.02478 | O31: =ROUND(E31*N31,2) -> 0.02 | P31: 0 | Q31: =ROUND(E31*P31,2) -> 0 | R31: 800-1 | S31: RTS 24/ I | T31: RTS 24/ I | U31: 0.547 | V31: =ROUND(E31*U31,2) -> 0.49 | X31: Práce | Y31: Běžná | AG31: POL1_
C32: ve výkopišti ve stavu a poloze, ve kterých byla na začátku zemních prací, a to podepřením, vzepřením nebo vyvěšením, případně s ochranným bedněním, se zřízením a odstraněním zajišťovací konstrukce a včetně opotřebení použitých materiálů, | AG32: SPI | BA32: =C32 -> ve výkopišti ve stavu a poloze, ve kterých byla na začátku zemních prací, a to podepřením, vzepřením nebo vyvěšením, případně s ochranným bedněním, se zřízením a odstraněním zajišťovací konstrukce a včetně opotřebení použitých materiálů,
C33: přeložka č. 2 : | AG33: VV | AH33: 0
C34: kabel NN ... 1x : 1*0,90 | E34: 0.9 | AG34: VV | AH34: 0
A35: 5 | B35: 130001101R00 | C35: Příplatek k cenám za ztížené vykopávky v horninách jakékoliv třídy | D35: m3 | E35: 4.1355 | G35: =ROUND(E35*F35,2) -> 0 | H35: 0 | I35: =ROUND(E35*H35,2) -> 0 | J35: 848 | K35: =ROUND(E35*J35,2) -> 3506.9 | L35: 21 | M35: =G35*(1+L35/100) -> 0 | N35: 0 | O35: =ROUND(E35*N35,2) -> 0 | P35: 0 | Q35: =ROUND(E35*P35,2) -> 0 | R35: 800-1 | S35: RTS 24/ I | T35: RTS 24/ I | U35: 1.763 | V35: =ROUND(E35*U35,2) -> 7.29 | X35: Práce | Y35: Běžná | AG35: POL1_
C36: Příplatek k cenám hloubených vykopávek za ztížení vykopávky v blízkosti podzemního vedení nebo výbušnin pro jakoukoliv třídu horniny. | AG36: SPI | BA36: =C36 -> Příplatek k cenám hloubených vykopávek za ztížení vykopávky v blízkosti podzemního vedení nebo výbušnin pro jakoukoliv třídu horniny.
C37: přeložka č. 2 : | AG37: VV | AH37: 0
C38: stávající vodovodní řad ... 1x : 1*0,90*1,85*1,00 | E38: 1.665 | AG38: VV | AH38: 0
C39: kabel NN ... 1x : 1*0,90*1,83*1,50 | E39: 2.4705 | AG39: VV | AH39: 0
A40: 6 | B40: 121101101R00 | C40: Sejmutí ornice s přemístěním na vzdálenost do 50 m | D40: m3 | E40: =SUM(E43:E49) -> 6.495 | G40: =ROUND(E40*F40,2) -> 0 | H40: 0 | I40: =ROUND(E40*H40,2) -> 0 | J40: 90.2 | K40: =ROUND(E40*J40,2) -> 585.85 | L40: 21 | M40: =G40*(1+L40/100) -> 0 | N40: 0 | O40: =ROUND(E40*N40,2) -> 0 | P40: 0 | Q40: =ROUND(E40*P40,2) -> 0 | R40: 800-1 | S40: RTS 24/ I | T40: RTS 24/ I | U40: 0.097 | V40: =ROUND(E40*U40,2) -> 0.63 | X40: Práce | Y40: Běžná | AG40: POL1_
C41: nebo lesní půdy, s vodorovným přemístěním na hromady v místě upotřebení nebo na dočasné či trvalé skládky se složením | AG41: SPI | BA41: =C41 -> nebo lesní půdy, s vodorovným přemístěním na hromady v místě upotřebení nebo na dočasné či trvalé skládky se složením
C42: viz příloha D.1.3.1, D.1.3.4.1, D.1.3.4.4 : | AG42: VV | AH42: 0
...

Sheet PS-01 PS-01.1 Pol
A1: Položkový soupis prací a dodávek | AG1: #TypZaznamu#
A2: S: | B2: 1625923-72 | C2: Obec Chuchelna - lokalita Bačov a Komárov - doplnění a obnova vodohospodářské infrastruktury | AG2: STA
A3: O: | B3: PS-01 | C3: Strojně-technologická část | AC3: PRO | AG3: OBJ
A4: R: | B4: PS-01.1 | C4: ČS Komárov - trubní vystrojení | AG4: ROZ
A6: P.č. | B6: Číslo položky | C6: Název položky | D6: MJ | E6: Množství | F6: Cena / MJ | G6: Celkem | H6: Dodávka | I6: Dodávka celk. | J6: Montáž | K6: Montáž celk. | L6: DPH | M6: Cena s DPH | N6: Hmotnost / MJ | O6: Hmotnost celk.(t) | P6: Dem. hmotnost / MJ | Q6: Dem. hmotnost celk.(t) | R6: Ceník | S6: Cen. soustava / platnost | T6: Cenová úroveň | U6: Nhod / MJ | V6: Nhod celk. | W6: Dodavatel | X6: Typ položky | Y6: Stav položky
A8: Díl: | B8: 8 | C8: Trubní vedení | G8: =SUMIF(AG9:AG228,"<>NOR",G9:G228) -> 0 | I8: =SUM(I9:I228) -> 556772.5 | K8: =SUM(K9:K228) -> 587668 | M8: =SUM(M9:M228) -> 0 | O8: =SUM(O9:O228) -> 0.77 | Q8: =SUM(Q9:Q228) -> 0.9 | V8: =SUM(V9:V228) -> 84.65 | AG8: DIL
A9: 1 | B9: 12730251R54/2 | C9: Potrubí - nerez ocel dle DIN 1.4404 54 x 2 mm | D9: m | E9: 40 | G9: =ROUND(E9*F9,2) -> 0 | H9: 2344 | I9: =ROUND(E9*H9,2) -> 93760 | J9: 0 | K9: =ROUND(E9*J9,2) -> 0 | L9: 21 | M9: =G9*(1+L9/100) -> 0 | N9: 0.00563 | O9: =ROUND(E9*N9,2) -> 0.23 | P9: 0 | Q9: =ROUND(E9*P9,2) -> 0 | S9: Vlastní | T9: Indiv | U9: 0 | V9: =ROUND(E9*U9,2) -> 0 | X9: Specifikace | Y9: Běžná | AG9: POL3_
C10: viz příloha D.2.1.1, D.2.1.2.1, D.2.1.2.2 : | AG10: VV | AH10: 0
C11: potrubí DN50 : 40,00 | E11: 40 | AG11: VV | AH11: 0
A12: 2 | B12: 12730248R44 | C12: Potrubí - nerez ocel dle DIN 1.4404 44 x 2 mm | D12: m | E12: 34 | G12: =ROUND(E12*F12,2) -> 0 | H12: 1102 | I12: =ROUND(E12*H12,2) -> 37468 | J12: 0 | K12: =ROUND(E12*J12,2) -> 0 | L12: 21 | M12: =G12*(1+L12/100) -> 0 | N12: 0.0019 | O12: =ROUND(E12*N12,2) -> 0.06 | P12: 0 | Q12: =ROUND(E12*P12,2) -> 0 | S12: Vlastní | T12: Indiv | U12: 0 | V12: =ROUND(E12*U12,2) -> 0 | X12: Specifikace | Y12: Běžná | AG12: POL3_
C13: viz příloha D.2.1.1, D.2.1.2.1, D.2.1.2.2 : | AG13: VV | AH13: 0
C14: potrubí DN40 : 34,00 | E14: 34 | AG14: VV | AH14: 0
A15: 3 | B15: 12730246R35 | C15: Potrubí - nerez ocel dle DIN 1.4404 35 x 1,5 mm včetně tvarovek a fitinek | D15: m | E15: 0.5 | G15: =ROUND(E15*F15,2) -> 0 | H15: 951 | I15: =ROUND(E15*H15,2) -> 475.5 | J15: 0 | K15: =ROUND(E15*J15,2) -> 0 | L15: 21 | M15: =G15*(1+L15/100) -> 0 | N15: 0.00376 | O15: =ROUND(E15*N15,2) -> 0 | P15: 0 | Q15: =ROUND(E15*P15,2) -> 0 | S15: Vlastní | T15: Indiv | U15: 0 | V15: =ROUND(E15*U15,2) -> 0 | X15: Specifikace | Y15: Běžná | AG15: POL3_
C16: viz příloha D.2.1.1, D.2.1.2.1, D.2.1.2.2 : | AG16: VV | AH16: 0
C17: potrubí DN32 : 0,50 | E17: 0.5 | AG17: VV | AH17: 0
A18: 4 | B18: 12730238R28 | C18: Potrubí - nerez ocel dle DIN 1.4404 28 x 1,5 mm, včetně tvarovek a fitinek | D18: m | E18: 1 | G18: =ROUND(E18*F18,2) -> 0 | H18: 771 | I18: =ROUND(E18*H18,2) -> 771 | J18: 0 | K18: =ROUND(E18*J18,2) -> 0 | L18: 21 | M18: =G18*(1+L18/100) -> 0 | N18: 0.00115 | O18: =ROUND(E18*N18,2) -> 0 | P18: 0 | Q18: =ROUND(E18*P18,2) -> 0 | S18: Vlastní | T18: Indiv | U18: 0 | V18: =ROUND(E18*U18,2) -> 0 | X18: Specifikace | Y18: Běžná | AG18: POL3_
C19: viz příloha D.2.1.1, D.2.1.2.1, D.2.1.2.2 : | AG19: VV | AH19: 0
C20: potrubí DN25 : 1,00 | E20: 1 | AG20: VV | AH20: 0
A21: 5 | B21: 12730238R24 | C21: Potrubí - nerez ocel dle DIN 1.4404 24 x 1,5 mm, včetně tvarovek a fitinek | D21: m | E21: 3.5 | G21: =ROUND(E21*F21,2) -> 0 | H21: 572 | I21: =ROUND(E21*H21,2) -> 2002 | J21: 0 | K21: =ROUND(E21*J21,2) -> 0 | L21: 21 | M21: =G21*(1+L21/100) -> 0 | N21: 0.00115 | O21: =ROUND(E21*N21,2) -> 0 | P21: 0 | Q21: =ROUND(E21*P21,2) -> 0 | S21: Vlastní | T21: Indiv | U21: 0 | V21: =ROUND(E21*U21,2) -> 0 | X21: Specifikace | Y21: Běžná | AG21: POL3_
C22: viz příloha D.2.1.1, D.2.1.2.1, D.2.1.2.2 : | AG22: VV | AH22: 0
C23: potrubí DN21 : 3,50 | E23: 3.5 | AG23: VV | AH23: 0
A24: 6 | B24: 12730216R13 | C24: Potrubí - nerez ocel dle DIN 1.4404 13 x 1,5 mm, včetně tvarovek a fitinek | D24: m | E24: 3 | G24: =ROUND(E24*F24,2) -> 0 | H24: 432 | I24: =ROUND(E24*H24,2) -> 1296 | J24: 0 | K24: =ROUND(E24*J24,2) -> 0 | L24: 21 | M24: =G24*(1+L24/100) -> 0 | N24: 0.00043 | O24: =ROUND(E24*N24,2) -> 0 | P24: 0 | Q24: =ROUND(E24*P24,2) -> 0 | S24: Vlastní | T24: Indiv | U24: 0 | V24: =ROUND(E24*U24,2) -> 0 | X24: Specifikace | Y24: Běžná | AG24: POL3_
C25: viz příloha D.2.1.1, D.2.1.2.1, D.2.1.2.2 : | AG25: VV | AH25: 0
C26: potrubí DN10 : 3,00 | E26: 3 | AG26: VV | AH26: 0
A27: 7 | B27: 5525852706R150 | C27: F-kus DN 150 | D27: kus | E27: 1 | G27: =ROUND(E27*F27,2) -> 0 | H27: 6806 | I27: =ROUND(E27*H27,2) -> 6806 | J27: 0 | K27: =ROUND(E27*J27,2) -> 0 | L27: 21 | M27: =G27*(1+L27/100) -> 0 | N27: 0.0156 | O27: =ROUND(E27*N27,2) -> 0.02 | P27: 0 | Q27: =ROUND(E27*P27,2) -> 0 | S27: Vlastní | T27: Indiv | U27: 0 | V27: =ROUND(E27*U27,2) -> 0 | X27: Specifikace | Y27: Běžná | AG27: POL3_
C28: viz příloha D.2.1.1, D.2.1.2.1, D.2.1.2.2 : | AG28: VV | AH28: 0
C29: F-kus : 1,00 | E29: 1 | AG29: VV | AH29: 0
A30: 8 | B30: 5525852703R80 | C30: F-kus DN 80 | D30: kus | E30: 1 | G30: =ROUND(E30*F30,2) -> 0 | H30: 3815 | I30: =ROUND(E30*H30,2) -> 3815 | J30: 0 | K30: =ROUND(E30*J30,2) -> 0 | L30: 21 | M30: =G30*(1+L30/100) -> 0 | N30: 0.0077 | O30: =ROUND(E30*N30,2) -> 0.01 | P30: 0 | Q30: =ROUND(E30*P30,2) -> 0 | S30: Vlastní | T30: Indiv | U30: 0 | V30: =ROUND(E30*U30,2) -> 0 | X30: Specifikace | Y30: Běžná | AG30: POL3_
C31: viz příloha D.2.1.1, D.2.1.2.1, D.2.1.2.2 : | AG31: VV | AH31: 0
C32: F-kus : 1,00 | E32: 1 | AG32: VV | AH32: 0
A33: 9 | B33: 552720240R50 | C33: F- kus DN 50 | D33: kus | E33: 3 | G33: =ROUND(E33*F33,2) -> 0 | H33: 1876 | I33: =ROUND(E33*H33,2) -> 5628 | J33: 0 | K33: =ROUND(E33*J33,2) -> 0 | L33: 21 | M33: =G33*(1+L33/100) -> 0 | N33: 0.00385 | O33: =ROUND(E33*N33,2) -> 0.01 | P33: 0 | Q33: =ROUND(E33*P33,2) -> 0 | S33: Vlastní | T33: Indiv | U33: 0 | V33: =ROUND(E33*U33,2) -> 0 | X33: Specifikace | Y33: Běžná | AG33: POL3_
C34: viz příloha D.2.1.1, D.2.1.2.1, D.2.1.2.2 : | AG34: VV | AH34: 0
C35: F-kus : 3,00 | E35: 3 | AG35: VV | AH35: 0
A36: 10 | B36: 31945310R80/90 | C36: Koleno 90° nerez DN 80 tl. 2 mm | D36: kus | E36: 1 | G36: =ROUND(E36*F36,2) -> 0 | H36: 5245 | I36: =ROUND(E36*H36,2) -> 5245 | J36: 0 | K36: =ROUND(E36*J36,2) -> 0 | L36: 21 | M36: =G36*(1+L36/100) -> 0 | N36: 0.00146 | O36: =ROUND(E36*N36,2) -> 0 | P36: 0 | Q36: =ROUND(E36*P36,2) -> 0 | S36: Vlastní | T36: Indiv | U36: 0 | V36: =ROUND(E36*U36,2) -> 0 | X36: Specifikace | Y36: Běžná | AG36: POL3_
C37: viz příloha D.2.1.1, D.2.1.2.1, D.2.1.2.2 : | AG37: VV | AH37: 0
C38: koleno : 1,00 | E38: 1 | AG38: VV | AH38: 0
A39: 11 | B39: 31945308R50/41 | C39: Koleno 41° nerez DN 50 tl. 2 mm | D39: kus | E39: 1 | G39: =ROUND(E39*F39,2) -> 0 | H39: 1521 | I39: =ROUND(E39*H39,2) -> 1521 | J39: 0 | K39: =ROUND(E39*J39,2) -> 0 | L39: 21 | M39: =G39*(1+L39/100) -> 0 | N39: 0.00036 | O39: =ROUND(E39*N39,2) -> 0 | P39: 0 | Q39: =ROUND(E39*P39,2) -> 0 | S39: Vlastní | T39: Indiv | U39: 0 | V39: =ROUND(E39*U39,2) -> 0 | X39: Specifikace | Y39: Běžná | AG39: POL3_
C40: viz příloha D.2.1.1, D.2.1.2.1, D.2.1.2.2 : | AG40: VV | AH40: 0
C41: koleno : 1,00 | E41: 1 | AG41: VV | AH41: 0
A42: 12 | B42: 31945308R50/45 | C42: Koleno 45° nerez DN 50 tl. 2 mm | D42: kus | E42: 8 | G42: =ROUND(E42*F42,2) -> 0 | H42: 1492 | I42: =ROUND(E42*H42,2) -> 11936 | J42: 0 | K42: =ROUND(E42*J42,2) -> 0 | L42: 21 | M42: =G42*(1+L42/100) -> 0 | N42: 0.00036 | O42: =ROUND(E42*N42,2) -> 0 | P42: 0 | Q42: =ROUND(E42*P42,2) -> 0 | S42: Vlastní | T42: Indiv | U42: 0 | V42: =ROUND(E42*U42,2) -> 0 | X42: Specifikace | Y42: Běžná | AG42: POL3_
...

Sheet PS-01 PS-01.2 Pol
A1: Položkový soupis prací a dodávek | AG1: #TypZaznamu#
A2: S: | B2: 1625923-72 | C2: Obec Chuchelna - lokalita Bačov a Komárov - doplnění a obnova vodohospodářské infrastruktury | AG2: STA
A3: O: | B3: PS-01 | C3: Strojně-technologická část | AC3: PRO | AG3: OBJ
A4: R: | B4: PS-01.2 | C4: Šachta nad vrtem - trubní vystrojení | AG4: ROZ
A6: P.č. | B6: Číslo položky | C6: Název položky | D6: MJ | E6: Množství | F6: Cena / MJ | G6: Celkem | H6: Dodávka | I6: Dodávka celk. | J6: Montáž | K6: Montáž celk. | L6: DPH | M6: Cena s DPH | N6: Hmotnost / MJ | O6: Hmotnost celk.(t) | P6: Dem. hmotnost / MJ | Q6: Dem. hmotnost celk.(t) | R6: Ceník | S6: Cen. soustava / platnost | T6: Cenová úroveň | U6: Nhod / MJ | V6: Nhod celk. | W6: Dodavatel | X6: Typ položky | Y6: Stav položky
A8: Díl: | B8: 8 | C8: Trubní vedení | G8: =SUMIF(AG9:AG76,"<>NOR",G9:G76) -> 0 | I8: =SUM(I9:I76) -> 105926.95 | K8: =SUM(K9:K76) -> 124710 | M8: =SUM(M9:M76) -> 0 | O8: =SUM(O9:O76) -> 0.25 | Q8: =SUM(Q9:Q76) -> 0.07 | V8: =SUM(V9:V76) -> 14.62 | AG8: DIL
A9: 1 | B9: 001 | C9: Potrubí - nerez ocel 1.4541 D 54 x 2 mm, dodávka a montáž | D9: m | E9: 30.15 | G9: =ROUND(E9*F9,2) -> 0 | H9: 2813 | I9: =ROUND(E9*H9,2) -> 84811.95 | J9: 0 | K9: =ROUND(E9*J9,2) -> 0 | L9: 21 | M9: =G9*(1+L9/100) -> 0 | N9: 0.00563 | O9: =ROUND(E9*N9,2) -> 0.17 | P9: 0 | Q9: =ROUND(E9*P9,2) -> 0 | S9: Vlastní | T9: Indiv | U9: 0 | V9: =ROUND(E9*U9,2) -> 0 | X9: Práce | Y9: Běžná | AG9: POL1_
C10: alternativně nerez ocel 1.4401 | AG10: POP
C11: včetně zástrčného spoje hagudosta po 6m na potrubí ve vrtu | AG11: POP
C12: viz příloha D.2.1.1, D.2.1.3 : | AG12: VV | AH12: 0
C13: potrubí DN50 : | AG13: VV | AH13: 0
C14: ve vrtu : 28,50 | E14: 28.5 | AG14: VV | AH14: 0
C15: v šachtě : 1,65 | E15: 1.65 | AG15: VV | AH15: 0
A16: 2 | B16: 002 | C16: Šoupátko E3 s ručním kolem DN 50, dodávka a montáž | D16: kus | E16: 1 | G16: =ROUND(E16*F16,2) -> 0 | H16: 7530 | I16: =ROUND(E16*H16,2) -> 7530 | J16: 0 | K16: =ROUND(E16*J16,2) -> 0 | L16: 21 | M16: =G16*(1+L16/100) -> 0 | N16: 0.011 | O16: =ROUND(E16*N16,2) -> 0.01 | P16: 0 | Q16: =ROUND(E16*P16,2) -> 0 | S16: Vlastní | T16: Indiv | U16: 0 | V16: =ROUND(E16*U16,2) -> 0 | X16: Práce | Y16: Běžná | AG16: POL1_
C17: viz příloha D.2.1.1, D.2.1.3 : | AG17: VV | AH17: 0
C18: šoupě : 1 | E18: 1 | AG18: VV | AH18: 0
A19: 3 | B19: 003 | C19: Příruba s jištěním proti posunu nerez DN 50, dodávka a montáž | D19: kus | E19: 1 | G19: =ROUND(E19*F19,2) -> 0 | H19: 0 | I19: =ROUND(E19*H19,2) -> 0 | J19: 3240 | K19: =ROUND(E19*J19,2) -> 3240 | L19: 21 | M19: =G19*(1+L19/100) -> 0 | N19: 0 | O19: =ROUND(E19*N19,2) -> 0 | P19: 0 | Q19: =ROUND(E19*P19,2) -> 0 | S19: Vlastní | T19: Indiv | U19: 0 | V19: =ROUND(E19*U19,2) -> 0 | X19: Práce | Y19: Běžná | AG19: POL1_
C20: viz příloha D.2.1.1, D.2.1.3 : | AG20: VV | AH20: 0
C21: příruba s jištěním proti posunu : 1 | E21: 1 | AG21: VV | AH21: 0
A22: 4 | B22: 004 | C22: Zpětná klapka nerez DN 50, dodávka a montáž | D22: kus | E22: 1 | G22: =ROUND(E22*F22,2) -> 0 | H22: 6306 | I22: =ROUND(E22*H22,2) -> 6306 | J22: 0 | K22: =ROUND(E22*J22,2) -> 0 | L22: 21 | M22: =G22*(1+L22/100) -> 0 | N22: 0.0075 | O22: =ROUND(E22*N22,2) -> 0.01 | P22: 0 | Q22: =ROUND(E22*P22,2) -> 0 | S22: Vlastní | T22: Indiv | U22: 0 | V22: =ROUND(E22*U22,2) -> 0 | X22: Práce | Y22: Běžná | AG22: POL1_
C23: viz příloha D.2.1.1, D.2.1.3 : | AG23: VV | AH23: 0
C24: zpětná klapka : 1 | E24: 1 | AG24: VV | AH24: 0
A25: 5 | B25: 005 | C25: Příruba nerez DN 50, dodávka a montáž | D25: kus | E25: 1 | G25: =ROUND(E25*F25,2) -> 0 | H25: 2587 | I25: =ROUND(E25*H25,2) -> 2587 | J25: 0 | K25: =ROUND(E25*J25,2) -> 0 | L25: 21 | M25: =G25*(1+L25/100) -> 0 | N25: 0.00252 | O25: =ROUND(E25*N25,2) -> 0 | P25: 0 | Q25: =ROUND(E25*P25,2) -> 0 | S25: Vlastní | T25: Indiv | U25: 0 | V25: =ROUND(E25*U25,2) -> 0 | X25: Práce | Y25: Běžná | AG25: POL1_
C26: viz příloha D.2.1.1, D.2.1.3 : | AG26: VV | AH26: 0
C27: příruba : 1 | E27: 1 | AG27: VV | AH27: 0
A28: 6 | B28: 006 | C28: Potrubní spojka na nerez potrubí DN 50, dodávka a montáž | D28: kus | E28: 1 | G28: =ROUND(E28*F28,2) -> 0 | H28: 2932 | I28: =ROUND(E28*H28,2) -> 2932 | J28: 0 | K28: =ROUND(E28*J28,2) -> 0 | L28: 21 | M28: =G28*(1+L28/100) -> 0 | N28: 0.0008 | O28: =ROUND(E28*N28,2) -> 0 | P28: 0 | Q28: =ROUND(E28*P28,2) -> 0 | S28: Vlastní | T28: Indiv | U28: 0 | V28: =ROUND(E28*U28,2) -> 0 | X28: Práce | Y28: Běžná | AG28: POL1_
C29: viz příloha D.2.1.1, D.2.1.3 : | AG29: VV | AH29: 0
C30: spojka : 1 | E30: 1 | AG30: VV | AH30: 0
A31: 7 | B31: 007 | C31: Koleno 90° nerez DN 50, dodávka a montáž | D31: kus | E31: 1 | G31: =ROUND(E31*F31,2) -> 0 | H31: 1760 | I31: =ROUND(E31*H31,2) -> 1760 | J31: 0 | K31: =ROUND(E31*J31,2) -> 0 | L31: 21 | M31: =G31*(1+L31/100) -> 0 | N31: 0.00036 | O31: =ROUND(E31*N31,2) -> 0 | P31: 0 | Q31: =ROUND(E31*P31,2) -> 0 | S31: Vlastní | T31: Indiv | U31: 0 | V31: =ROUND(E31*U31,2) -> 0 | X31: Práce | Y31: Běžná | AG31: POL1_
C32: viz příloha D.2.1.1, D.2.1.3 : | AG32: VV | AH32: 0
C33: koleno : 1 | E33: 1 | AG33: VV | AH33: 0
A34: 8 | B34: 008 | C34: Ponorné čerpadlo Grundfos Q=0,56 l/s, H=33,0m, P=0,55kW, dodávka a montáž | D34: kompl | E34: 1 | G34: =ROUND(E34*F34,2) -> 0 | H34: 0 | I34: =ROUND(E34*H34,2) -> 0 | J34: 25000 | K34: =ROUND(E34*J34,2) -> 25000 | L34: 21 | M34: =G34*(1+L34/100) -> 0 | N34: 0.03799 | O34: =ROUND(E34*N34,2) -> 0.04 | P34: 0 | Q34: =ROUND(E34*P34,2) -> 0 | S34: Vlastní | T34: Indiv | U34: 6.3 | V34: =ROUND(E34*U34,2) -> 6.3 | X34: Práce | Y34: Běžná | AG34: POL1_
C35: 2x Celonerezové vertikální čerpadlo | AG35: POP
C36: Parametry 1 čerpadla: Qč = cca 1 l/s, při Hč = 74 m v.s.; 2.2 kW, 4,65 A, 2 890 -2910 ot/min, IP 55, hmotnost 45.4 kg. | AG36: POP | BA36: =C36 -> Parametry 1 čerpadla: Qč = cca 1 l/s, při Hč = 74 m v.s.; 2.2 kW, 4,65 A, 2 890 -2910 ot/min, IP 55, hmotnost 45.4 kg.
C37: Komplet vč. tlakové nádoby 150 l, rozvaděče a dalšího příslušenství.a dalšího příslušenství. | AG37: POP
C38: viz příloha D.2.1.1, D.2.1.3 : | AG38: VV | AH38: 0
C39: čerpadla : 1,00 | E39: 1 | AG39: VV | AH39: 0
A40: 9 | B40: 009 | C40: Kalové čerpadlo s plovákovým spínačem Q=1,6 l/s, h=3,0m, P=0,06kW, dodávka a montáž, včetně tvarovek pro napojení na potrubí D32 | D40: kus | E40: 1 | G40: =ROUND(E40*F40,2) -> 0 | H40: 0 | I40: =ROUND(E40*H40,2) -> 0 | J40: 6848 | K40: =ROUND(E40*J40,2) -> 6848 | L40: 21 | M40: =G40*(1+L40/100) -> 0 | N40: 0 | O40: =ROUND(E40*N40,2) -> 0 | P40: 0 | Q40: =ROUND(E40*P40,2) -> 0 | S40: Vlastní | T40: Indiv | U40: 0 | V40: =ROUND(E40*U40,2) -> 0 | X40: Práce | Y40: Běžná | AG40: POL1_
C41: napojení na potrubí D32 : | AG41: POP
C42: = elektrokoleno D32 ... 1ks | AG42: POP
...

Sheet PS-02 PS-02.1 Pol
A1: Položkový soupis prací a dodávek | AG1: #TypZaznamu#
A2: S: | B2: 1625923-72 | C2: Obec Chuchelna - lokalita Bačov a Komárov - doplnění a obnova vodohospodářské infrastruktury | AG2: STA
A3: O: | B3: PS-02 | C3: Elektro-technologická část | AC3: PRO | AG3: OBJ
A4: R: | B4: PS-02.1 | C4: Elektro-technologická část | AG4: ROZ
A6: P.č. | B6: Číslo položky | C6: Název položky | D6: MJ | E6: Množství | F6: Cena / MJ | G6: Celkem | H6: Dodávka | I6: Dodávka celk. | J6: Montáž | K6: Montáž celk. | L6: DPH | M6: Cena s DPH | N6: Hmotnost / MJ | O6: Hmotnost celk.(t) | P6: Dem. hmotnost / MJ | Q6: Dem. hmotnost celk.(t) | R6: Ceník | S6: Cen. soustava / platnost | T6: Cenová úroveň | U6: Nhod / MJ | V6: Nhod celk. | W6: Dodavatel | X6: Typ položky | Y6: Stav položky
A8: Díl: | B8: M01.2 | C8: Rozvaděč RMD1 | G8: =SUMIF(AG9:AG94,"<>NOR",G9:G94) -> 0 | I8: =SUM(I9:I94) -> 357286.8 | K8: =SUM(K9:K94) -> 128000 | M8: =SUM(M9:M94) -> 0 | O8: =SUM(O9:O94) -> 0 | Q8: =SUM(Q9:Q94) -> 0 | V8: =SUM(V9:V94) -> 0 | AG8: DIL
A9: 1 | B9: 01.2EM01 | C9: D - Typový plastový rozvaděč RMD1 | D9: kompl | E9: 1 | G9: =ROUND(E9*F9,2) -> 0 | H9: 46818 | I9: =ROUND(E9*H9,2) -> 46818 | J9: 0 | K9: =ROUND(E9*J9,2) -> 0 | L9: 21 | M9: =G9*(1+L9/100) -> 0 | N9: 0 | O9: =ROUND(E9*N9,2) -> 0 | P9: 0 | Q9: =ROUND(E9*P9,2) -> 0 | S9: Vlastní | T9: Indiv | U9: 0 | V9: =ROUND(E9*U9,2) -> 0 | X9: Specifikace | Y9: Běžná | AG9: POL3_
C10: Plastový ropzvaděč o celkových předpokládaných rozměrech v. 1500 x š. 1000 x h. 320 mm, s montážním plechem a DIN lištami a příslušenstvím (zámek FAB, ...). Krytí IP54/IP20, přívody a vývody vrchem. | AG10: POP | BA10: =C10 -> Plastový ropzvaděč o celkových předpokládaných rozměrech v. 1500 x š. 1000 x h. 320 mm, s montážním plechem a DIN lištami a příslušenstvím (zámek FAB, ...). Krytí IP54/IP20, přívody a vývody vrchem.
A11: 2 | B11: 01.2EM02 | C11: D - Přípojnice Cu pro In=63A | D11: kpl | E11: 1 | G11: =ROUND(E11*F11,2) -> 0 | H11: 1690 | I11: =ROUND(E11*H11,2) -> 1690 | J11: 0 | K11: =ROUND(E11*J11,2) -> 0 | L11: 21 | M11: =G11*(1+L11/100) -> 0 | N11: 0 | O11: =ROUND(E11*N11,2) -> 0 | P11: 0 | Q11: =ROUND(E11*P11,2) -> 0 | S11: Vlastní | T11: Indiv | U11: 0 | V11: =ROUND(E11*U11,2) -> 0 | X11: Specifikace | Y11: Běžná | AG11: POL3_
A12: 3 | B12: 01.2EM03 | C12: D - Trojpólová ochrana proti přepětí 400V, typ 1+2 | D12: ks | E12: 1 | G12: =ROUND(E12*F12,2) -> 0 | H12: 9763 | I12: =ROUND(E12*H12,2) -> 9763 | J12: 0 | K12: =ROUND(E12*J12,2) -> 0 | L12: 21 | M12: =G12*(1+L12/100) -> 0 | N12: 0 | O12: =ROUND(E12*N12,2) -> 0 | P12: 0 | Q12: =ROUND(E12*P12,2) -> 0 | S12: Vlastní | T12: Indiv | U12: 0 | V12: =ROUND(E12*U12,2) -> 0 | X12: Specifikace | Y12: Běžná | AG12: POL3_
C13: Trojpólová ochrana proti přepětí, typ 1+2 na vstupu, výměnné moduly, signalizace, síť TN-C. Přepěťové ochrany pro PRS, MaR, ASŘ a komunikace budou dodány od jednoho výrobce !!! | AG13: POP | BA13: =C13 -> Trojpólová ochrana proti přepětí, typ 1+2 na vstupu, výměnné moduly, signalizace, síť TN-C. Přepěťové ochrany pro PRS, MaR, ASŘ a komunikace budou dodány od jednoho výrobce !!!
A14: 4 | B14: 01.2EM04 | C14: D - Trojpólový vypínač 63A/400V pro montáž na dveře | D14: ks | E14: 1 | G14: =ROUND(E14*F14,2) -> 0 | H14: 1244 | I14: =ROUND(E14*H14,2) -> 1244 | J14: 0 | K14: =ROUND(E14*J14,2) -> 0 | L14: 21 | M14: =G14*(1+L14/100) -> 0 | N14: 0 | O14: =ROUND(E14*N14,2) -> 0 | P14: 0 | Q14: =ROUND(E14*P14,2) -> 0 | S14: Vlastní | T14: Indiv | U14: 0 | V14: =ROUND(E14*U14,2) -> 0 | X14: Specifikace | Y14: Běžná | AG14: POL3_
A15: 5 | B15: 01.2EM05 | C15: D - Dvojpólová ochrana proti přepětí 230V, typ 3 | D15: ks | E15: 1 | G15: =ROUND(E15*F15,2) -> 0 | H15: 2265 | I15: =ROUND(E15*H15,2) -> 2265 | J15: 0 | K15: =ROUND(E15*J15,2) -> 0 | L15: 21 | M15: =G15*(1+L15/100) -> 0 | N15: 0 | O15: =ROUND(E15*N15,2) -> 0 | P15: 0 | Q15: =ROUND(E15*P15,2) -> 0 | S15: Vlastní | T15: Indiv | U15: 0 | V15: =ROUND(E15*U15,2) -> 0 | X15: Specifikace | Y15: Běžná | AG15: POL3_
C16: Dvojpólová ochrana proti přepětí, typ 3 před zařízením MaR,ASŘ, vf filtr, výměnné moduly, signalizace, síť TN-S včetně předjištění. Přepěťové ochrany pro PRS, MaR, ASŘ a komunikace budou dodány od jednoho výrobce !!! | AG16: POP | BA16: =C16 -> Dvojpólová ochrana proti přepětí, typ 3 před zařízením MaR,ASŘ, vf filtr, výměnné moduly, signalizace, síť TN-S včetně předjištění. Přepěťové ochrany pro PRS, MaR, ASŘ a komunikace budou dodány od jednoho výrobce !!!
A17: 6 | B17: 01.2EM06 | C17: D- Pojistkový odpínač do 3x125A, včetně pojistek 3x100A gG, řadové svorky | D17: kpl | E17: 1 | G17: =ROUND(E17*F17,2) -> 0 | H17: 2265 | I17: =ROUND(E17*H17,2) -> 2265 | J17: 0 | K17: =ROUND(E17*J17,2) -> 0 | L17: 21 | M17: =G17*(1+L17/100) -> 0 | N17: 0 | O17: =ROUND(E17*N17,2) -> 0 | P17: 0 | Q17: =ROUND(E17*P17,2) -> 0 | S17: Vlastní | T17: Indiv | U17: 0 | V17: =ROUND(E17*U17,2) -> 0 | X17: Specifikace | Y17: Běžná | AG17: POL3_
A18: 7 | B18: 01.2EM07 | C18: D - Rázová oddělovací tlumivka 16A | D18: ks | E18: 2 | G18: =ROUND(E18*F18,2) -> 0 | H18: 705 | I18: =ROUND(E18*H18,2) -> 1410 | J18: 0 | K18: =ROUND(E18*J18,2) -> 0 | L18: 21 | M18: =G18*(1+L18/100) -> 0 | N18: 0 | O18: =ROUND(E18*N18,2) -> 0 | P18: 0 | Q18: =ROUND(E18*P18,2) -> 0 | S18: Vlastní | T18: Indiv | U18: 0 | V18: =ROUND(E18*U18,2) -> 0 | X18: Specifikace | Y18: Běžná | AG18: POL3_
A19: 8 | B19: 01.2EM08 | C19: D - Vyhodnocovací síťové relé 400V | D19: kpl | E19: 1 | G19: =ROUND(E19*F19,2) -> 0 | H19: 3300 | I19: =ROUND(E19*H19,2) -> 3300 | J19: 0 | K19: =ROUND(E19*J19,2) -> 0 | L19: 21 | M19: =G19*(1+L19/100) -> 0 | N19: 0 | O19: =ROUND(E19*N19,2) -> 0 | P19: 0 | Q19: =ROUND(E19*P19,2) -> 0 | S19: Vlastní | T19: Indiv | U19: 0 | V19: =ROUND(E19*U19,2) -> 0 | X19: Specifikace | Y19: Běžná | AG19: POL3_
C20: Vyhodnocovací síťové relé 400V včetně odjištění | AG20: POP
