Workbook
Name CelkemDPHVypocet: Stavba!$H$56
Name CenaCelkem: Stavba!$G$29
Name CenaCelkemBezDPH: Stavba!$G$28
Name CenaCelkemVypocet: Stavba!$I$56
Name cisloobjektu: Stavba!$D$3
Name CisloRozpoctu: '[1]Krycí list'!$C$2
Name CisloStavby: Stavba!$D$2
Name cislostavby: '[1]Krycí list'!$A$7
Name CisloStavebnihoRozpoctu: Stavba!$D$4
Name dadresa: Stavba!$D$12:$G$12
Name DIČ: Stavba!$I$12
Name dmisto: Stavba!$E$13:$G$13
Name DPHSni: Stavba!$G$24
Name DPHZakl: Stavba!$G$26
Name dpsc: Stavba!$D$13
Name IČO: Stavba!$I$11
Name Mena: Stavba!$J$29
Name MistoStavby: Stavba!$D$4
Name nazevobjektu: Stavba!$E$3
Name NazevRozpoctu: '[1]Krycí list'!$D$2
Name NazevStavby: Stavba!$E$2
Name nazevstavby: '[1]Krycí list'!$C$7
Name NazevStavebnihoRozpoctu: Stavba!$E$4
Name oadresa: Stavba!$D$6
Name Objednatel: Stavba!$D$5
Name Objekt: Stavba!$B$38
Name odic: Stavba!$I$6
Name oico: Stavba!$I$5
Name omisto: Stavba!$E$7
Name onazev: Stavba!$D$6
Name opsc: Stavba!$D$7
Name padresa: Stavba!$D$9
Name pdic: Stavba!$I$9
Name pico: Stavba!$I$8
Name pmisto: Stavba!$E$10
Name PocetMJ: #REF!
Name PoptavkaID: Stavba!$A$1
Name pPSC: Stavba!$D$10
Name Projektant: Stavba!$D$8
Name SazbaDPH1: Stavba!$E$23
Name SazbaDPH1: '[1]Krycí list'!$C$30
Name SazbaDPH2: Stavba!$E$25
Name SazbaDPH2: '[1]Krycí list'!$C$32
Name SloupecCC: #REF!
Name SloupecCisloPol: #REF!
Name SloupecJC: #REF!
Name SloupecMJ: #REF!
Name SloupecMnozstvi: #REF!
Name SloupecNazPol: #REF!
Name SloupecPC: #REF!
Name Vypracoval: Stavba!$D$14
Name ZakladDPHSni: Stavba!$G$23
Name ZakladDPHSniVypocet: Stavba!$F$56
Name ZakladDPHZakl: Stavba!$G$25
Name ZakladDPHZaklVypocet: Stavba!$G$56
Name ZaObjednatele: Stavba!$G$34
Name Zaokrouhleni: Stavba!$G$27
Name ZaZhotovitele: Stavba!$D$34
Name Zhotovitel: Stavba!$D$11:$G$11

Sheet Stavba
A1: #RTSROZP# | B1: Soupis stavebních prací, dodávek a služeb
B2: Stavba: | D2: 1625923-72 | E2: Obec Chuchelna - lokalita Bačov a Komárov - doplnění a obnova vodohospodářské infrastruktury
B5: Zadavatel | D5: Vodohospodářské sdružení Turnov | H5: IČO: | I5: 49295934
D6: Antonína Dvořáka 287 | H6: DIČ: | I6: CZ49295934
D7: 51101 | E7: Turnov
B8: Projektant: | D8: AQUA PROCON s.r.o. | H8: IČO: | I8: 46964371
D9: Palackého třída 768/12 | H9: DIČ: | I9: CZ46964371
D10: 61200 | E10: Brno-Královo Pole
B11: Zhotovitel: | H11: IČO:
H12: DIČ:
B14: Vypracoval:
B15: Rozpis ceny | I15: Celkem
A16: HSV | B16: HSV | I16: =SUM(I44+I46+I48-I17+I51) -> 0
A17: PSV | B17: PSV | I17: =SUM('SO-01 01.1 Pol'!G206+'SO-01 01.1 Pol'!G296+'SO-01 01.1 Pol'!G316+'SO-02 02.1 Pol'!G281+'SO-02 02.1 Pol'!G299) -> 0
A18: MON | B18: MON | I18: =SUM(I54) -> 0
A19: VN | B19: Ostatní a vedlejší náklady stavby | I19: =SUM(I40) -> 0
A20: ON | B20: Povinná rezerva | I20: =SUM(I42) -> 200000
B21: Celkem | I21: =SUM(I16:J20) -> 200000
B22: Rekapitulace daní
B23: Základ pro sníženou DPH | E23: 12 | F23: % | G23: 0 | J23: =Mena -> CZK
B24: Snížená DPH | E24: =SazbaDPH1 -> 12 | F24: % | G24: 0 | J24: =Mena -> CZK
B25: Základ pro základní DPH | E25: 21 | F25: % | G25: =SUM(I21) -> 200000 | J25: =Mena -> CZK
B26: Základní DPH | E26: =SazbaDPH2 -> 21 | F26: % | G26: 1228309.3 | J26: =Mena -> CZK
A27: =ZakladDPHSni+ZakladDPHZakl -> 200000
A28: =(A27-INT(A27))*100 -> 0 | B28: Cena celkem bez DPH | G28: =A27 -> 200000 | J28: =Mena -> CZK
B29: Cena celkem s DPH | G29: =ZakladDPHSni+DPHSni+ZakladDPHZakl+DPHZakl+Zaokrouhleni -> 1428309.3 | J29: CZK
C32: v | F32: dne
D35: Za zhotovitele | H35: Za objednatele
B37: Rekapitulace dílčích částí
A38: #CASTI>> | B38: Číslo | C38: Název | F38: =B23 -> Základ pro sníženou DPH | G38: =B25 -> Základ pro základní DPH | H38: DPH celkem | I38: Cena celkem | J38: %
A39: 1 | B39: Stavba | F39: ='VRN 99.01 Naklady'!AE42+'SO-01 01.1 Pol'!AE326+'SO-02 02.1 Pol'!AE347+'SO-03 03.1 Pol'!AE496+#REF!+'PS-01 PS-01.1 Pol'!AE230+'PS-01 PS-01.2 Pol'!AE78+'PS-02 PS-02.1 Pol'!AE192 -> #REF! | G39: ='VRN 99.01 Naklady'!AF42+'SO-01 01.1 Pol'!AF326+'SO-02 02.1 Pol'!AF347+'SO-03 03.1 Pol'!AF496+#REF!+'PS-01 PS-01.1 Pol'!AF230+'PS-01 PS-01.2 Pol'!AF78+'PS-02 PS-02.1 Pol'!AF192 -> #REF! | I39: =F39+G39+H39 -> #REF! | J39: =IF(CenaCelkemVypocet=0,"",I39/CenaCelkemVypocet*100) -> #REF!
A40: 2 | B40: OaVNS | C40: Ostatní a vedlejší náklady stavby | F40: ='VRN 99.01 Naklady'!AE42 -> 0 | G40: ='VRN 99.01 Naklady'!AF42 -> 0 | I40: =SUM(G40) -> 0 | J40: =IF(CenaCelkemVypocet=0,"",I40/CenaCelkemVypocet*100) -> 0
A41: 3 | B41: 99.01 | C41: Ostatní a vedlejší náklady staby | F41: ='VRN 99.01 Naklady'!AE42 -> 0 | G41: ='VRN 99.01 Naklady'!AF42 -> 0 | I41: =F41+G41+H41 -> 0 | J41: =IF(CenaCelkemVypocet=0,"",I41/CenaCelkemVypocet*100) -> 0
B42: PR | C42: Povinná rezerva | F42: 0 | G42: 200000 | I42: =SUM(G42) -> 200000 | J42: =IF(CenaCelkemVypocet=0,"",I42/CenaCelkemVypocet*100) -> 100
A43: 2 | C43: Inženýrský objekt
A44: 2 | B44: SO-01 | C44: Stavební úpravy ČS Komárov | F44: ='SO-01 01.1 Pol'!AE326 -> 0 | G44: ='SO-01 01.1 Pol'!AF326 -> 0 | I44: =F44+G44+H44 -> 0 | J44: =IF(CenaCelkemVypocet=0,"",I44/CenaCelkemVypocet*100) -> 0
A45: 3 | B45: 01.1 | C45: Stavební úpravy ČS Komárov | F45: ='SO-01 01.1 Pol'!AE326 -> 0 | G45: ='SO-01 01.1 Pol'!AF326 -> 0 | I45: =F45+G45+H45 -> 0 | J45: =IF(CenaCelkemVypocet=0,"",I45/CenaCelkemVypocet*100) -> 0
A46: 2 | B46: SO-02 | C46: Šachta nad vrtem HVLK-1 | F46: ='SO-02 02.1 Pol'!AE347 -> 0 | G46: ='SO-02 02.1 Pol'!AF347 -> 0 | I46: =F46+G46+H46 -> 0 | J46: =IF(CenaCelkemVypocet=0,"",I46/CenaCelkemVypocet*100) -> 0
A47: 3 | B47: 02.1 | C47: Šachta nad vrtem HVLK-1 | F47: ='SO-02 02.1 Pol'!AE347 -> 0 | G47: ='SO-02 02.1 Pol'!AF347 -> 0 | I47: =F47+G47+H47 -> 0 | J47: =IF(CenaCelkemVypocet=0,"",I47/CenaCelkemVypocet*100) -> 0
A48: 2 | B48: SO-03 | C48: Venkovní propoje | F48: ='SO-03 03.1 Pol'!AE496 -> 0 | G48: =SUM(G49) -> 0 | I48: =F48+G48+H48 -> 0 | J48: =IF(CenaCelkemVypocet=0,"",I48/CenaCelkemVypocet*100) -> 0
A49: 3 | B49: 03.1 | C49: Venkovní propoje | F49: ='SO-03 03.1 Pol'!AE496 -> 0 | G49: =SUM('SO-03 03.1 Pol'!G496) -> 0 | I49: =F49+G49+H49 -> 0 | J49: =IF(CenaCelkemVypocet=0,"",I49/CenaCelkemVypocet*100) -> 0
A50: 2 | C50: Provozní soubor
A51: 2 | B51: PS-01 | C51: Strojně-technologická část | F51: ='PS-01 PS-01.1 Pol'!AE230+'PS-01 PS-01.2 Pol'!AE78 -> 0 | G51: ='PS-01 PS-01.1 Pol'!AF230+'PS-01 PS-01.2 Pol'!AF78 -> 0 | I51: =F51+G51+H51 -> 0 | J51: =IF(CenaCelkemVypocet=0,"",I51/CenaCelkemVypocet*100) -> 0
A52: 3 | B52: PS-01.1 | C52: ČS Komárov - trubní vystrojení | F52: ='PS-01 PS-01.1 Pol'!AE230 -> 0 | G52: ='PS-01 PS-01.1 Pol'!AF230 -> 0 | I52: =F52+G52+H52 -> 0 | J52: =IF(CenaCelkemVypocet=0,"",I52/CenaCelkemVypocet*100) -> 0
A53: 3 | B53: PS-01.2 | C53: Šachta nad vrtem - trubní vystrojení | F53: ='PS-01 PS-01.2 Pol'!AE78 -> 0 | G53: ='PS-01 PS-01.2 Pol'!AF78 -> 0 | I53: =F53+G53+H53 -> 0 | J53: =IF(CenaCelkemVypocet=0,"",I53/CenaCelkemVypocet*100) -> 0
A54: 2 | B54: PS-02 | C54: Elektro-technologická část | F54: ='PS-02 PS-02.1 Pol'!AE192 -> 0 | G54: ='PS-02 PS-02.1 Pol'!AF192 -> 0 | I54: =F54+G54+H54 -> 0 | J54: =IF(CenaCelkemVypocet=0,"",I54/CenaCelkemVypocet*100) -> 0
A55: 3 | B55: PS-02.1 | C55: Elektro-technologická část | F55: ='PS-02 PS-02.1 Pol'!AE192 -> 0 | G55: ='PS-02 PS-02.1 Pol'!AF192 -> 0 | I55: =F55+G55+H55 -> 0 | J55: =IF(CenaCelkemVypocet=0,"",I55/CenaCelkemVypocet*100) -> 0
B56: Celkem za stavbu | F56: =SUMIF(A39:A55,"=1",F39:F55) -> #REF! | G56: =SUMIF(A39:A55,"=1",G39:G55) -> #REF! | H56: =SUMIF(A39:A55,"=1",H39:H55) -> 0 | I56: =SUM(I40+I42+I44+I46+I48+I51+I54) -> 200000 | J56: =SUM(J40+J42+J44+J46+J48+J51+J54) -> 100

Sheet VzorPolozky
A1: Položkový rozpočet
A2: S:
A3: O:
A4: R:

Sheet Pokyny pro vyplnění
A1: Pokyny pro vyplnění
A2: Ve všech listech tohoto souboru můžete měnit pouze buňky s modrým pozadím. Jedná se o tyto údaje : - údaje o firmě - jednotkové ceny položek zadané na maximálně dvě desetinná místa

Sheet VRN 99.01 Naklady
A1: Soupis vedlejších a ostatních nákladů | AG1: #TypZaznamu#
A2: S: | B2: 1625923-72 | C2: Obec Chuchelna - lokalita Bačov a Komárov - doplnění a obnova vodohospodářské infrastruktury | AG2: STA
A3: O: | B3: VRN | C3: Ostatní a vedlejší náklady stavby | AC3: NAK | AG3: OBJ
A4: R: | B4: 99.01 | C4: Ostatní a vedlejší náklady stavby | AG4: ROZ
A6: P.č. | B6: Číslo položky | C6: Název položky | D6: MJ | E6: Množství | F6: Cena / MJ | G6: Celkem | H6: Dodávka | I6: Dodávka celk. | J6: Montáž | K6: Montáž celk. | L6: DPH | M6: Cena s DPH | N6: Hmotnost / MJ | O6: Hmotnost celk.(t) | P6: Dem. hmotnost / MJ | Q6: Dem. hmotnost celk.(t) | R6: Ceník | S6: Cen. soustava / platnost | T6: Cenová úroveň | U6: Nhod / MJ | V6: Nhod celk. | W6: Dodavatel | X6: Typ položky | Y6: Stav položky
A8: Díl: | B8: VN | C8: Vedlejší náklady | G8: =SUMIF(AG9:AG16,"<>NOR",G9:G16) -> 0 | I8: =SUM(I9:I16) -> 0 | K8: =SUM(K9:K16) -> 125000 | M8: =SUM(M9:M16) -> 0 | O8: =SUM(O9:O16) -> 0 | Q8: =SUM(Q9:Q16) -> 0 | V8: =SUM(V9:V16) -> 0 | AG8: DIL
A9: 1 | B9: 01 | C9: Zařízení staveniště | D9: soubor | E9: 1 | G9: =ROUND(E9*F9,2) -> 0 | H9: 0 | I9: =ROUND(E9*H9,2) -> 0 | J9: 110000 | K9: =ROUND(E9*J9,2) -> 110000 | L9: 21 | M9: =G9*(1+L9/100) -> 0 | N9: 0 | O9: =ROUND(E9*N9,2) -> 0 | P9: 0 | Q9: =ROUND(E9*P9,2) -> 0 | S9: Vlastní | T9: Indiv | U9: 0 | V9: =ROUND(E9*U9,2) -> 0 | X9: VRN | Y9: Běžná | AG9: POL99_8
C10: viz příloha B | AG10: POP
C11: Veškeré náklady spojené s vybudováním, provozem a odstraněním zařízení staveniště. | AG11: POP
A12: 2 | B12: 02 | C12: Vytyčení stavby | D12: soubor | E12: 1 | G12: =ROUND(E12*F12,2) -> 0 | H12: 0 | I12: =ROUND(E12*H12,2) -> 0 | J12: 15000 | K12: =ROUND(E12*J12,2) -> 15000 | L12: 21 | M12: =G12*(1+L12/100) -> 0 | N12: 0 | O12: =ROUND(E12*N12,2) -> 0 | P12: 0 | Q12: =ROUND(E12*P12,2) -> 0 | S12: Vlastní | T12: Indiv | U12: 0 | V12: =ROUND(E12*U12,2) -> 0 | X12: VRN | Y12: Běžná | AG12: POL99_8
AG13: POP
C14: viz příloha B | AG14: POP
C15: Geodetické zaměření výchozích vytyčopvacích údajů. | AG15: POP
C16: Vyhotovení protokolu o vytyčení stavby se seznamem souřadnic vytyčených bodů a jejich polohopisnými (S-JTSK) a výškopisnými (Bpv) hodnotami. | AG16: POP | BA16: =C16 -> Vyhotovení protokolu o vytyčení stavby se seznamem souřadnic vytyčených bodů a jejich polohopisnými (S-JTSK) a výškopisnými (Bpv) hodnotami.
A17: Díl: | B17: ON | C17: Ostatní náklady | G17: =SUMIF(AG18:AG40,"<>NOR",G18:G40) -> 0 | I17: =SUM(I18:I40) -> 0 | K17: =SUM(K18:K40) -> 133000 | M17: =SUM(M18:M40) -> 0 | O17: =SUM(O18:O40) -> 0 | Q17: =SUM(Q18:Q40) -> 0 | V17: =SUM(V18:V40) -> 0 | AG17: DIL
A18: 3 | B18: 03 | C18: Geodetické zaměření skutečného provedení | D18: Soubor | E18: 1 | G18: =ROUND(E18*F18,2) -> 0 | H18: 0 | I18: =ROUND(E18*H18,2) -> 0 | J18: 15000 | K18: =ROUND(E18*J18,2) -> 15000 | L18: 21 | M18: =G18*(1+L18/100) -> 0 | N18: 0 | O18: =ROUND(E18*N18,2) -> 0 | P18: 0 | Q18: =ROUND(E18*P18,2) -> 0 | S18: Vlastní | T18: Indiv | U18: 0 | V18: =ROUND(E18*U18,2) -> 0 | X18: VRN | Y18: Běžná | AG18: POL99_8
C19: viz příloha B | AG19: POP
C20: Náklady na provedení skutečného zaměření stavby v rozsahu nezbytném pro zápis změny do katastru nemovitostí včetně zákresů, vyhotovení v požadovaném formátu a počtu | AG20: POP | BA20: =C20 -> Náklady na provedení skutečného zaměření stavby v rozsahu nezbytném pro zápis změny do katastru nemovitostí včetně zákresů, vyhotovení v požadovaném formátu a počtu
A21: 4 | B21: 04 | C21: Dopracování dokumentace pro provedení stavby | D21: soubor | E21: 1 | G21: =ROUND(E21*F21,2) -> 0 | H21: 0 | I21: =ROUND(E21*H21,2) -> 0 | J21: 28000 | K21: =ROUND(E21*J21,2) -> 28000 | L21: 21 | M21: =G21*(1+L21/100) -> 0 | N21: 0 | O21: =ROUND(E21*N21,2) -> 0 | P21: 0 | Q21: =ROUND(E21*P21,2) -> 0 | S21: Vlastní | T21: Indiv | U21: 0 | V21: =ROUND(E21*U21,2) -> 0 | X21: VRN | Y21: Běžná | AG21: POL99_8
C22: viz příloha B | AG22: POP
C23: Náklady spojené s vypracováním projektové dokumentace, většinou v obsahu a rozsahu projektové dokumentace pro provádění stavby, ale mohou zde být obsaženy i náklady na jiné stupně projektové dokumentace, pokud jsou součástí požadavků objednatele. | AG23: POP | BA23: =C23 -> Náklady spojené s vypracováním projektové dokumentace, většinou v obsahu a rozsahu projektové dokumentace pro provádění stavby, ale mohou zde být obsaženy i náklady na jiné stupně projektové dokumentace, pokud jsou součástí požadavků objednatele.
A24: 5 | B24: 05 | C24: Dokumentace skutečného provedení | D24: Soubor | E24: 1 | G24: =ROUND(E24*F24,2) -> 0 | H24: 0 | I24: =ROUND(E24*H24,2) -> 0 | J24: 25000 | K24: =ROUND(E24*J24,2) -> 25000 | L24: 21 | M24: =G24*(1+L24/100) -> 0 | N24: 0 | O24: =ROUND(E24*N24,2) -> 0 | P24: 0 | Q24: =ROUND(E24*P24,2) -> 0 | S24: Vlastní | T24: Indiv | U24: 0 | V24: =ROUND(E24*U24,2) -> 0 | X24: VRN | Y24: Běžná | AG24: POL99_8
C25: viz příloha B | AG25: POP
C26: Náklady na vyhotovení dokumentace skutečného provedení stavby a její předání objednateli v požadované formě a požadovaném počtu. | AG26: POP | BA26: =C26 -> Náklady na vyhotovení dokumentace skutečného provedení stavby a její předání objednateli v požadované formě a požadovaném počtu.
A27: 6 | B27: 07 | C27: Dočasná dopravní opatření | D27: soubor | E27: 1 | G27: =ROUND(E27*F27,2) -> 0 | H27: 0 | I27: =ROUND(E27*H27,2) -> 0 | J27: 15000 | K27: =ROUND(E27*J27,2) -> 15000 | L27: 21 | M27: =G27*(1+L27/100) -> 0 | N27: 0 | O27: =ROUND(E27*N27,2) -> 0 | P27: 0 | Q27: =ROUND(E27*P27,2) -> 0 | S27: Vlastní | T27: Indiv | U27: 0 | V27: =ROUND(E27*U27,2) -> 0 | X27: VRN | Y27: Běžná | AG27: POL99_8
C28: viz příloha B | AG28: POP
C29: Nákady spojené s provedením a údržbou dočasného dopravního opatření včetně projekčních prací a projednání s dotčenými orgány | AG29: POP | BA29: =C29 -> Nákady spojené s provedením a údržbou dočasného dopravního opatření včetně projekčních prací a projednání s dotčenými orgány
A30: 7 | B30: 08 | C30: Zkušební provoz a provozní řád | D30: soubor | E30: 1 | G30: =ROUND(E30*F30,2) -> 0 | H30: 0 | I30: =ROUND(E30*H30,2) -> 0 | J30: 35000 | K30: =ROUND(E30*J30,2) -> 35000 | L30: 21 | M30: =G30*(1+L30/100) -> 0 | N30: 0 | O30: =ROUND(E30*N30,2) -> 0 | P30: 0 | Q30: =ROUND(E30*P30,2) -> 0 | S30: Vlastní | T30: Indiv | U30: 0 | V30: =ROUND(E30*U30,2) -> 0 | X30: VRN | Y30: Běžná | AG30: POL99_8
C31: viz příloha B | AG31: POP
C32: Náklady zhotovitele na vypracování provozních řádů pro zkušební či trvalý provoz včetně nákladů na předání všech návodů k obsluze a údržbě pro technologická zařízení a včetně zaškolení obsluhy objednatele. | AG32: POP | BA32: =C32 -> Náklady zhotovitele na vypracování provozních řádů pro zkušební či trvalý provoz včetně nákladů na předání všech návodů k obsluze a údržbě pro technologická zařízení a včetně zaškolení obsluhy objednatele.
A33: 8 | B33: 09 | C33: Zaškolení obsluhy | D33: Soubor | E33: 1 | G33: =ROUND(E33*F33,2) -> 0 | H33: 0 | I33: =ROUND(E33*H33,2) -> 0 | J33: 5000 | K33: =ROUND(E33*J33,2) -> 5000 | L33: 21 | M33: =G33*(1+L33/100) -> 0 | N33: 0 | O33: =ROUND(E33*N33,2) -> 0 | P33: 0 | Q33: =ROUND(E33*P33,2) -> 0 | S33: Vlastní | T33: Indiv | U33: 0 | V33: =ROUND(E33*U33,2) -> 0 | X33: VRN | Y33: Běžná | AG33: POL99_8
C34: viz příloha B | AG34: POP
A35: 9 | B35: 10 | C35: Individuální a komplexní vyzkoušení | D35: soubor | E35: 1 | G35: =ROUND(E35*F35,2) -> 0 | H35: 0 | I35: =ROUND(E35*H35,2) -> 0 | J35: 5000 | K35: =ROUND(E35*J35,2) -> 5000 | L35: 21 | M35: =G35*(1+L35/100) -> 0 | N35: 0 | O35: =ROUND(E35*N35,2) -> 0 | P35: 0 | Q35: =ROUND(E35*P35,2) -> 0 | S35: Vlastní | T35: Indiv | U35: 0 | V35: =ROUND(E35*U35,2) -> 0 | X35: VRN | Y35: Běžná | AG35: POL99_8
C36: viz příloha B | AG36: POP
C37: Náklady nutné pro k odzkoušení objektů a jejich technických a technologických zařízení, elektrozařízení, řídících systémů a dispečinku ap. včetně vystavení dokladů o provedení zkoušek. | AG37: POP | BA37: =C37 -> Náklady nutné pro k odzkoušení objektů a jejich technických a technologických zařízení, elektrozařízení, řídících systémů a dispečinku ap. včetně vystavení dokladů o provedení zkoušek.
A38: 10 | B38: 11 | C38: Požadavky na zkoušky a doklady | D38: soubor | E38: 1 | G38: =ROUND(E38*F38,2) -> 0 | H38: 0 | I38: =ROUND(E38*H38,2) -> 0 | J38: 5000 | K38: =ROUND(E38*J38,2) -> 5000 | L38: 21 | M38: =G38*(1+L38/100) -> 0 | N38: 0 | O38: =ROUND(E38*N38,2) -> 0 | P38: 0 | Q38: =ROUND(E38*P38,2) -> 0 | S38: Vlastní | T38: Indiv | U38: 0 | V38: =ROUND(E38*U38,2) -> 0 | X38: VRN | Y38: Běžná | AG38: POL99_8
C39: viz příloha B | AG39: POP
C40: Náklady na zkoušky neuvedené v samostatných položkách soupisu prací včetně vyhotovení protokolů v požadovaném formátu a počtu. | AG40: POP | BA40: =C40 -> Náklady na zkoušky neuvedené v samostatných položkách soupisu prací včetně vyhotovení protokolů v požadovaném formátu a počtu.
AE41: 12 | AF41: 21 | AG41: DPH
B42: Celkem | G42: =G8+G17 -> 0 | AE42: =SUMIF(L7:L40,AE41,G7:G40) -> 0 | AF42: =SUMIF(L7:L40,AF41,G7:G40) -> 0 | AG42: SUM
AG43: END

Sheet SO-01 01.1 Pol
A1: Položkový soupis prací a dodávek | AG1: #TypZaznamu#
A2: S: | B2: 1625923-72 | C2: Obec Chuchelna - lokalita Bačov a Komárov - doplnění a obnova vodohospodářské infrastruktury | AG2: STA
A3: O: | B3: SO-01 | C3: Stavební úpravy ČS Komárov | AC3: ING | AG3: OBJ
A4: R: | B4: 01.1 | C4: Stavební úpravy ČS Komárov | AG4: ROZ
A6: P.č. | B6: Číslo položky | C6: Název položky | D6: MJ | E6: Množství | F6: Cena / MJ | G6: Celkem | H6: Dodávka | I6: Dodávka celk. | J6: Montáž | K6: Montáž celk. | L6: DPH | M6: Cena s DPH | N6: Hmotnost / MJ | O6: Hmotnost celk.(t) | P6: Dem. hmotnost / MJ | Q6: Dem. hmotnost celk.(t) | R6: Ceník | S6: Cen. soustava / platnost | T6: Cenová úroveň | U6: Nhod / MJ | V6: Nhod celk. | W6: Dodavatel | X6: Typ položky | Y6: Stav položky
A8: Díl: | B8: 2 | C8: Základy a zvláštní zakládání | G8: =SUMIF(AG9:AG21,"<>NOR",G9:G21) -> 0 | I8: =SUM(I9:I21) -> 422.87 | K8: =SUM(K9:K21) -> 414.48 | M8: =SUM(M9:M21) -> 0 | O8: =SUM(O9:O21) -> 0.21 | Q8: =SUM(Q9:Q21) -> 0 | V8: =SUM(V9:V21) -> 0.56 | AG8: DIL
A9: 1 | B9: 279312011R00 | C9: Beton základových zdí prostý třídy C 25/30 | D9: m3 | E9: 0.07695 | G9: =ROUND(E9*F9,2) -> 0 | H9: 3789.55 | I9: =ROUND(E9*H9,2) -> 291.61 | J9: 375.45 | K9: =ROUND(E9*J9,2) -> 28.89 | L9: 21 | M9: =G9*(1+L9/100) -> 0 | N9: 2.525 | O9: =ROUND(E9*N9,2) -> 0.19 | P9: 0 | Q9: =ROUND(E9*P9,2) -> 0 | R9: 801-1 | S9: RTS 24/ I | T9: RTS 24/ I | U9: 0.589 | V9: =ROUND(E9*U9,2) -> 0.05 | X9: Práce | Y9: Běžná | AG9: POL1_
C10: včetně kotvení do ŽB stěny pomocí trnů | AG10: POP
C11: viz příloha D.1.1.1, D.1.1.3 : | AG11: VV | AH11: 0
C12: základové bloky pod čerpadla přikotveny pomocí zalepené výztuže ke stávající bet. konstrukci : 0,90*0,45*0,19 | E12: 0.07695 | AG12: VV | AH12: 0
A13: 2 | B13: 279351105R00 | C13: Bednění základových zdí oboustranné, zřízení | D13: m2 | E13: 0.513 | G13: =ROUND(E13*F13,2) -> 0 | H13: 255.86 | I13: =ROUND(E13*H13,2) -> 131.26 | J13: 450.14 | K13: =ROUND(E13*J13,2) -> 230.92 | L13: 21 | M13: =G13*(1+L13/100) -> 0 | N13: 0.03931 | O13: =ROUND(E13*N13,2) -> 0.02 | P13: 0 | Q13: =ROUND(E13*P13,2) -> 0 | R13: 801-1 | S13: RTS 24/ I | T13: RTS 24/ I | U13: 0.65 | V13: =ROUND(E13*U13,2) -> 0.33 | X13: Práce | Y13: Běžná | AG13: POL1_
C14: bednění svislé nebo šikmé (odkloněné), půdorysně přímé nebo zalomené základových zdí ve volných nebo zapažených jámách, rýhách, šachtách, včetně případných vzpěr, | AG14: SPI | BA14: =C14 -> bednění svislé nebo šikmé (odkloněné), půdorysně přímé nebo zalomené základových zdí ve volných nebo zapažených jámách, rýhách, šachtách, včetně případných vzpěr,
C15: viz příloha D.1.1.1, D.1.1.3 : | AG15: VV | AH15: 0
C16: základové bloky pod čerpadla : (0,90+0,45)*2*0,19 | E16: 0.513 | AG16: VV | AH16: 0
A17: 3 | B17: 279351106R00 | C17: Bednění základových zdí oboustranné, odstranění | D17: m2 | E17: 0.513 | G17: =ROUND(E17*F17,2) -> 0 | H17: 0 | I17: =ROUND(E17*H17,2) -> 0 | J17: 301.5 | K17: =ROUND(E17*J17,2) -> 154.67 | L17: 21 | M17: =G17*(1+L17/100) -> 0 | N17: 0 | O17: =ROUND(E17*N17,2) -> 0 | P17: 0 | Q17: =ROUND(E17*P17,2) -> 0 | R17: 801-1 | S17: RTS 24/ I | T17: RTS 24/ I | U17: 0.35 | V17: =ROUND(E17*U17,2) -> 0.18 | X17: Práce | Y17: Běžná | AG17: POL1_
C18: bednění svislé nebo šikmé (odkloněné), půdorysně přímé nebo zalomené základových zdí ve volných nebo zapažených jámách, rýhách, šachtách, včetně případných vzpěr, | AG18: SPI | BA18: =C18 -> bednění svislé nebo šikmé (odkloněné), půdorysně přímé nebo zalomené základových zdí ve volných nebo zapažených jámách, rýhách, šachtách, včetně případných vzpěr,
C19: Včetně očištění, vytřídění a uložení bednicího materiálu. | AG19: POP
C20: viz příloha D.1.1.1, D.1.1.3 : | AG20: VV | AH20: 0
C21: základové bloky pod čerpadla : (0,90+0,45)*2*0,19 | E21: 0.513 | AG21: VV | AH21: 0
A22: Díl: | B22: 3 | C22: Svislé a kompletní konstrukce | G22: =SUMIF(AG23:AG37,"<>NOR",G23:G37) -> 0 | I22: =SUM(I23:I37) -> 9076.79 | K22: =SUM(K23:K37) -> 3812.34 | M22: =SUM(M23:M37) -> 0 | O22: =SUM(O23:O37) -> 2.93 | Q22: =SUM(Q23:Q37) -> 0 | V22: =SUM(V23:V37) -> 6.99 | AG22: DIL
A23: 4 | B23: 311231116RT3 | C23: Zdivo nosné z cihel a tvarovek pálených pod omítku z cihel plných, 290x140x65 mm, P 15, na maltu MC 10 | D23: m3 | E23: 1.4355 | G23: =ROUND(E23*F23,2) -> 0 | H23: 4416.98 | I23: =ROUND(E23*H23,2) -> 6340.57 | J23: 2043.02 | K23: =ROUND(E23*J23,2) -> 2932.76 | L23: 21 | M23: =G23*(1+L23/100) -> 0 | N23: 1.80776 | O23: =ROUND(E23*N23,2) -> 2.6 | P23: 0 | Q23: =ROUND(E23*P23,2) -> 0 | R23: 801-1 | S23: RTS 24/ I | T23: RTS 24/ I | U23: 3.765 | V23: =ROUND(E23*U23,2) -> 5.4 | X23: Práce | Y23: Běžná | AG23: POL1_
C24: Včetně pomocného lešení o výšce podlahy do 1,90 m a pro zatížení do 1,5 kPa. | AG24: POP
C25: viz příloha D.1.1.1, D.1.1.3 : | AG25: VV | AH25: 0
C26: Okenní otvor v obvodové nosné stěně – 2 ks : 1,45*1,10*0,45*2 | E26: 1.4355 | AG26: VV | AH26: 0
A27: 5 | B27: 342241124R00 | C27: Příčky z tvárnic pálených Příčky z tvárnic keramických pálených tloušťky 140 mm, z děrovaných příčkovek, P 10, zděných na tenkovrstvou maltu | D27: m2 | E27: 2.275 | G27: =ROUND(E27*F27,2) -> 0 | H27: 1037.62 | I27: =ROUND(E27*H27,2) -> 2360.59 | J27: 310.38 | K27: =ROUND(E27*J27,2) -> 706.11 | L27: 21 | M27: =G27*(1+L27/100) -> 0 | N27: 0.12818 | O27: =ROUND(E27*N27,2) -> 0.29 | P27: 0 | Q27: =ROUND(E27*P27,2) -> 0 | R27: 801-1 | S27: RTS 24/ I | T27: RTS 24/ I | U27: 0.55675 | V27: =ROUND(E27*U27,2) -> 1.27 | X27: Práce | Y27: Běžná | AG27: POL1_
C28: jednoduché nebo příčky zděné do svislé dřevěné, cihelné, betonové nebo ocelové konstrukce na jakoukoliv maltu vápenocementovou (MVC) nebo cementovou (MC), | AG28: SPI | BA28: =C28 -> jednoduché nebo příčky zděné do svislé dřevěné, cihelné, betonové nebo ocelové konstrukce na jakoukoliv maltu vápenocementovou (MVC) nebo cementovou (MC),
C29: Včetně pomocného lešení výšky do 1900 mm a pro zatížení do 1,5 kPa. | AG29: POP
C30: viz příloha D.1.1.1, D.1.1.3 : | AG30: VV | AH30: 0
C31: Vnitřní nenosné příčky : (1,25*3,10)-(0,80*2,00) | E31: 2.275 | AG31: VV | AH31: 0
A32: 6 | B32: 317121021R00 | C32: Montáž překladů keramických světlost do 1050 mm | D32: kus | E32: 1 | G32: =ROUND(E32*F32,2) -> 0 | H32: 12.53 | I32: =ROUND(E32*H32,2) -> 12.53 | J32: 173.47 | K32: =ROUND(E32*J32,2) -> 173.47 | L32: 21 | M32: =G32*(1+L32/100) -> 0 | N32: 0.00713 | O32: =ROUND(E32*N32,2) -> 0.01 | P32: 0 | Q32: =ROUND(E32*P32,2) -> 0 | R32: 801-1 | S32: RTS 24/ I | T32: RTS 24/ I | U32: 0.3175 | V32: =ROUND(E32*U32,2) -> 0.32 | X32: Práce | Y32: Běžná | AG32: POL1_
C33: viz příloha D.1.1.1, D.1.1.3 : | AG33: VV | AH33: 0
C34: překlad nad dveře : 1,00 | E34: 1 | AG34: VV | AH34: 0
A35: 7 | B35: 59340821R | C35: Překlad prefabrikovaný keramický spřažený; plochý; délka = 1 250 mm; šířka = 145 mm; výška = 71 mm | D35: kus | E35: 1.01 | G35: =ROUND(E35*F35,2) -> 0 | H35: 359.5 | I35: =ROUND(E35*H35,2) -> 363.1 | J35: 0 | K35: =ROUND(E35*J35,2) -> 0 | L35: 21 | M35: =G35*(1+L35/100) -> 0 | N35: 0.02704 | O35: =ROUND(E35*N35,2) -> 0.03 | P35: 0 | Q35: =ROUND(E35*P35,2) -> 0 | R35: SPCM | S35: RTS 24/ I | T35: RTS 24/ I | U35: 0 | V35: =ROUND(E35*U35,2) -> 0 | X35: Specifikace | Y35: Běžná | AG35: POL3_
C36: viz příloha D.1.1.1, D.1.1.3 : | AG36: VV | AH36: 0
C37: překlad nad dveře : 1,00*1,01 | E37: 1.01 | AG37: VV | AH37: 0
A38: Díl: | B38: 61 | C38: Úpravy povrchů vnitřní | G38: =SUMIF(AG39:AG55,"<>NOR",G39:G55) -> 0 | I38: =SUM(I39:I55) -> 915.42 | K38: =SUM(K39:K55) -> 3397.5 | M38: =SUM(M39:M55) -> 0 | O38: =SUM(O39:O55) -> 0.41 | Q38: =SUM(Q39:Q55) -> 0 | V38: =SUM(V39:V55) -> 5.99 | AG38: DIL
A39: 12 | B39: 602011102R00 | C39: Omítka stěn z hotových směsí postřik, báze, cementová, , , | D39: m2 | E39: 8.36 | G39: =ROUND(E39*F39,2) -> 0 | H39: 43.06 | I39: =ROUND(E39*H39,2) -> 359.98 | J39: 40.84 | K39: =ROUND(E39*J39,2) -> 341.42 | L39: 21 | M39: =G39*(1+L39/100) -> 0 | N39: 0.00605 | O39: =ROUND(E39*N39,2) -> 0.05 | P39: 0 | Q39: =ROUND(E39*P39,2) -> 0 | R39: 801-1 | S39: RTS 24/ I | T39: RTS 24/ I | U39: 0.08 | V39: =ROUND(E39*U39,2) -> 0.67 | X39: Práce | Y39: Běžná | AG39: POL1_
C40: po jednotlivých vrstvách | AG40: SPI
C41: viz příloha D.1.1.1, D.1.1.3 : | AG41: VV | AH41: 0
C42: Zazděný okenní otvor v obvodové nosné stěně – 2 ks : 1,45*1,10*2 | E42: 3.19 | AG42: VV | AH42: 0
C43: Vnitřní nenosné příčky : (1,25*3,10*2)-(0,80*2,00*2) | E43: 4.55 | AG43: VV | AH43: 0
C44: Oprava po vybourané příčce : 0,20*3,10 | E44: 0.62 | AG44: VV | AH44: 0
A45: 13 | B45: 612421615R00 | C45: Omítky vnitřní stěn vápenné nebo vápenocementové v podlaží i ve schodišti hrubé zatřené | D45: m2 | E45: 8.36 | G45: =ROUND(E45*F45,2) -> 0 | H45: 46.47 | I45: =ROUND(E45*H45,2) -> 388.49 | J45: 234.03 | K45: =ROUND(E45*J45,2) -> 1956.49 | L45: 21 | M45: =G45*(1+L45/100) -> 0 | N45: 0.03921 | O45: =ROUND(E45*N45,2) -> 0.33 | P45: 0 | Q45: =ROUND(E45*P45,2) -> 0 | R45: 801-1 | S45: RTS 24/ I | T45: RTS 24/ I | U45: 0.396 | V45: =ROUND(E45*U45,2) -> 3.31 | X45: Práce | Y45: Běžná | AG45: POL1_
C46: viz příloha D.1.1.1, D.1.1.3 : | AG46: VV | AH46: 0
C47: Zazděný okenní otvor v obvodové nosné stěně – 2 ks : 1,45*1,10*2 | E47: 3.19 | AG47: VV | AH47: 0
C48: Vnitřní nenosné příčky : (1,25*3,10*2)-(0,80*2,00*2) | E48: 4.55 | AG48: VV | AH48: 0
C49: Oprava po vybourané příčce : 0,20*3,10 | E49: 0.62 | AG49: VV | AH49: 0
A50: 14 | B50: 602011141R00 | C50: Omítka stěn z hotových směsí vrstva štuková, vápenná, , tloušťka vrstvy 2 mm, | D50: m2 | E50: 8.36 | G50: =ROUND(E50*F50,2) -> 0 | H50: 19.97 | I50: =ROUND(E50*H50,2) -> 166.95 | J50: 131.53 | K50: =ROUND(E50*J50,2) -> 1099.59 | L50: 21 | M50: =G50*(1+L50/100) -> 0 | N50: 0.0035 | O50: =ROUND(E50*N50,2) -> 0.03 | P50: 0 | Q50: =ROUND(E50*P50,2) -> 0 | R50: 801-1 | S50: RTS 24/ I | T50: RTS 24/ I | U50: 0.24 | V50: =ROUND(E50*U50,2) -> 2.01 | X50: Práce | Y50: Běžná | AG50: POL1_
C51: po jednotlivých vrstvách | AG51: SPI
C52: viz příloha D.1.1.1, D.1.1.3 : | AG52: VV | AH52: 0
C53: Zazděný okenní otvor v obvodové nosné stěně – 2 ks : 1,45*1,10*2 | E53: 3.19 | AG53: VV | AH53: 0
C54: Vnitřní nenosné příčky : (1,25*3,10*2)-(0,80*2,00*2) | E54: 4.55 | AG54: VV | AH54: 0
C55: Oprava po vybourané příčce : 0,20*3,10 | E55: 0.62 | AG55: VV | AH55: 0
A56: Díl: | B56: 62 | C56: Úpravy povrchů vnější | G56: =SUMIF(AG57:AG72,"<>NOR",G57:G72) -> 0 | I56: =SUM(I57:I72) -> 5487.91 | K56: =SUM(K57:K72) -> 6419.55 | M56: =SUM(M57:M72) -> 0 | O56: =SUM(O57:O72) -> 0.24 | Q56: =SUM(Q57:Q72) -> 0 | V56: =SUM(V57:V72) -> 11.92 | AG56: DIL
A57: 15 | B57: 622421121R00 | C57: Omítky vnější stěn vápenocementové hrubé zatřené, , | D57: m2 | E57: 4.29 | G57: =ROUND(E57*F57,2) -> 0 | H57: 54.51 | I57: =ROUND(E57*H57,2) -> 233.85 | J57: 257.99 | K57: =ROUND(E57*J57,2) -> 1106.78 | L57: 21 | M57: =G57*(1+L57/100) -> 0 | N57: 0.04593 | O57: =ROUND(E57*N57,2) -> 0.2 | P57: 0 | Q57: =ROUND(E57*P57,2) -> 0 | R57: 801-1 | S57: RTS 24/ I | T57: RTS 24/ I | U57: 0.511 | V57: =ROUND(E57*U57,2) -> 2.19 | X57: Práce | Y57: Běžná | AG57: POL1_
C58: viz příloha D.1.1.1, D.1.1.3 : | AG58: VV | AH58: 0
C59: Zazděný okenní otvor v obvodové nosné stěně – 2 ks : 1,65*1,30*2 | E59: 4.29 | AG59: VV | AH59: 0
A60: 16 | B60: 622413101R00 | C60: Nátěr vnějších omítek stěn podkladní, penetrační, složitost 1-2, 1 x nátěr | D60: m2 | E60: 4.29 | G60: =ROUND(E60*F60,2) -> 0 | H60: 17.97 | I60: =ROUND(E60*H60,2) -> 77.09 | J60: 26.73 | K60: =ROUND(E60*J60,2) -> 114.67 | L60: 21 | M60: =G60*(1+L60/100) -> 0 | N60: 0.00047 | O60: =ROUND(E60*N60,2) -> 0 | P60: 0 | Q60: =ROUND(E60*P60,2) -> 0 | R60: 801-1 | S60: RTS 24/ I | T60: RTS 24/ I | U60: 0.05 | V60: =ROUND(E60*U60,2) -> 0.21 | X60: Práce | Y60: Běžná | AG60: POL1_
C61: viz příloha D.1.1.1, D.1.1.3 : | AG61: VV | AH61: 0
C62: Zazděný okenní otvor v obvodové nosné stěně – 2 ks : 1,65*1,30*2 | E62: 4.29 | AG62: VV | AH62: 0
A63: 17 | B63: 602011183R00 | C63: Omítka stěn z hotových směsí vrchní tenkovrstvá, silikátová, rýhovaná, tloušťka vrstvy 1,5 mm, bílá | D63: m2 | E63: 4.29 | G63: =ROUND(E63*F63,2) -> 0 | H63: 207.1 | I63: =ROUND(E63*H63,2) -> 888.46 | J63: 146.4 | K63: =ROUND(E63*J63,2) -> 628.06 | L63: 21 | M63: =G63*(1+L63/100) -> 0 | N63: 0.00231 | O63: =ROUND(E63*N63,2) -> 0.01 | P63: 0 | Q63: =ROUND(E63*P63,2) -> 0 | R63: 801-1 | S63: RTS 24/ I | T63: RTS 24/ I | U63: 0.24 | V63: =ROUND(E63*U63,2) -> 1.03 | X63: Práce | Y63: Běžná | AG63: POL1_
C64: po jednotlivých vrstvách | AG64: SPI
C65: viz příloha D.1.1.1, D.1.1.3 : | AG65: VV | AH65: 0
C66: Zazděný okenní otvor v obvodové nosné stěně – 2 ks : 1,65*1,30*2 | E66: 4.29 | AG66: VV | AH66: 0
A67: 18 | B67: 624471317R00 | C67: Nátěry a nástřiky vnějších svislých panelových konstrukcí barva akrylátová, složitost 1 ÷ 2 | D67: m2 | E67: 40.45 | G67: =ROUND(E67*F67,2) -> 0 | H67: 106.02 | I67: =ROUND(E67*H67,2) -> 4288.51 | J67: 112.98 | K67: =ROUND(E67*J67,2) -> 4570.04 | L67: 21 | M67: =G67*(1+L67/100) -> 0 | N67: 0.0008 | O67: =ROUND(E67*N67,2) -> 0.03 | P67: 0 | Q67: =ROUND(E67*P67,2) -> 0 | R67: 801-1 | S67: RTS 24/ I | T67: RTS 24/ I | U67: 0.21 | V67: =ROUND(E67*U67,2) -> 8.49 | X67: Práce | Y67: Běžná | AG67: POL1_
C68: základním a krycím nátěrem (nebo přestřikem povrchu), z lešení, bez zakrývání (62099) | AG68: SPI
C69: Penetrace + 2 x krycí nátěr. | AG69: POP
C70: viz příloha D.1.1.1, D.1.1.3 : | AG70: VV | AH70: 0
C71: stěna SV : 5,54*3,65 | E71: 20.221 | AG71: VV | AH71: 0
C72: stěna JV : 6,13*3,30 | E72: 20.229 | AG72: VV | AH72: 0
A73: Díl: | B73: 63 | C73: Podlahy a podlahové konstrukce | G73: =SUMIF(AG74:AG79,"<>NOR",G74:G79) -> 0 | I73: =SUM(I74:I79) -> 29325.2 | K73: =SUM(K74:K79) -> 5615.05 | M73: =SUM(M74:M79) -> 0 | O73: =SUM(O74:O79) -> 1.59 | Q73: =SUM(Q74:Q79) -> 0 | V73: =SUM(V74:V79) -> 10.44 | AG73: DIL
A74: 19 | B74: 632415140R00 | C74: Potěr ze suchých směsí cementový samonivelační podkladový, tloušťky 40 mm, včetně penetrace | D74: m2 | E74: 21.975 | G74: =ROUND(E74*F74,2) -> 0 | H74: 1334.48 | I74: =ROUND(E74*H74,2) -> 29325.2 | J74: 255.52 | K74: =ROUND(E74*J74,2) -> 5615.05 | L74: 21 | M74: =G74*(1+L74/100) -> 0 | N74: 0.07215 | O74: =ROUND(E74*N74,2) -> 1.59 | P74: 0 | Q74: =ROUND(E74*P74,2) -> 0 | R74: 801-1 | S74: RTS 24/ I | T74: RTS 24/ I | U74: 0.475 | V74: =ROUND(E74*U74,2) -> 10.44 | X74: Práce | Y74: Běžná | AG74: POL1_
C75: s rozprostřením a uhlazením | AG75: SPI
C76: C20/25 | AG76: POP
C77: viz příloha D.1.1.1 : | AG77: VV | AH77: 0
C78: podlaha čerpací stanice ... potěr prům. tl. 35 mm : (3,83*4,50)+(1,40*1,85)-(0,60*0,60*2)-(0,45*0,90) | E78: 18.7 | AG78: VV | AH78: 0
C79: podlaha chemického hospodářství ... potěr prům. tl. 35 mm : (2,50*1,25)+(0,15*1,00) | E79: 3.275 | AG79: VV | AH79: 0
A80: Díl: | B80: 64 | C80: Výplně otvorů | G80: =SUMIF(AG81:AG91,"<>NOR",G81:G91) -> 0 | I80: =SUM(I81:I91) -> 0 | K80: =SUM(K81:K91) -> 10054 | M80: =SUM(M81:M91) -> 0 | O80: =SUM(O81:O91) -> 0.04 | Q80: =SUM(Q81:Q91) -> 0 | V80: =SUM(V81:V91) -> 1.86 | AG80: DIL
A81: 20 | B81: 642-1/D | C81: 1/D - Dodávka a montáž plastové vnitřní dveře 800/2000 mm jednokřídlové otočné pravé včetně zárubně, zámku, kování | D81: kus | E81: 1 | G81: =ROUND(E81*F81,2) -> 0 | H81: 0 | I81: =ROUND(E81*H81,2) -> 0 | J81: 10054 | K81: =ROUND(E81*J81,2) -> 10054 | L81: 21 | M81: =G81*(1+L81/100) -> 0 | N81: 0.03897 | O81: =ROUND(E81*N81,2) -> 0.04 | P81: 0 | Q81: =ROUND(E81*P81,2) -> 0 | S81: Vlastní | T81: Indiv | U81: 1.86 | V81: =ROUND(E81*U81,2) -> 1.86 | X81: Práce | Y81: Běžná | AG81: POL1_
C82: 1/D - Plastové vnitřní dveře jednokřídlové otočné pravé včetně zárubně | AG82: POP
C83: - průchozí profil cca 800/2000 mm, do stavebního otvoru 1000/2100 mm, | AG83: POP
C84: - dveřní křídlo otočné levé, s plnou hladkou výplní bez zasklení, | AG84: POP
C85: - zámek zadlabací s bezpečnostní vložkou, vrchní kování – oboustranná klika, | AG85: POP
C86: - zárubeň plastová s celoobvodovým pryžovým těsněním v drážce | AG86: POP
C87: - vč. prahové lišty, | AG87: POP
C88: - dveřní křídlo i zárubeň v bílé barvě. | AG88: POP
C89: viz příloha D.1.1.1, D.1.1.3 : | AG89: VV | AH89: 0
C90: výpis vystrojení dveřních a vratových otvorů : | AG90: VV | AH90: 0
C91: 1/D dveře : 1,00 | E91: 1 | AG91: VV | AH91: 0
A92: Díl: | B92: 9 | C92: Ostatní konstrukce, bourání | G92: =SUMIF(AG93:AG113,"<>NOR",G93:G113) -> 0 | I92: =SUM(I93:I113) -> 14.42 | K92: =SUM(K93:K113) -> 22586.55 | M92: =SUM(M93:M113) -> 0 | O92: =SUM(O93:O113) -> 0.79 | Q92: =SUM(Q93:Q113) -> 0 | V92: =SUM(V93:V113) -> 8.57 | AG92: DIL
A93: 21 | B93: 952903112R00 | C93: Vyčištění objektů při světlé výšce prostoru do 3,5 m čistíren odpadních vod, nádrží, žlabů nebo kanálů | D93: m2 | E93: 41.19 | G93: =ROUND(E93*F93,2) -> 0 | H93: 0.35 | I93: =ROUND(E93*H93,2) -> 14.42 | J93: 71.05 | K93: =ROUND(E93*J93,2) -> 2926.55 | L93: 21 | M93: =G93*(1+L93/100) -> 0 | N93: 1e-05 | O93: =ROUND(E93*N93,2) -> 0 | P93: 0 | Q93: =ROUND(E93*P93,2) -> 0 | R93: 801-5 | S93: RTS 24/ I | T93: RTS 24/ I | U93: 0.171 | V93: =ROUND(E93*U93,2) -> 7.04 | X93: Práce | Y93: Běžná | AG93: POL1_
C94: při světlé výšce prostoru do 3,5 m čistíren odpadních vod, nádrží, vodojemů, žlabů nebo kanálů | AG94: SPI
C95: akumulační nádrž : (5,23*3,25) | E95: 16.9975 | AG95: VV | AH95: 0
C96: armaturní komora : 1,15*0,95 | E96: 1.0925 | AG96: VV | AH96: 0
C97: čerpací stanice : (3,83*4,50)+(1,40*1,85) | E97: 19.825 | AG97: VV | AH97: 0
C98: chemického hospodářství : (2,50*1,25)+(0,15*1,00) | E98: 3.275 | AG98: VV | AH98: 0
A99: 22 | B99: 411-386 | C99: Těsnění prostupu zabetonováním s boptnavým páskem, včetně zednického zapravení | D99: kus | E99: 13 | G99: =ROUND(E99*F99,2) -> 0 | H99: 0 | I99: =ROUND(E99*H99,2) -> 0 | J99: 1420 | K99: =ROUND(E99*J99,2) -> 18460 | L99: 21 | M99: =G99*(1+L99/100) -> 0 | N99: 0.05351 | O99: =ROUND(E99*N99,2) -> 0.7 | P99: 0 | Q99: =ROUND(E99*P99,2) -> 0 | S99: Vlastní | T99: Indiv | U99: 0 | V99: =ROUND(E99*U99,2) -> 0 | X99: Práce | Y99: Běžná | AG99: POL1_
C100: vodotěsné | AG100: POP
C101: DN150 : | AG101: VV | AH101: 0
C102: strop do akumulace ... 4 ks : 4 | E102: 4 | AG102: VV | AH102: 0
...

Sheet SO-02 02.1 Pol
A1: Položkový soupis prací a dodávek | AG1: #TypZaznamu#
A2: S: | B2: 1625923-72 | C2: Obec Chuchelna - lokalita Bačov a Komárov - doplnění a obnova vodohospodářské infrastruktury | AG2: STA
A3: O: | B3: SO-02 | C3: Šachta nad vrtem HVLK-1 | AC3: ING | AG3: OBJ
A4: R: | B4: 02.1 | C4: Šachta nad vrtem HVLK-1 | AG4: ROZ
A6: P.č. | B6: Číslo položky | C6: Název položky | D6: MJ | E6: Množství | F6: Cena / MJ | G6: Celkem | H6: Dodávka | I6: Dodávka celk. | J6: Montáž | K6: Montáž celk. | L6: DPH | M6: Cena s DPH | N6: Hmotnost / MJ | O6: Hmotnost celk.(t) | P6: Dem. hmotnost / MJ | Q6: Dem. hmotnost celk.(t) | R6: Ceník | S6: Cen. soustava / platnost | T6: Cenová úroveň | U6: Nhod / MJ | V6: Nhod celk. | W6: Dodavatel | X6: Typ položky | Y6: Stav položky
A8: Díl: | B8: 1 | C8: Zemní práce | G8: =SUMIF(AG9:AG118,"<>NOR",G9:G118) -> 0 | I8: =SUM(I9:I118) -> 4931.71 | K8: =SUM(K9:K118) -> 184087.74 | M8: =SUM(M9:M118) -> 0 | O8: =SUM(O9:O118) -> 12.43 | Q8: =SUM(Q9:Q118) -> 0 | V8: =SUM(V9:V118) -> 257.82 | AG8: DIL
A9: 1 | B9: 115101201R00 | C9: Čerpání vody na dopravní výšku do 10 m s uvažovaným průměrným přítokem do 500 l/min | D9: h | E9: 224 | G9: =ROUND(E9*F9,2) -> 0 | H9: 0 | I9: =ROUND(E9*H9,2) -> 0 | J9: 126.5 | K9: =ROUND(E9*J9,2) -> 28336 | L9: 21 | M9: =G9*(1+L9/100) -> 0 | N9: 0 | O9: =ROUND(E9*N9,2) -> 0 | P9: 0 | Q9: =ROUND(E9*P9,2) -> 0 | R9: 800-1 | S9: RTS 24/ I | T9: RTS 24/ I | U9: 0.203 | V9: =ROUND(E9*U9,2) -> 45.47 | X9: Práce | Y9: Běžná | AG9: POL1_
C10: na vzdálenost od hladiny vody v jímce po výšku roviny proložené osou nejvyššího bodu výtlačného potrubí. Včetně odpadní potrubí v délce do 20 m. | AG10: SPI | BA10: =C10 -> na vzdálenost od hladiny vody v jímce po výšku roviny proložené osou nejvyššího bodu výtlačného potrubí. Včetně odpadní potrubí v délce do 20 m.
C11: včetně likvidace odčerpaných vod | AG11: POP
C12: Začátek provozního součtu | AG12: VV
C13: čerpání - pouze srážkové vody odhad cca 1 měsíc : | AG13: VV | AH13: 2
C14: celkem 4 týdnů / 7 dní v týdnu : | AG14: VV | AH14: 2
C15: Konec provozního součtu | AG15: VV
C16: odhad cyklické čerpání 80h dennně : 4*7*8 | E16: 224 | AG16: VV | AH16: 0
A17: 2 | B17: 115101301R00 | C17: Pohotovost záložní čerpací soupravy na dopravní výšku do 10 m s uvažovaným průměrným přítokem do 500 l/min | D17: den | E17: 28 | G17: =ROUND(E17*F17,2) -> 0 | H17: 0 | I17: =ROUND(E17*H17,2) -> 0 | J17: 56.6 | K17: =ROUND(E17*J17,2) -> 1584.8 | L17: 21 | M17: =G17*(1+L17/100) -> 0 | N17: 0 | O17: =ROUND(E17*N17,2) -> 0 | P17: 0 | Q17: =ROUND(E17*P17,2) -> 0 | R17: 800-1 | S17: RTS 24/ I | T17: RTS 24/ I | U17: 0 | V17: =ROUND(E17*U17,2) -> 0 | X17: Práce | Y17: Běžná | AG17: POL1_
C18: na vzdálenost (výšku) od hladiny vody v jímce po výšku roviny proložené osou nejvyššího bodu výtlačného potrubí. Včetně sacího a výtlačného potrubí, příp. odpadních žlabů, lešení pod čerpadlo a pod potrubí nebo pod odpadní žlaby a záložního zdroje energie. | AG18: SPI | BA18: =C18 -> na vzdálenost (výšku) od hladiny vody v jímce po výšku roviny proložené osou nejvyššího bodu výtlačného potrubí. Včetně sacího a výtlačného potrubí, příp. odpadních žlabů, lešení pod čerpadlo a pod potrubí nebo pod odpadní žlaby a záložního zdroje energie.
C19: Začátek provozního součtu | AG19: VV
C20: čerpání - pouze srážkové vody odhad cca 1 měsíc : | AG20: VV | AH20: 2
C21: Konec provozního součtu | AG21: VV
C22: celkem 4 týdnů / 7 dní v týdnu : 4*7 | E22: 28 | AG22: VV | AH22: 0
A23: 3 | B23: 121101101R00 | C23: Sejmutí ornice s přemístěním na vzdálenost do 50 m | D23: m3 | E23: 10.34175 | G23: =ROUND(E23*F23,2) -> 0 | H23: 0 | I23: =ROUND(E23*H23,2) -> 0 | J23: 90.2 | K23: =ROUND(E23*J23,2) -> 932.83 | L23: 21 | M23: =G23*(1+L23/100) -> 0 | N23: 0 | O23: =ROUND(E23*N23,2) -> 0 | P23: 0 | Q23: =ROUND(E23*P23,2) -> 0 | R23: 800-1 | S23: RTS 24/ I | T23: RTS 24/ I | U23: 0.097 | V23: =ROUND(E23*U23,2) -> 1 | X23: Práce | Y23: Běžná | AG23: POL1_
C24: nebo lesní půdy, s vodorovným přemístěním na hromady v místě upotřebení nebo na dočasné či trvalé skládky se složením | AG24: SPI | BA24: =C24 -> nebo lesní půdy, s vodorovným přemístěním na hromady v místě upotřebení nebo na dočasné či trvalé skládky se složením
C25: ornice : | AG25: VV | AH25: 0
C26: šachta : (3,40*3,40*0,30) | E26: 3.468 | AG26: VV | AH26: 0
C27: svahování : (((3,40+6,45)/2*1,60)*0,30)+(((3,40+6,40)/2*1,95)*0,30)+(((3,40+4,45)/2*0,70)*0,30)+(((3,40+4,40)/2*0,70)*0,30) | E27: 6.87375 | AG27: VV | AH27: 0
A28: 4 | B28: 131201201R00 | C28: Hloubení zapažených jam a zářezů do 100 m3, v hornině 3, převážně ručně | D28: m3 | E28: 43.22038 | G28: =ROUND(E28*F28,2) -> 0 | H28: 0 | I28: =ROUND(E28*H28,2) -> 0 | J28: 1176 | K28: =ROUND(E28*J28,2) -> 50827.17 | L28: 21 | M28: =G28*(1+L28/100) -> 0 | N28: 0 | O28: =ROUND(E28*N28,2) -> 0 | P28: 0 | Q28: =ROUND(E28*P28,2) -> 0 | R28: 800-1 | S28: RTS 24/ I | T28: RTS 24/ I | U28: 2.249 | V28: =ROUND(E28*U28,2) -> 97.2 | X28: Práce | Y28: Běžná | AG28: POL1_
C29: s urovnáním dna do předepsaného profilu a spádu, s případně nutným přemístěním výkopku ve výkopišti a dále buď s přemístěním výkopku na přilehlém terénu na vzdálenost do 3 m od kraje jámy nebo s naložením na dopravní prostředek | AG29: SPI | BA29: =C29 -> s urovnáním dna do předepsaného profilu a spádu, s případně nutným přemístěním výkopku ve výkopišti a dále buď s přemístěním výkopku na přilehlém terénu na vzdálenost do 3 m od kraje jámy nebo s naložením na dopravní prostředek
C30: viz příloha D.1.2.1, D.1.2.2 : | AG30: VV | AH30: 0
C31: Začátek provozního součtu | AG31: VV
C32: výkop : 4,30*4,30*(3,05-0,30) | E32: 50.8475 | AG32: VV | AH32: 2
C33: Mezisoučet | E33: 50.8475 | AG33: VV | AH33: 3
C34: Konec provozního součtu | AG34: VV
C35: geologie hor.3 - 85% : 50,8475*0,85 | E35: 43.22038 | AG35: VV | AH35: 0
A36: 5 | B36: 131201209R00 | C36: Hloubení zapažených jam a zářezů příplatek za lepivost, v hornině 3, | D36: m3 | E36: 21.61019 | G36: =ROUND(E36*F36,2) -> 0 | H36: 0 | I36: =ROUND(E36*H36,2) -> 0 | J36: 69.3 | K36: =ROUND(E36*J36,2) -> 1497.59 | L36: 21 | M36: =G36*(1+L36/100) -> 0 | N36: 0 | O36: =ROUND(E36*N36,2) -> 0 | P36: 0 | Q36: =ROUND(E36*P36,2) -> 0 | R36: 800-1 | S36: RTS 24/ I | T36: RTS 24/ I | U36: 0.107 | V36: =ROUND(E36*U36,2) -> 2.31 | X36: Práce | Y36: Běžná | AG36: POL1_
C37: s urovnáním dna do předepsaného profilu a spádu, s případně nutným přemístěním výkopku ve výkopišti a dále buď s přemístěním výkopku na přilehlém terénu na vzdálenost do 3 m od kraje jámy nebo s naložením na dopravní prostředek | AG37: SPI | BA37: =C37 -> s urovnáním dna do předepsaného profilu a spádu, s případně nutným přemístěním výkopku ve výkopišti a dále buď s přemístěním výkopku na přilehlém terénu na vzdálenost do 3 m od kraje jámy nebo s naložením na dopravní prostředek
C38: lepivost odhad 50% : 43,22038*0,5 | E38: 21.61019 | AG38: VV | AH38: 0
A39: 6 | B39: 131301201R00 | C39: Hloubení zapažených jam a zářezů do 100 m3, v hornině 4, převážně ručně | D39: m3 | E39: 7.62713 | G39: =ROUND(E39*F39,2) -> 0 | H39: 0 | I39: =ROUND(E39*H39,2) -> 0 | J39: 1557 | K39: =ROUND(E39*J39,2) -> 11875.44 | L39: 21 | M39: =G39*(1+L39/100) -> 0 | N39: 0 | O39: =ROUND(E39*N39,2) -> 0 | P39: 0 | Q39: =ROUND(E39*P39,2) -> 0 | R39: 800-1 | S39: RTS 24/ I | T39: RTS 24/ I | U39: 2.965 | V39: =ROUND(E39*U39,2) -> 22.61 | X39: Práce | Y39: Běžná | AG39: POL1_
C40: s urovnáním dna do předepsaného profilu a spádu, s případně nutným přemístěním výkopku ve výkopišti a dále buď s přemístěním výkopku na přilehlém terénu na vzdálenost do 3 m od kraje jámy nebo s naložením na dopravní prostředek | AG40: SPI | BA40: =C40 -> s urovnáním dna do předepsaného profilu a spádu, s případně nutným přemístěním výkopku ve výkopišti a dále buď s přemístěním výkopku na přilehlém terénu na vzdálenost do 3 m od kraje jámy nebo s naložením na dopravní prostředek
C41: viz příloha D.1.2.1, D.1.2.2 : | AG41: VV | AH41: 0
C42: výpočet hloubení jam v hor.3 : | AG42: VV | AH42: 0
C43: geologie hor.4 - 15% : 50,8475*0,15 | E43: 7.62713 | AG43: VV | AH43: 0
A44: 7 | B44: 131301209R00 | C44: Hloubení zapažených jam a zářezů příplatek za lepivost, v hornině 4, | D44: m3 | E44: 3.81357 | G44: =ROUND(E44*F44,2) -> 0 | H44: 0 | I44: =ROUND(E44*H44,2) -> 0 | J44: 91 | K44: =ROUND(E44*J44,2) -> 347.03 | L44: 21 | M44: =G44*(1+L44/100) -> 0 | N44: 0 | O44: =ROUND(E44*N44,2) -> 0 | P44: 0 | Q44: =ROUND(E44*P44,2) -> 0 | R44: 800-1 | S44: RTS 24/ I | T44: RTS 24/ I | U44: 0.154 | V44: =ROUND(E44*U44,2) -> 0.59 | X44: Práce | Y44: Běžná | AG44: POL1_
C45: s urovnáním dna do předepsaného profilu a spádu, s případně nutným přemístěním výkopku ve výkopišti a dále buď s přemístěním výkopku na přilehlém terénu na vzdálenost do 3 m od kraje jámy nebo s naložením na dopravní prostředek | AG45: SPI | BA45: =C45 -> s urovnáním dna do předepsaného profilu a spádu, s případně nutným přemístěním výkopku ve výkopišti a dále buď s přemístěním výkopku na přilehlém terénu na vzdálenost do 3 m od kraje jámy nebo s naložením na dopravní prostředek
C46: lepivost odhad 50% : 7,62713*0,5 | E46: 3.81357 | AG46: VV | AH46: 0
A47: 8 | B47: 151811617R001 | C47: Montáž pažicícího boxu dl.4,3m, š.4,3m, hl.3,1m | D47: kus | E47: 1 | G47: =ROUND(E47*F47,2) -> 0 | H47: 0 | I47: =ROUND(E47*H47,2) -> 0 | J47: 3780 | K47: =ROUND(E47*J47,2) -> 3780 | L47: 21 | M47: =G47*(1+L47/100) -> 0 | N47: 0 | O47: =ROUND(E47*N47,2) -> 0 | P47: 0 | Q47: =ROUND(E47*P47,2) -> 0 | S47: Vlastní | T47: Indiv | U47: 3.66 | V47: =ROUND(E47*U47,2) -> 3.66 | X47: Práce | Y47: Běžná | AG47: POL1_
C48: viz příloha D.1.2.1 : | AG48: VV | AH48: 0
C49: pažící box : 1 | E49: 1 | AG49: VV | AH49: 0
A50: 9 | B50: 151812617R001 | C50: Pronájem pažicícího boxu dl.4,3m, š.4,3m, hl.3,1m | D50: den | E50: 30 | G50: =ROUND(E50*F50,2) -> 0 | H50: 0 | I50: =ROUND(E50*H50,2) -> 0 | J50: 679 | K50: =ROUND(E50*J50,2) -> 20370 | L50: 21 | M50: =G50*(1+L50/100) -> 0 | N50: 0 | O50: =ROUND(E50*N50,2) -> 0 | P50: 0 | Q50: =ROUND(E50*P50,2) -> 0 | S50: Vlastní | T50: Indiv | U50: 0 | V50: =ROUND(E50*U50,2) -> 0 | X50: Práce | Y50: Běžná | AG50: POL1_
C51: viz příloha D.1.2.1 : | AG51: VV | AH51: 0
C52: pažící box pronájem 30 dnů ... odhad : 30 | E52: 30 | AG52: VV | AH52: 0
A53: 10 | B53: 151813617R001 | C53: Demontáž pažicícího boxu dl.4,3m, š.4,3m, hl.3,1m | D53: kus | E53: 1 | G53: =ROUND(E53*F53,2) -> 0 | H53: 0 | I53: =ROUND(E53*H53,2) -> 0 | J53: 3780 | K53: =ROUND(E53*J53,2) -> 3780 | L53: 21 | M53: =G53*(1+L53/100) -> 0 | N53: 0 | O53: =ROUND(E53*N53,2) -> 0 | P53: 0 | Q53: =ROUND(E53*P53,2) -> 0 | S53: Vlastní | T53: Indiv | U53: 3.64 | V53: =ROUND(E53*U53,2) -> 3.64 | X53: Práce | Y53: Běžná | AG53: POL1_
C54: viz příloha D.1.2.1 : | AG54: VV | AH54: 0
C55: pažící box : 1 | E55: 1 | AG55: VV | AH55: 0
A56: 11 | B56: 161101102R00 | C56: Svislé přemístění výkopku z horniny 1 až 4, při hloubce výkopu přes 2,5 do 4 m | D56: m3 | E56: 50.8475 | G56: =ROUND(E56*F56,2) -> 0 | H56: 0 | I56: =ROUND(E56*H56,2) -> 0 | J56: 249.5 | K56: =ROUND(E56*J56,2) -> 12686.45 | L56: 21 | M56: =G56*(1+L56/100) -> 0 | N56: 0 | O56: =ROUND(E56*N56,2) -> 0 | P56: 0 | Q56: =ROUND(E56*P56,2) -> 0 | R56: 800-1 | S56: RTS 24/ I | T56: RTS 24/ I | U56: 0.519 | V56: =ROUND(E56*U56,2) -> 26.39 | X56: Práce | Y56: Běžná | AG56: POL1_
C57: bez naložení do dopravní nádoby, ale s vyprázdněním dopravní nádoby na hromadu nebo na dopravní prostředek, | AG57: SPI | BA57: =C57 -> bez naložení do dopravní nádoby, ale s vyprázdněním dopravní nádoby na hromadu nebo na dopravní prostředek,
C58: výkop jam do 100m3 ... 100% ... h.1-4 : 50,8475*1 | E58: 50.8475 | AG58: VV | AH58: 0
A59: 12 | B59: 162201102R00 | C59: Vodorovné přemístění výkopku z horniny 1 až 4, na vzdálenost přes 20 do 50 m | D59: m3 | E59: 13.29785 | G59: =ROUND(E59*F59,2) -> 0 | H59: 0 | I59: =ROUND(E59*H59,2) -> 0 | J59: 54 | K59: =ROUND(E59*J59,2) -> 718.08 | L59: 21 | M59: =G59*(1+L59/100) -> 0 | N59: 0 | O59: =ROUND(E59*N59,2) -> 0 | P59: 0 | Q59: =ROUND(E59*P59,2) -> 0 | R59: 800-1 | S59: RTS 24/ I | T59: RTS 24/ I | U59: 0.074 | V59: =ROUND(E59*U59,2) -> 0.98 | X59: Práce | Y59: Běžná | AG59: POL1_
C60: po suchu, bez naložení výkopku, avšak se složením bez rozhrnutí, zpáteční cesta vozidla. | AG60: SPI
C61: ornice : | AG61: VV | AH61: 0
C62: meziskládka tam : | AG62: VV | AH62: 0
C63: šachta : (3,40*3,40*0,30) | E63: 3.468 | AG63: VV | AH63: 0
C64: svahování : (((3,40+6,45)/2*1,60)*0,30)+(((3,40+6,40)/2*1,95)*0,30)+(((3,40+4,45)/2*0,70)*0,30)+(((3,40+4,40)/2*0,70)*0,30) | E64: 6.87375 | AG64: VV | AH64: 0
C65: meziskládka zpět : | AG65: VV | AH65: 0
C66: zpětné rozprostření : 2,9561 | E66: 2.9561 | AG66: VV | AH66: 0
A67: 13 | B67: 162301101R00 | C67: Vodorovné přemístění výkopku z horniny 1 až 4, na vzdálenost přes 50 do 500 m | D67: m3 | E67: 75.26456 | G67: =ROUND(E67*F67,2) -> 0 | H67: 0 | I67: =ROUND(E67*H67,2) -> 0 | J67: 109.5 | K67: =ROUND(E67*J67,2) -> 8241.47 | L67: 21 | M67: =G67*(1+L67/100) -> 0 | N67: 0 | O67: =ROUND(E67*N67,2) -> 0 | P67: 0 | Q67: =ROUND(E67*P67,2) -> 0 | R67: 800-1 | S67: RTS 24/ I | T67: RTS 24/ I | U67: 0.011 | V67: =ROUND(E67*U67,2) -> 0.83 | X67: Práce | Y67: Běžná | AG67: POL1_
C68: po suchu, bez naložení výkopku, avšak se složením bez rozhrnutí, zpáteční cesta vozidla. | AG68: SPI
C69: Začátek provozního součtu | AG69: VV
C70: zásypy : 30,150 | E70: 30.15 | AG70: VV | AH70: 2
C71: násypy : 7,48228 | E71: 7.48228 | AG71: VV | AH71: 2
C72: Mezisoučet | E72: 37.63228 | AG72: VV | AH72: 3
C73: Konec provozního součtu | AG73: VV
C74: meziskládka tam a zpět : 37,63228*2 | E74: 75.26456 | AG74: VV | AH74: 0
A75: 14 | B75: 162701105RSZ | C75: Vodorovné přemístění výkopku z horniny 1 až 4, na skládku zhotovitele | D75: m3 | E75: 13.21522 | G75: =ROUND(E75*F75,2) -> 0 | H75: 0 | I75: =ROUND(E75*H75,2) -> 0 | J75: 296.5 | K75: =ROUND(E75*J75,2) -> 3918.31 | L75: 21 | M75: =G75*(1+L75/100) -> 0 | N75: 0 | O75: =ROUND(E75*N75,2) -> 0 | P75: 0 | Q75: =ROUND(E75*P75,2) -> 0 | R75: 800-1 | S75: RTS 24/ I | T75: RTS 24/ I | U75: 0.011 | V75: =ROUND(E75*U75,2) -> 0.15 | X75: Práce | Y75: Běžná | AG75: POL1_
C76: po suchu, bez naložení výkopku, avšak se složením bez rozhrnutí, zpáteční cesta vozidla. | AG76: SPI
C77: výkop jam celkem : 50,8475 | E77: 50.8475 | AG77: VV | AH77: 0
C78: odpočet : | AG78: VV | AH78: 0
C79: zásypy : -30,150 | E79: -30.15 | AG79: VV | AH79: 0
C80: násypy : -7,48228 | E80: -7.48228 | AG80: VV | AH80: 0
A81: 16 | B81: 167101101R00 | C81: Nakládání, skládání, překládání neulehlého výkopku nakládání výkopku do 100 m3, z horniny 1 až 4 | D81: m3 | E81: 40.58838 | G81: =ROUND(E81*F81,2) -> 0 | H81: 0 | I81: =ROUND(E81*H81,2) -> 0 | J81: 321.5 | K81: =ROUND(E81*J81,2) -> 13049.16 | L81: 21 | M81: =G81*(1+L81/100) -> 0 | N81: 0 | O81: =ROUND(E81*N81,2) -> 0 | P81: 0 | Q81: =ROUND(E81*P81,2) -> 0 | R81: 800-1 | S81: RTS 24/ I | T81: RTS 24/ I | U81: 0.652 | V81: =ROUND(E81*U81,2) -> 26.46 | X81: Práce | Y81: Běžná | AG81: POL1_
C82: meziskládka : | AG82: VV | AH82: 0
C83: výkopek pro zásyp a násyp : 37,63228 | E83: 37.63228 | AG83: VV | AH83: 0
C84: ornice : 2,9561 | E84: 2.9561 | AG84: VV | AH84: 0
A85: 17 | B85: 171101103R00 | C85: Uložení sypaniny do násypů zhutněných s uzavřením povrchu násypu z hornin soudržných s předepsanou mírou zhutnění v procentech výsledků zkoušek Proctor-Standard přes 96 do 100 % PS | D85: m3 | E85: 7.48228 | G85: =ROUND(E85*F85,2) -> 0 | H85: 0 | I85: =ROUND(E85*H85,2) -> 0 | J85: 82.6 | K85: =ROUND(E85*J85,2) -> 618.04 | L85: 21 | M85: =G85*(1+L85/100) -> 0 | N85: 0 | O85: =ROUND(E85*N85,2) -> 0 | P85: 0 | Q85: =ROUND(E85*P85,2) -> 0 | R85: 800-1 | S85: RTS 24/ I | T85: RTS 24/ I | U85: 0.054 | V85: =ROUND(E85*U85,2) -> 0.4 | X85: Práce | Y85: Běžná | AG85: POL1_
C86: s rozprostřením sypaniny ve vrstvách a s hrubým urovnáním, | AG86: SPI
C87: svahy kolem šachty : | AG87: VV | AH87: 0
C88: modelace terénu : ((4,43*2,40*0,52)/2)+((4,40*2,30*0,52)/2)+((3,43*1,20*0,52)/2)+((3,40*1,15*0,52)/2) | E88: 7.48228 | AG88: VV | AH88: 0
A89: 18 | B89: 171201201R00 | C89: Uložení sypaniny na dočasnou skládku tak, že na 1 m2 plochy připadá přes 2 m3 výkopku nebo ornice | D89: m3 | E89: 37.63228 | G89: =ROUND(E89*F89,2) -> 0 | H89: 0 | I89: =ROUND(E89*H89,2) -> 0 | J89: 18.9 | K89: =ROUND(E89*J89,2) -> 711.25 | L89: 21 | M89: =G89*(1+L89/100) -> 0 | N89: 0 | O89: =ROUND(E89*N89,2) -> 0 | P89: 0 | Q89: =ROUND(E89*P89,2) -> 0 | R89: 800-1 | S89: RTS 24/ I | T89: RTS 24/ I | U89: 0.009 | V89: =ROUND(E89*U89,2) -> 0.34 | X89: Práce | Y89: Běžná | AG89: POL1_
C90: meziskládka : 37,63228 | E90: 37.63228 | AG90: VV | AH90: 0
A91: 19 | B91: 199000002R00 | C91: Poplatky za skládku horniny 1- 4, skupina 17 05 04 z Katalogu odpadů | D91: m3 | E91: 13.21522 | G91: =ROUND(E91*F91,2) -> 0 | H91: 0 | I91: =ROUND(E91*H91,2) -> 0 | J91: 513 | K91: =ROUND(E91*J91,2) -> 6779.41 | L91: 21 | M91: =G91*(1+L91/100) -> 0 | N91: 0 | O91: =ROUND(E91*N91,2) -> 0 | P91: 0 | Q91: =ROUND(E91*P91,2) -> 0 | R91: 800-1 | S91: RTS 24/ I | T91: RTS 24/ I | U91: 0 | V91: =ROUND(E91*U91,2) -> 0 | X91: Práce | Y91: Běžná | AG91: POL1_
C92: Cena dle Pískovny Černovice. www.piskovna-cernovice.cz | AG92: POP
C93: výkop jam celkem : 50,8475 | E93: 50.8475 | AG93: VV | AH93: 0
C94: odpočet : | AG94: VV | AH94: 0
C95: zásypy : -30,150 | E95: -30.15 | AG95: VV | AH95: 0
C96: násypy : -7,48228 | E96: -7.48228 | AG96: VV | AH96: 0
A97: 20 | B97: 174101101R00 | C97: Zásyp sypaninou se zhutněním jam, šachet, rýh nebo kolem objektů v těchto vykopávkách | D97: m3 | E97: 30.15 | G97: =ROUND(E97*F97,2) -> 0 | H97: 0 | I97: =ROUND(E97*H97,2) -> 0 | J97: 147 | K97: =ROUND(E97*J97,2) -> 4432.05 | L97: 21 | M97: =G97*(1+L97/100) -> 0 | N97: 0 | O97: =ROUND(E97*N97,2) -> 0 | P97: 0 | Q97: =ROUND(E97*P97,2) -> 0 | R97: 800-1 | S97: RTS 24/ I | T97: RTS 24/ I | U97: 0.202 | V97: =ROUND(E97*U97,2) -> 6.09 | X97: Práce | Y97: Běžná | AG97: POL1_
C98: z jakékoliv horniny s uložením výkopku po vrstvách, | AG98: SPI
C99: včetně strojního přemístění materiálu pro zásyp ze vzdálenosti do 10 m od okraje zásypu | AG99: POP
C100: zásyp kolem šachty : (4,30+2,40)*2*(3,05-0,30-0,50) | E100: 30.15 | AG100: VV | AH100: 0
A101: 21 | B101: 180401211R00 | C101: Založení trávníku luční trávník, výsevem, v rovině nebo na svahu do 1:5 | D101: m2 | E101: 29.561 | G101: =ROUND(E101*F101,2) -> 0 | H101: 0.8 | I101: =ROUND(E101*H101,2) -> 23.65 | J101: 10.7 | K101: =ROUND(E101*J101,2) -> 316.3 | L101: 21 | M101: =G101*(1+L101/100) -> 0 | N101: 0 | O101: =ROUND(E101*N101,2) -> 0 | P101: 0 | Q101: =ROUND(E101*P101,2) -> 0 | R101: 823-1 | S101: RTS 24/ I | T101: RTS 24/ I | U101: 0.021 | V101: =ROUND(E101*U101,2) -> 0.62 | X101: Práce | Y101: Běžná | AG101: POL1_1
C102: na půdě předem připravené s pokosením, naložením, odvozem odpadu do 20 km a se složením, | AG102: SPI
...

Sheet SO-03 03.1 Pol
A1: Položkový soupis prací a dodávek | AG1: #TypZaznamu#
A2: S: | B2: 1625923-72 | C2: Obec Chuchelna - lokalita Bačov a Komárov - doplnění a obnova vodohospodářské infrastruktury | AG2: STA
A3: O: | B3: SO-03 | C3: Venkovní propoje | AC3: ING | AG3: OBJ
A4: R: | B4: 03.1 | C4: Venkovní propoje | AG4: ROZ
A6: P.č. | B6: Číslo položky | C6: Název položky | D6: MJ | E6: Množství | F6: Cena / MJ | G6: Celkem | H6: Dodávka | I6: Dodávka celk. | J6: Montáž | K6: Montáž celk. | L6: DPH | M6: Cena s DPH | N6: Hmotnost / MJ | O6: Hmotnost celk.(t) | P6: Dem. hmotnost / MJ | Q6: Dem. hmotnost celk.(t) | R6: Ceník | S6: Cen. soustava / platnost | T6: Cenová úroveň | U6: Nhod / MJ | V6: Nhod celk. | W6: Dodavatel | X6: Typ položky | Y6: Stav položky
A8: Díl: | B8: 1 | C8: Zemní práce | G8: =SUMIF(AG9:AG202,"<>NOR",G9:G202) -> 0 | I8: =SUM(I9:I202) -> 24012.3 | K8: =SUM(K9:K202) -> 200028.23 | M8: =SUM(M9:M202) -> 0 | O8: =SUM(O9:O202) -> 41.26 | Q8: =SUM(Q9:Q202) -> 0 | V8: =SUM(V9:V202) -> 250.26 | AG8: DIL
A9: 1 | B9: 115101201R00 | C9: Čerpání vody na dopravní výšku do 10 m s uvažovaným průměrným přítokem do 500 l/min | D9: h | E9: 80 | G9: =ROUND(E9*F9,2) -> 0 | H9: 0 | I9: =ROUND(E9*H9,2) -> 0 | J9: 126.5 | K9: =ROUND(E9*J9,2) -> 10120 | L9: 21 | M9: =G9*(1+L9/100) -> 0 | N9: 0 | O9: =ROUND(E9*N9,2) -> 0 | P9: 0 | Q9: =ROUND(E9*P9,2) -> 0 | R9: 800-1 | S9: RTS 24/ I | T9: RTS 24/ I | U9: 0.203 | V9: =ROUND(E9*U9,2) -> 16.24 | X9: Práce | Y9: Běžná | AG9: POL1_
C10: na vzdálenost od hladiny vody v jímce po výšku roviny proložené osou nejvyššího bodu výtlačného potrubí. Včetně odpadní potrubí v délce do 20 m. | AG10: SPI | BA10: =C10 -> na vzdálenost od hladiny vody v jímce po výšku roviny proložené osou nejvyššího bodu výtlačného potrubí. Včetně odpadní potrubí v délce do 20 m.
C11: včetně likvidace odčerpaných vod | AG11: POP
C12: povrchové čerpání - pouze srážkové vody : | AG12: VV | AH12: 0
C13: Začátek provozního součtu | AG13: VV
C14: přítok 5,0 - 10,0 l/s : 84,00 | E14: 84 | AG14: VV | AH14: 2
C15: cca 20-30m záběr odvodnění/týden : 84/25 | E15: 3.36 | AG15: VV | AH15: 2
C16: celkem 4 týdnů / 5 dní v týdnu : | AG16: VV | AH16: 2
C17: Konec provozního součtu | AG17: VV
C18: odhad cyklické čerpání 4h dennně : 4*5*4 | E18: 80 | AG18: VV | AH18: 0
A19: 2 | B19: 115101301R00 | C19: Pohotovost záložní čerpací soupravy na dopravní výšku do 10 m s uvažovaným průměrným přítokem do 500 l/min | D19: den | E19: 20 | G19: =ROUND(E19*F19,2) -> 0 | H19: 0 | I19: =ROUND(E19*H19,2) -> 0 | J19: 56.6 | K19: =ROUND(E19*J19,2) -> 1132 | L19: 21 | M19: =G19*(1+L19/100) -> 0 | N19: 0 | O19: =ROUND(E19*N19,2) -> 0 | P19: 0 | Q19: =ROUND(E19*P19,2) -> 0 | R19: 800-1 | S19: RTS 24/ I | T19: RTS 24/ I | U19: 0 | V19: =ROUND(E19*U19,2) -> 0 | X19: Práce | Y19: Běžná | AG19: POL1_
C20: na vzdálenost (výšku) od hladiny vody v jímce po výšku roviny proložené osou nejvyššího bodu výtlačného potrubí. Včetně sacího a výtlačného potrubí, příp. odpadních žlabů, lešení pod čerpadlo a pod potrubí nebo pod odpadní žlaby a záložního zdroje energie. | AG20: SPI | BA20: =C20 -> na vzdálenost (výšku) od hladiny vody v jímce po výšku roviny proložené osou nejvyššího bodu výtlačného potrubí. Včetně sacího a výtlačného potrubí, příp. odpadních žlabů, lešení pod čerpadlo a pod potrubí nebo pod odpadní žlaby a záložního zdroje energie.
C21: povrchové čerpání - pouze srážkové vody : | AG21: VV | AH21: 0
C22: Začátek provozního součtu | AG22: VV
C23: přítok 5,0 - 10,0 l/s : 84,00 | E23: 84 | AG23: VV | AH23: 2
C24: cca 20-30m záběr odvodnění/týden : 84/25 | E24: 3.36 | AG24: VV | AH24: 2
C25: Konec provozního součtu | AG25: VV
C26: celkem 4 týdnů / 5 dní v týdnu : 4*5 | E26: 20 | AG26: VV | AH26: 0
A27: 3 | B27: 119001411R00 | C27: Dočasné zajištění podzemního potrubí nebo vedení betonového potrubí DN do 200 mm | D27: m | E27: 0.9 | G27: =ROUND(E27*F27,2) -> 0 | H27: 160.98 | I27: =ROUND(E27*H27,2) -> 144.88 | J27: 434.02 | K27: =ROUND(E27*J27,2) -> 390.62 | L27: 21 | M27: =G27*(1+L27/100) -> 0 | N27: 0.01069 | O27: =ROUND(E27*N27,2) -> 0.01 | P27: 0 | Q27: =ROUND(E27*P27,2) -> 0 | R27: 800-1 | S27: RTS 24/ I | T27: RTS 24/ I | U27: 0.908 | V27: =ROUND(E27*U27,2) -> 0.82 | X27: Práce | Y27: Běžná | AG27: POL1_
C28: ve výkopišti ve stavu a poloze, ve kterých byla na začátku zemních prací, a to podepřením, vzepřením nebo vyvěšením, případně s ochranným bedněním, se zřízením a odstraněním zajišťovací konstrukce a včetně opotřebení použitých materiálů, | AG28: SPI | BA28: =C28 -> ve výkopišti ve stavu a poloze, ve kterých byla na začátku zemních prací, a to podepřením, vzepřením nebo vyvěšením, případně s ochranným bedněním, se zřízením a odstraněním zajišťovací konstrukce a včetně opotřebení použitých materiálů,
C29: přeložka č. 2 : | AG29: VV | AH29: 0
C30: stávající vodovodní řad ... 1x : 1*0,90 | E30: 0.9 | AG30: VV | AH30: 0
A31: 4 | B31: 119001421R00 | C31: Dočasné zajištění podzemního potrubí nebo vedení kabelů do 3 kabelů | D31: m | E31: 0.9 | G31: =ROUND(E31*F31,2) -> 0 | H31: 106.86 | I31: =ROUND(E31*H31,2) -> 96.17 | J31: 259.14 | K31: =ROUND(E31*J31,2) -> 233.23 | L31: 21 | M31: =G31*(1+L31/100) -> 0 | N31: 0.02478 | O31: =ROUND(E31*N31,2) -> 0.02 | P31: 0 | Q31: =ROUND(E31*P31,2) -> 0 | R31: 800-1 | S31: RTS 24/ I | T31: RTS 24/ I | U31: 0.547 | V31: =ROUND(E31*U31,2) -> 0.49 | X31: Práce | Y31: Běžná | AG31: POL1_
C32: ve výkopišti ve stavu a poloze, ve kterých byla na začátku zemních prací, a to podepřením, vzepřením nebo vyvěšením, případně s ochranným bedněním, se zřízením a odstraněním zajišťovací konstrukce a včetně opotřebení použitých materiálů, | AG32: SPI | BA32: =C32 -> ve výkopišti ve stavu a poloze, ve kterých byla na začátku zemních prací, a to podepřením, vzepřením nebo vyvěšením, případně s ochranným bedněním, se zřízením a odstraněním zajišťovací konstrukce a včetně opotřebení použitých materiálů,
C33: přeložka č. 2 : | AG33: VV | AH33: 0
C34: kabel NN ... 1x : 1*0,90 | E34: 0.9 | AG34: VV | AH34: 0
A35: 5 | B35: 130001101R00 | C35: Příplatek k cenám za ztížené vykopávky v horninách jakékoliv třídy | D35: m3 | E35: 4.1355 | G35: =ROUND(E35*F35,2) -> 0 | H35: 0 | I35: =ROUND(E35*H35,2) -> 0 | J35: 848 | K35: =ROUND(E35*J35,2) -> 3506.9 | L35: 21 | M35: =G35*(1+L35/100) -> 0 | N35: 0 | O35: =ROUND(E35*N35,2) -> 0 | P35: 0 | Q35: =ROUND(E35*P35,2) -> 0 | R35: 800-1 | S35: RTS 24/ I | T35: RTS 24/ I | U35: 1.763 | V35: =ROUND(E35*U35,2) -> 7.29 | X35: Práce | Y35: Běžná | AG35: POL1_
C36: Příplatek k cenám hloubených vykopávek za ztížení vykopávky v blízkosti podzemního vedení nebo výbušnin pro jakoukoliv třídu horniny. | AG36: SPI | BA36: =C36 -> Příplatek k cenám hloubených vykopávek za ztížení vykopávky v blízkosti podzemního vedení nebo výbušnin pro jakoukoliv třídu horniny.
C37: přeložka č. 2 : | AG37: VV | AH37: 0
C38: stávající vodovodní řad ... 1x : 1*0,90*1,85*1,00 | E38: 1.665 | AG38: VV | AH38: 0
C39: kabel NN ... 1x : 1*0,90*1,83*1,50 | E39: 2.4705 | AG39: VV | AH39: 0
A40: 6 | B40: 121101101R00 | C40: Sejmutí ornice s přemístěním na vzdálenost do 50 m | D40: m3 | E40: =SUM(E43:E49) -> 6.495 | G40: =ROUND(E40*F40,2) -> 0 | H40: 0 | I40: =ROUND(E40*H40,2) -> 0 | J40: 90.2 | K40: =ROUND(E40*J40,2) -> 585.85 | L40: 21 | M40: =G40*(1+L40/100) -> 0 | N40: 0 | O40: =ROUND(E40*N40,2) -> 0 | P40: 0 | Q40: =ROUND(E40*P40,2) -> 0 | R40: 800-1 | S40: RTS 24/ I | T40: RTS 24/ I | U40: 0.097 | V40: =ROUND(E40*U40,2) -> 0.63 | X40: Práce | Y40: Běžná | AG40: POL1_
C41: nebo lesní půdy, s vodorovným přemístěním na hromady v místě upotřebení nebo na dočasné či trvalé skládky se složením | AG41: SPI | BA41: =C41 -> nebo lesní půdy, s vodorovným přemístěním na hromady v místě upotřebení nebo na dočasné či trvalé skládky se složením
C42: viz příloha D.1.3.1, D.1.3.4.1, D.1.3.4.4 : | AG42: VV | AH42: 0
C43: přeložka č. 1 : 15,00*0,90*0,10 | E43: 1.35 | AG43: VV | AH43: 0
C44: přeložka č. 2 : 22,00*0,90*0,10 | E44: 1.98 | AG44: VV | AH44: 0
C45: výtlak surové vody : 9,00*0,90*0,10 | E45: 0.81 | AG45: VV | AH45: 0
C46: odpad z ČS : 15,00*0,95*0,10 | E46: 1.425 | AG46: VV | AH46: 0
C47: odpad z šachty nad vrtem : 3,00*0,90*0,10 | E47: 0.27 | AG47: VV | AH47: 0
C48: vypouštění z VDJ : 5,00*0,90*0,10 | E48: 0.45 | AG48: VV | AH48: 0
C49: revizní šachta : 2,00*(2,00-0,95)*0,10 | E49: 0.21 | AG49: VV | AH49: 0
A50: 7 | B50: 132201212R00 | C50: Hloubení rýh šířky přes 60 do 200 cm do 1000 m3, v hornině 3, hloubení strojně | D50: m3 | E50: =E82 -> 98.63418 | G50: =ROUND(E50*F50,2) -> 0 | H50: 0 | I50: =ROUND(E50*H50,2) -> 0 | J50: 194 | K50: =ROUND(E50*J50,2) -> 19135.03 | L50: 21 | M50: =G50*(1+L50/100) -> 0 | N50: 0 | O50: =ROUND(E50*N50,2) -> 0 | P50: 0 | Q50: =ROUND(E50*P50,2) -> 0 | R50: 800-1 | S50: RTS 24/ I | T50: RTS 24/ I | U50: 0.156 | V50: =ROUND(E50*U50,2) -> 15.39 | X50: Práce | Y50: Běžná | AG50: POL1_
C51: zapažených i nezapažených, s urovnáním dna do předepsaného profilu a spádu, s případně nutným přehozením výkopku na vzdálenost do 3 m ve výkopišti, s přehozením výkopku na přilehlém terénu na vzdálenost do 5 m od podélné osy rýhy nebo s naložením výkopku na dopravní prostředek. | AG51: SPI | BA51: =C51 -> zapažených i nezapažených, s urovnáním dna do předepsaného profilu a spádu, s případně nutným přehozením výkopku na vzdálenost do 3 m ve výkopišti, s přehozením výkopku na přilehlém terénu na vzdálenost do 5 m od podélné osy rýhy nebo s naložením výkopku na dopravní prostředek.
C52: viz příloha C.3, D.1.3.1, D.1.3.2 : | AG52: VV | AH52: 0
C53: Začátek provozního součtu | AG53: VV
C54: přeložka č. 1 : | AG54: VV | AH54: 2
C55: P1-1 - P1-3 : 12,00*0,90*((1,60+1,72+1,86)/3) | E55: 18.648 | AG55: VV | AH55: 2
C56: P1-3 - P1-4 : 3,00*0,90*((1,86+2,16+2,91+2,92)/4) | E56: 6.64875 | AG56: VV | AH56: 2
C57: odpočet ornice : -15,00*0,90*0,10 | E57: -1.35 | AG57: VV | AH57: 2
C58: přeložka č. 2 : | AG58: VV | AH58: 2
C59: P2-1 - P2-3 : 5,60*0,90*((2,92+2,81+1,89)/3) | E59: 12.8016 | AG59: VV | AH59: 2
C60: P2-3 - P2-5 : 16,40*0,90*((1,89+1,85+1,83+1,60)/4) | E60: 26.4573 | AG60: VV | AH60: 2
C61: odpočet ornice : -22,00*0,90*0,10 | E61: -1.98 | AG61: VV | AH61: 2
C62: výtlak surové vody : | AG62: VV | AH62: 2
C63: V1 - V2 : 4,30*0,90*((1,99+2,06+1,62+1,37)/4) | E63: 6.8112 | AG63: VV | AH63: 2
C64: V2 - V3 : 4,70*0,90*((1,37+2,45+2,66+2,91)/4) | E64: 9.92993 | AG64: VV | AH64: 2
C65: odpočet ornice : -9,00*0,90*0,10 | E65: -0.81 | AG65: VV | AH65: 2
C66: odpad z ČS : | AG66: VV | AH66: 2
C67: O1 - O3 : 5,00*0,95*((2,80+2,83+2,69+1,76+1,58)/5) | E67: 11.077 | AG67: VV | AH67: 2
C68: O3 - O5 : 10,00*0,95*((1,58+1,65+1,28+0,88+0,61+0,12)/6) | E68: 9.69 | AG68: VV | AH68: 2
C69: rozšíření - revizní šachta : 2,00*(2,00-0,95)*1,65 | E69: 3.465 | AG69: VV | AH69: 2
C70: prohloubení - revizní šachta : 2,00*2,00*(0,15+0,10+0,15) | E70: 1.6 | AG70: VV | AH70: 2
C71: odpočet ornice - odpad z ČS : -15,00*0,95*0,10 | E71: -1.425 | AG71: VV | AH71: 2
C72: odpočet ornice - revizní šachta : -2,00*(2,00-0,95)*0,10 | E72: -0.21 | AG72: VV | AH72: 2
C73: odpad z šachty nad vrtem : | AG73: VV | AH73: 2
C74: vrt - O3 : 3,00*0,90*((2,63+1,13+1,14)/3) | E74: 4.41 | AG74: VV | AH74: 2
C75: odpočet ornice : -3,00*0,90*0,10 | E75: -0.27 | AG75: VV | AH75: 2
C76: vypouštění z VDJ : | AG76: VV | AH76: 2
C77: ČS - lom : 3,90*0,90*((3,12+2,98+2,87+1,70)/4) | E77: 9.36293 | AG77: VV | AH77: 2
C78: lom - RŠ : 1,10*0,90*((1,70+1,66+1,59)/3) | E78: 1.6335 | AG78: VV | AH78: 2
C79: odpočet ornice : -5,00*0,90*0,10 | E79: -0.45 | AG79: VV | AH79: 2
C80: Mezisoučet | E80: =SUM(E55:E79) -> 116.04021 | AG80: VV | AH80: 3
C81: Konec provozního součtu | AG81: VV
C82: geologie hor.3 - 85% : 116,04021*0,85 | E82: 98.63418 | AG82: VV | AH82: 0
A83: 8 | B83: 132301212R00 | C83: Hloubení rýh šířky přes 60 do 200 cm do 1000 m3, v hornině 4, hloubení strojně | D83: m3 | E83: =SUM(E87) -> 17.40603 | G83: =ROUND(E83*F83,2) -> 0 | H83: 0 | I83: =ROUND(E83*H83,2) -> 0 | J83: 417.5 | K83: =ROUND(E83*J83,2) -> 7267.02 | L83: 21 | M83: =G83*(1+L83/100) -> 0 | N83: 0 | O83: =ROUND(E83*N83,2) -> 0 | P83: 0 | Q83: =ROUND(E83*P83,2) -> 0 | R83: 800-1 | S83: RTS 24/ I | T83: RTS 24/ I | U83: 0.291 | V83: =ROUND(E83*U83,2) -> 5.07 | X83: Práce | Y83: Běžná | AG83: POL1_
C84: zapažených i nezapažených, s urovnáním dna do předepsaného profilu a spádu, s případně nutným přehozením výkopku na vzdálenost do 3 m ve výkopišti, s přehozením výkopku na přilehlém terénu na vzdálenost do 5 m od podélné osy rýhy nebo s naložením výkopku na dopravní prostředek. | AG84: SPI | BA84: =C84 -> zapažených i nezapažených, s urovnáním dna do předepsaného profilu a spádu, s případně nutným přehozením výkopku na vzdálenost do 3 m ve výkopišti, s přehozením výkopku na přilehlém terénu na vzdálenost do 5 m od podélné osy rýhy nebo s naložením výkopku na dopravní prostředek.
C85: viz příloha C.3, D.1.3.1, D.1.3.2 : | AG85: VV | AH85: 0
C86: výpočet hloubení rýh v hor.3 : | AG86: VV | AH86: 0
C87: geologie hor.4 - 15% : 116,04021*0,15 | E87: 17.40603 | AG87: VV | AH87: 0
A88: 9 | B88: 151101101R00 | C88: Zřízení pažení a rozepření stěn rýh příložné pro jakoukoliv mezerovitost, hloubky do 2 m | D88: m2 | E88: =SUM(E91:E103) -> 155.865 | G88: =ROUND(E88*F88,2) -> 0 | H88: 14.15 | I88: =ROUND(E88*H88,2) -> 2205.49 | J88: 140.85 | K88: =ROUND(E88*J88,2) -> 21953.59 | L88: 21 | M88: =G88*(1+L88/100) -> 0 | N88: 0.00098 | O88: =ROUND(E88*N88,2) -> 0.15 | P88: 0 | Q88: =ROUND(E88*P88,2) -> 0 | R88: 800-1 | S88: RTS 24/ I | T88: RTS 24/ I | U88: 0.236 | V88: =ROUND(E88*U88,2) -> 36.78 | X88: Práce | Y88: Běžná | AG88: POL1_
C89: pro podzemní vedení pro všechny šířky rýhy, | AG89: SPI
C90: přeložka č. 1 : | AG90: VV | AH90: 0
C91: P1-1 - P1-3 : 12,00*2*((1,60+1,72+1,86)/3) | E91: 41.44 | AG91: VV | AH91: 0
C92: přeložka č. 2 : | AG92: VV | AH92: 0
C93: P2-3 - P2-5 : 16,40*2*((1,89+1,85+1,83+1,60)/4) | E93: 58.794 | AG93: VV | AH93: 0
C94: výtlak surové vody : | AG94: VV | AH94: 0
C95: V1 - V2 : 4,30*2*((1,99+2,06+1,62+1,37)/4) | E95: 15.136 | AG95: VV | AH95: 0
C96: odpad z ČS : | AG96: VV | AH96: 0
C97: O3 - O5 : 10,00*2*((1,58+1,65+1,28+0,88+0,61+0,12)/6) | E97: 20.4 | AG97: VV | AH97: 0
C98: rozšíření - revizní šachta : 2*(2,00-0,95)*1,65 | E98: 3.465 | AG98: VV | AH98: 0
C99: prohloubení - revizní šachta : 4*2,00*(0,15+0,10+0,15) | E99: 3.2 | AG99: VV | AH99: 0
C100: odpad z šachty nad vrtem : | AG100: VV | AH100: 0
C101: vrt - O3 : 3,00*2*((2,63+1,13+1,14)/3) | E101: 9.8 | AG101: VV | AH101: 0
C102: vypouštění z VDJ : | AG102: VV | AH102: 0
...

Sheet PS-01 PS-01.1 Pol
A1: Položkový soupis prací a dodávek | AG1: #TypZaznamu#
A2: S: | B2: 1625923-72 | C2: Obec Chuchelna - lokalita Bačov a Komárov - doplnění a obnova vodohospodářské infrastruktury | AG2: STA
A3: O: | B3: PS-01 | C3: Strojně-technologická část | AC3: PRO | AG3: OBJ
A4: R: | B4: PS-01.1 | C4: ČS Komárov - trubní vystrojení | AG4: ROZ
A6: P.č. | B6: Číslo položky | C6: Název položky | D6: MJ | E6: Množství | F6: Cena / MJ | G6: Celkem | H6: Dodávka | I6: Dodávka celk. | J6: Montáž | K6: Montáž celk. | L6: DPH | M6: Cena s DPH | N6: Hmotnost / MJ | O6: Hmotnost celk.(t) | P6: Dem. hmotnost / MJ | Q6: Dem. hmotnost celk.(t) | R6: Ceník | S6: Cen. soustava / platnost | T6: Cenová úroveň | U6: Nhod / MJ | V6: Nhod celk. | W6: Dodavatel | X6: Typ položky | Y6: Stav položky
A8: Díl: | B8: 8 | C8: Trubní vedení | G8: =SUMIF(AG9:AG228,"<>NOR",G9:G228) -> 0 | I8: =SUM(I9:I228) -> 556772.5 | K8: =SUM(K9:K228) -> 587668 | M8: =SUM(M9:M228) -> 0 | O8: =SUM(O9:O228) -> 0.77 | Q8: =SUM(Q9:Q228) -> 0.9 | V8: =SUM(V9:V228) -> 84.65 | AG8: DIL
A9: 1 | B9: 12730251R54/2 | C9: Potrubí - nerez ocel dle DIN 1.4404 54 x 2 mm | D9: m | E9: 40 | G9: =ROUND(E9*F9,2) -> 0 | H9: 2344 | I9: =ROUND(E9*H9,2) -> 93760 | J9: 0 | K9: =ROUND(E9*J9,2) -> 0 | L9: 21 | M9: =G9*(1+L9/100) -> 0 | N9: 0.00563 | O9: =ROUND(E9*N9,2) -> 0.23 | P9: 0 | Q9: =ROUND(E9*P9,2) -> 0 | S9: Vlastní | T9: Indiv | U9: 0 | V9: =ROUND(E9*U9,2) -> 0 | X9: Specifikace | Y9: Běžná | AG9: POL3_
C10: viz příloha D.2.1.1, D.2.1.2.1, D.2.1.2.2 : | AG10: VV | AH10: 0
C11: potrubí DN50 : 40,00 | E11: 40 | AG11: VV | AH11: 0
A12: 2 | B12: 12730248R44 | C12: Potrubí - nerez ocel dle DIN 1.4404 44 x 2 mm | D12: m | E12: 34 | G12: =ROUND(E12*F12,2) -> 0 | H12: 1102 | I12: =ROUND(E12*H12,2) -> 37468 | J12: 0 | K12: =ROUND(E12*J12,2) -> 0 | L12: 21 | M12: =G12*(1+L12/100) -> 0 | N12: 0.0019 | O12: =ROUND(E12*N12,2) -> 0.06 | P12: 0 | Q12: =ROUND(E12*P12,2) -> 0 | S12: Vlastní | T12: Indiv | U12: 0 | V12: =ROUND(E12*U12,2) -> 0 | X12: Specifikace | Y12: Běžná | AG12: POL3_
C13: viz příloha D.2.1.1, D.2.1.2.1, D.2.1.2.2 : | AG13: VV | AH13: 0
C14: potrubí DN40 : 34,00 | E14: 34 | AG14: VV | AH14: 0
A15: 3 | B15: 12730246R35 | C15: Potrubí - nerez ocel dle DIN 1.4404 35 x 1,5 mm včetně tvarovek a fitinek | D15: m | E15: 0.5 | G15: =ROUND(E15*F15,2) -> 0 | H15: 951 | I15: =ROUND(E15*H15,2) -> 475.5 | J15: 0 | K15: =ROUND(E15*J15,2) -> 0 | L15: 21 | M15: =G15*(1+L15/100) -> 0 | N15: 0.00376 | O15: =ROUND(E15*N15,2) -> 0 | P15: 0 | Q15: =ROUND(E15*P15,2) -> 0 | S15: Vlastní | T15: Indiv | U15: 0 | V15: =ROUND(E15*U15,2) -> 0 | X15: Specifikace | Y15: Běžná | AG15: POL3_
C16: viz příloha D.2.1.1, D.2.1.2.1, D.2.1.2.2 : | AG16: VV | AH16: 0
C17: potrubí DN32 : 0,50 | E17: 0.5 | AG17: VV | AH17: 0
A18: 4 | B18: 12730238R28 | C18: Potrubí - nerez ocel dle DIN 1.4404 28 x 1,5 mm, včetně tvarovek a fitinek | D18: m | E18: 1 | G18: =ROUND(E18*F18,2) -> 0 | H18: 771 | I18: =ROUND(E18*H18,2) -> 771 | J18: 0 | K18: =ROUND(E18*J18,2) -> 0 | L18: 21 | M18: =G18*(1+L18/100) -> 0 | N18: 0.00115 | O18: =ROUND(E18*N18,2) -> 0 | P18: 0 | Q18: =ROUND(E18*P18,2) -> 0 | S18: Vlastní | T18: Indiv | U18: 0 | V18: =ROUND(E18*U18,2) -> 0 | X18: Specifikace | Y18: Běžná | AG18: POL3_
C19: viz příloha D.2.1.1, D.2.1.2.1, D.2.1.2.2 : | AG19: VV | AH19: 0
C20: potrubí DN25 : 1,00 | E20: 1 | AG20: VV | AH20: 0
A21: 5 | B21: 12730238R24 | C21: Potrubí - nerez ocel dle DIN 1.4404 24 x 1,5 mm, včetně tvarovek a fitinek | D21: m | E21: 3.5 | G21: =ROUND(E21*F21,2) -> 0 | H21: 572 | I21: =ROUND(E21*H21,2) -> 2002 | J21: 0 | K21: =ROUND(E21*J21,2) -> 0 | L21: 21 | M21: =G21*(1+L21/100) -> 0 | N21: 0.00115 | O21: =ROUND(E21*N21,2) -> 0 | P21: 0 | Q21: =ROUND(E21*P21,2) -> 0 | S21: Vlastní | T21: Indiv | U21: 0 | V21: =ROUND(E21*U21,2) -> 0 | X21: Specifikace | Y21: Běžná | AG21: POL3_
C22: viz příloha D.2.1.1, D.2.1.2.1, D.2.1.2.2 : | AG22: VV | AH22: 0
C23: potrubí DN21 : 3,50 | E23: 3.5 | AG23: VV | AH23: 0
A24: 6 | B24: 12730216R13 | C24: Potrubí - nerez ocel dle DIN 1.4404 13 x 1,5 mm, včetně tvarovek a fitinek | D24: m | E24: 3 | G24: =ROUND(E24*F24,2) -> 0 | H24: 432 | I24: =ROUND(E24*H24,2) -> 1296 | J24: 0 | K24: =ROUND(E24*J24,2) -> 0 | L24: 21 | M24: =G24*(1+L24/100) -> 0 | N24: 0.00043 | O24: =ROUND(E24*N24,2) -> 0 | P24: 0 | Q24: =ROUND(E24*P24,2) -> 0 | S24: Vlastní | T24: Indiv | U24: 0 | V24: =ROUND(E24*U24,2) -> 0 | X24: Specifikace | Y24: Běžná | AG24: POL3_
C25: viz příloha D.2.1.1, D.2.1.2.1, D.2.1.2.2 : | AG25: VV | AH25: 0
C26: potrubí DN10 : 3,00 | E26: 3 | AG26: VV | AH26: 0
A27: 7 | B27: 5525852706R150 | C27: F-kus DN 150 | D27: kus | E27: 1 | G27: =ROUND(E27*F27,2) -> 0 | H27: 6806 | I27: =ROUND(E27*H27,2) -> 6806 | J27: 0 | K27: =ROUND(E27*J27,2) -> 0 | L27: 21 | M27: =G27*(1+L27/100) -> 0 | N27: 0.0156 | O27: =ROUND(E27*N27,2) -> 0.02 | P27: 0 | Q27: =ROUND(E27*P27,2) -> 0 | S27: Vlastní | T27: Indiv | U27: 0 | V27: =ROUND(E27*U27,2) -> 0 | X27: Specifikace | Y27: Běžná | AG27: POL3_
C28: viz příloha D.2.1.1, D.2.1.2.1, D.2.1.2.2 : | AG28: VV | AH28: 0
C29: F-kus : 1,00 | E29: 1 | AG29: VV | AH29: 0
A30: 8 | B30: 5525852703R80 | C30: F-kus DN 80 | D30: kus | E30: 1 | G30: =ROUND(E30*F30,2) -> 0 | H30: 3815 | I30: =ROUND(E30*H30,2) -> 3815 | J30: 0 | K30: =ROUND(E30*J30,2) -> 0 | L30: 21 | M30: =G30*(1+L30/100) -> 0 | N30: 0.0077 | O30: =ROUND(E30*N30,2) -> 0.01 | P30: 0 | Q30: =ROUND(E30*P30,2) -> 0 | S30: Vlastní | T30: Indiv | U30: 0 | V30: =ROUND(E30*U30,2) -> 0 | X30: Specifikace | Y30: Běžná | AG30: POL3_
C31: viz příloha D.2.1.1, D.2.1.2.1, D.2.1.2.2 : | AG31: VV | AH31: 0
C32: F-kus : 1,00 | E32: 1 | AG32: VV | AH32: 0
A33: 9 | B33: 552720240R50 | C33: F- kus DN 50 | D33: kus | E33: 3 | G33: =ROUND(E33*F33,2) -> 0 | H33: 1876 | I33: =ROUND(E33*H33,2) -> 5628 | J33: 0 | K33: =ROUND(E33*J33,2) -> 0 | L33: 21 | M33: =G33*(1+L33/100) -> 0 | N33: 0.00385 | O33: =ROUND(E33*N33,2) -> 0.01 | P33: 0 | Q33: =ROUND(E33*P33,2) -> 0 | S33: Vlastní | T33: Indiv | U33: 0 | V33: =ROUND(E33*U33,2) -> 0 | X33: Specifikace | Y33: Běžná | AG33: POL3_
C34: viz příloha D.2.1.1, D.2.1.2.1, D.2.1.2.2 : | AG34: VV | AH34: 0
C35: F-kus : 3,00 | E35: 3 | AG35: VV | AH35: 0
A36: 10 | B36: 31945310R80/90 | C36: Koleno 90° nerez DN 80 tl. 2 mm | D36: kus | E36: 1 | G36: =ROUND(E36*F36,2) -> 0 | H36: 5245 | I36: =ROUND(E36*H36,2) -> 5245 | J36: 0 | K36: =ROUND(E36*J36,2) -> 0 | L36: 21 | M36: =G36*(1+L36/100) -> 0 | N36: 0.00146 | O36: =ROUND(E36*N36,2) -> 0 | P36: 0 | Q36: =ROUND(E36*P36,2) -> 0 | S36: Vlastní | T36: Indiv | U36: 0 | V36: =ROUND(E36*U36,2) -> 0 | X36: Specifikace | Y36: Běžná | AG36: POL3_
C37: viz příloha D.2.1.1, D.2.1.2.1, D.2.1.2.2 : | AG37: VV | AH37: 0
C38: koleno : 1,00 | E38: 1 | AG38: VV | AH38: 0
A39: 11 | B39: 31945308R50/41 | C39: Koleno 41° nerez DN 50 tl. 2 mm | D39: kus | E39: 1 | G39: =ROUND(E39*F39,2) -> 0 | H39: 1521 | I39: =ROUND(E39*H39,2) -> 1521 | J39: 0 | K39: =ROUND(E39*J39,2) -> 0 | L39: 21 | M39: =G39*(1+L39/100) -> 0 | N39: 0.00036 | O39: =ROUND(E39*N39,2) -> 0 | P39: 0 | Q39: =ROUND(E39*P39,2) -> 0 | S39: Vlastní | T39: Indiv | U39: 0 | V39: =ROUND(E39*U39,2) -> 0 | X39: Specifikace | Y39: Běžná | AG39: POL3_
C40: viz příloha D.2.1.1, D.2.1.2.1, D.2.1.2.2 : | AG40: VV | AH40: 0
C41: koleno : 1,00 | E41: 1 | AG41: VV | AH41: 0
A42: 12 | B42: 31945308R50/45 | C42: Koleno 45° nerez DN 50 tl. 2 mm | D42: kus | E42: 8 | G42: =ROUND(E42*F42,2) -> 0 | H42: 1492 | I42: =ROUND(E42*H42,2) -> 11936 | J42: 0 | K42: =ROUND(E42*J42,2) -> 0 | L42: 21 | M42: =G42*(1+L42/100) -> 0 | N42: 0.00036 | O42: =ROUND(E42*N42,2) -> 0 | P42: 0 | Q42: =ROUND(E42*P42,2) -> 0 | S42: Vlastní | T42: Indiv | U42: 0 | V42: =ROUND(E42*U42,2) -> 0 | X42: Specifikace | Y42: Běžná | AG42: POL3_
C43: viz příloha D.2.1.1, D.2.1.2.1, D.2.1.2.2 : | AG43: VV | AH43: 0
C44: koleno : 8,00 | E44: 8 | AG44: VV | AH44: 0
A45: 13 | B45: 31945308R50/90 | C45: Koleno 90° nerez DN 50 | D45: kus | E45: 28 | G45: =ROUND(E45*F45,2) -> 0 | H45: 1467 | I45: =ROUND(E45*H45,2) -> 41076 | J45: 0 | K45: =ROUND(E45*J45,2) -> 0 | L45: 21 | M45: =G45*(1+L45/100) -> 0 | N45: 0.00036 | O45: =ROUND(E45*N45,2) -> 0.01 | P45: 0 | Q45: =ROUND(E45*P45,2) -> 0 | S45: Vlastní | T45: Indiv | U45: 0 | V45: =ROUND(E45*U45,2) -> 0 | X45: Specifikace | Y45: Běžná | AG45: POL3_
C46: viz příloha D.2.1.1, D.2.1.2.1, D.2.1.2.2 : | AG46: VV | AH46: 0
C47: koleno : 28,00 | E47: 28 | AG47: VV | AH47: 0
A48: 14 | B48: 31945307R32 | C48: Koleno 90° nerez DN 32 | D48: kus | E48: 1 | G48: =ROUND(E48*F48,2) -> 0 | H48: 697 | I48: =ROUND(E48*H48,2) -> 697 | J48: 0 | K48: =ROUND(E48*J48,2) -> 0 | L48: 21 | M48: =G48*(1+L48/100) -> 0 | N48: 0.00023 | O48: =ROUND(E48*N48,2) -> 0 | P48: 0 | Q48: =ROUND(E48*P48,2) -> 0 | S48: Vlastní | T48: Indiv | U48: 0 | V48: =ROUND(E48*U48,2) -> 0 | X48: Specifikace | Y48: Běžná | AG48: POL3_
C49: viz příloha D.2.1.1, D.2.1.2.1, D.2.1.2.2 : | AG49: VV | AH49: 0
C50: koleno : 1,00 | E50: 1 | AG50: VV | AH50: 0
A51: 15 | B51: 31945307R20/45 | C51: Koleno 45° nerez DN 20 | D51: kus | E51: 1 | G51: =ROUND(E51*F51,2) -> 0 | H51: 420 | I51: =ROUND(E51*H51,2) -> 420 | J51: 0 | K51: =ROUND(E51*J51,2) -> 0 | L51: 21 | M51: =G51*(1+L51/100) -> 0 | N51: 0.00023 | O51: =ROUND(E51*N51,2) -> 0 | P51: 0 | Q51: =ROUND(E51*P51,2) -> 0 | S51: Vlastní | T51: Indiv | U51: 0 | V51: =ROUND(E51*U51,2) -> 0 | X51: Specifikace | Y51: Běžná | AG51: POL3_
C52: viz příloha D.2.1.1, D.2.1.2.1, D.2.1.2.2 : | AG52: VV | AH52: 0
C53: koleno : 1,00 | E53: 1 | AG53: VV | AH53: 0
A54: 16 | B54: 31945307R20/90 | C54: Koleno 90° nerez DN 20 | D54: kus | E54: 4 | G54: =ROUND(E54*F54,2) -> 0 | H54: 415 | I54: =ROUND(E54*H54,2) -> 1660 | J54: 0 | K54: =ROUND(E54*J54,2) -> 0 | L54: 21 | M54: =G54*(1+L54/100) -> 0 | N54: 0.00023 | O54: =ROUND(E54*N54,2) -> 0 | P54: 0 | Q54: =ROUND(E54*P54,2) -> 0 | S54: Vlastní | T54: Indiv | U54: 0 | V54: =ROUND(E54*U54,2) -> 0 | X54: Specifikace | Y54: Běžná | AG54: POL3_
C55: viz příloha D.2.1.1, D.2.1.2.1, D.2.1.2.2 : | AG55: VV | AH55: 0
C56: koleno : 4,00 | E56: 4 | AG56: VV | AH56: 0
A57: 17 | B57: 31945307R10/90 | C57: Koleno 90° nerez DN 10 | D57: kus | E57: 4 | G57: =ROUND(E57*F57,2) -> 0 | H57: 279 | I57: =ROUND(E57*H57,2) -> 1116 | J57: 0 | K57: =ROUND(E57*J57,2) -> 0 | L57: 21 | M57: =G57*(1+L57/100) -> 0 | N57: 0.00023 | O57: =ROUND(E57*N57,2) -> 0 | P57: 0 | Q57: =ROUND(E57*P57,2) -> 0 | S57: Vlastní | T57: Indiv | U57: 0 | V57: =ROUND(E57*U57,2) -> 0 | X57: Specifikace | Y57: Běžná | AG57: POL3_
C58: viz příloha D.2.1.1, D.2.1.2.1, D.2.1.2.2 : | AG58: VV | AH58: 0
C59: koleno : 4,00 | E59: 4 | AG59: VV | AH59: 0
A60: 18 | B60: 31945379R200/80 | C60: Redukce nerez DN 200/80 | D60: kus | E60: 1 | G60: =ROUND(E60*F60,2) -> 0 | H60: 4539 | I60: =ROUND(E60*H60,2) -> 4539 | J60: 0 | K60: =ROUND(E60*J60,2) -> 0 | L60: 21 | M60: =G60*(1+L60/100) -> 0 | N60: 0 | O60: =ROUND(E60*N60,2) -> 0 | P60: 0 | Q60: =ROUND(E60*P60,2) -> 0 | S60: Vlastní | T60: Indiv | U60: 0 | V60: =ROUND(E60*U60,2) -> 0 | X60: Specifikace | Y60: Běžná | AG60: POL3_
C61: viz příloha D.2.1.1, D.2.1.2.1, D.2.1.2.2 : | AG61: VV | AH61: 0
C62: redukce : 1,00 | E62: 1 | AG62: VV | AH62: 0
A63: 19 | B63: 31945379R150/50 | C63: Redukce nerez DN 150/50 | D63: kus | E63: 1 | G63: =ROUND(E63*F63,2) -> 0 | H63: 3950 | I63: =ROUND(E63*H63,2) -> 3950 | J63: 0 | K63: =ROUND(E63*J63,2) -> 0 | L63: 21 | M63: =G63*(1+L63/100) -> 0 | N63: 0 | O63: =ROUND(E63*N63,2) -> 0 | P63: 0 | Q63: =ROUND(E63*P63,2) -> 0 | S63: Vlastní | T63: Indiv | U63: 0 | V63: =ROUND(E63*U63,2) -> 0 | X63: Specifikace | Y63: Běžná | AG63: POL3_
C64: viz příloha D.2.1.1, D.2.1.2.1, D.2.1.2.2 : | AG64: VV | AH64: 0
C65: redukce : 1,00 | E65: 1 | AG65: VV | AH65: 0
A66: 20 | B66: 31945378R80/50 | C66: Redukce nerez DN 80/50 | D66: kus | E66: 1 | G66: =ROUND(E66*F66,2) -> 0 | H66: 3531 | I66: =ROUND(E66*H66,2) -> 3531 | J66: 0 | K66: =ROUND(E66*J66,2) -> 0 | L66: 21 | M66: =G66*(1+L66/100) -> 0 | N66: 0 | O66: =ROUND(E66*N66,2) -> 0 | P66: 0 | Q66: =ROUND(E66*P66,2) -> 0 | S66: Vlastní | T66: Indiv | U66: 0 | V66: =ROUND(E66*U66,2) -> 0 | X66: Specifikace | Y66: Běžná | AG66: POL3_
C67: viz příloha D.2.1.1, D.2.1.2.1, D.2.1.2.2 : | AG67: VV | AH67: 0
C68: redukce : 1,00 | E68: 1 | AG68: VV | AH68: 0
A69: 21 | B69: 31945376R50/32 | C69: Redukce nerez DN 50/32 | D69: kus | E69: 4 | G69: =ROUND(E69*F69,2) -> 0 | H69: 628 | I69: =ROUND(E69*H69,2) -> 2512 | J69: 0 | K69: =ROUND(E69*J69,2) -> 0 | L69: 21 | M69: =G69*(1+L69/100) -> 0 | N69: 0 | O69: =ROUND(E69*N69,2) -> 0 | P69: 0 | Q69: =ROUND(E69*P69,2) -> 0 | S69: Vlastní | T69: Indiv | U69: 0 | V69: =ROUND(E69*U69,2) -> 0 | X69: Specifikace | Y69: Běžná | AG69: POL3_
C70: viz příloha D.2.1.1, D.2.1.2.1, D.2.1.2.2 : | AG70: VV | AH70: 0
C71: redukce : 4,00 | E71: 4 | AG71: VV | AH71: 0
A72: 22 | B72: 31945376R50/25 | C72: Redukce nerez DN 50/25 | D72: kus | E72: 6 | G72: =ROUND(E72*F72,2) -> 0 | H72: 656 | I72: =ROUND(E72*H72,2) -> 3936 | J72: 0 | K72: =ROUND(E72*J72,2) -> 0 | L72: 21 | M72: =G72*(1+L72/100) -> 0 | N72: 0 | O72: =ROUND(E72*N72,2) -> 0 | P72: 0 | Q72: =ROUND(E72*P72,2) -> 0 | S72: Vlastní | T72: Indiv | U72: 0 | V72: =ROUND(E72*U72,2) -> 0 | X72: Specifikace | Y72: Běžná | AG72: POL3_
C73: viz příloha D.2.1.1, D.2.1.2.1, D.2.1.2.2 : | AG73: VV | AH73: 0
C74: redukce : 6,00 | E74: 6 | AG74: VV | AH74: 0
A75: 23 | B75: 31945375R25/13 | C75: Redukce nerez DN 25/13 | D75: kus | E75: 1 | G75: =ROUND(E75*F75,2) -> 0 | H75: 414 | I75: =ROUND(E75*H75,2) -> 414 | J75: 0 | K75: =ROUND(E75*J75,2) -> 0 | L75: 21 | M75: =G75*(1+L75/100) -> 0 | N75: 0 | O75: =ROUND(E75*N75,2) -> 0 | P75: 0 | Q75: =ROUND(E75*P75,2) -> 0 | S75: Vlastní | T75: Indiv | U75: 0 | V75: =ROUND(E75*U75,2) -> 0 | X75: Specifikace | Y75: Běžná | AG75: POL3_
C76: viz příloha D.2.1.1, D.2.1.2.1, D.2.1.2.2 : | AG76: VV | AH76: 0
C77: redukce : 1,00 | E77: 1 | AG77: VV | AH77: 0
A78: 24 | B78: 31945369R150/80 | C78: T- kus 90° nerez DN 150/80 | D78: kus | E78: 1 | G78: =ROUND(E78*F78,2) -> 0 | H78: 8887 | I78: =ROUND(E78*H78,2) -> 8887 | J78: 0 | K78: =ROUND(E78*J78,2) -> 0 | L78: 21 | M78: =G78*(1+L78/100) -> 0 | N78: 0.00245 | O78: =ROUND(E78*N78,2) -> 0 | P78: 0 | Q78: =ROUND(E78*P78,2) -> 0 | S78: Vlastní | T78: Indiv | U78: 0 | V78: =ROUND(E78*U78,2) -> 0 | X78: Specifikace | Y78: Běžná | AG78: POL3_
C79: viz příloha D.2.1.1, D.2.1.2.1, D.2.1.2.2 : | AG79: VV | AH79: 0
C80: T-kus : 1,00 | E80: 1 | AG80: VV | AH80: 0
A81: 25 | B81: 31945318R50/50 | C81: T- kus 90° nerez DN 50/50 | D81: kus | E81: 6 | G81: =ROUND(E81*F81,2) -> 0 | H81: 1336 | I81: =ROUND(E81*H81,2) -> 8016 | J81: 0 | K81: =ROUND(E81*J81,2) -> 0 | L81: 21 | M81: =G81*(1+L81/100) -> 0 | N81: 0.00041 | O81: =ROUND(E81*N81,2) -> 0 | P81: 0 | Q81: =ROUND(E81*P81,2) -> 0 | S81: Vlastní | T81: Indiv | U81: 0 | V81: =ROUND(E81*U81,2) -> 0 | X81: Specifikace | Y81: Běžná | AG81: POL3_
C82: viz příloha D.2.1.1, D.2.1.2.1, D.2.1.2.2 : | AG82: VV | AH82: 0
C83: T-kus : 6,00 | E83: 6 | AG83: VV | AH83: 0
A84: 26 | B84: 31945366R50/50/135 | C84: T- kus 135° nerez DN 50/50 | D84: kus | E84: 1 | G84: =ROUND(E84*F84,2) -> 0 | H84: 1428 | I84: =ROUND(E84*H84,2) -> 1428 | J84: 0 | K84: =ROUND(E84*J84,2) -> 0 | L84: 21 | M84: =G84*(1+L84/100) -> 0 | N84: 0.00041 | O84: =ROUND(E84*N84,2) -> 0 | P84: 0 | Q84: =ROUND(E84*P84,2) -> 0 | S84: Vlastní | T84: Indiv | U84: 0 | V84: =ROUND(E84*U84,2) -> 0 | X84: Specifikace | Y84: Běžná | AG84: POL3_
C85: viz příloha D.2.1.1, D.2.1.2.1, D.2.1.2.2 : | AG85: VV | AH85: 0
C86: T-kus : 1,00 | E86: 1 | AG86: VV | AH86: 0
A87: 27 | B87: 31945366R50/20 | C87: T- kus 90° nerez DN 50/20 | D87: kus | E87: 5 | G87: =ROUND(E87*F87,2) -> 0 | H87: 1402 | I87: =ROUND(E87*H87,2) -> 7010 | J87: 0 | K87: =ROUND(E87*J87,2) -> 0 | L87: 21 | M87: =G87*(1+L87/100) -> 0 | N87: 0.00041 | O87: =ROUND(E87*N87,2) -> 0 | P87: 0 | Q87: =ROUND(E87*P87,2) -> 0 | S87: Vlastní | T87: Indiv | U87: 0 | V87: =ROUND(E87*U87,2) -> 0 | X87: Specifikace | Y87: Běžná | AG87: POL3_
C88: viz příloha D.2.1.1, D.2.1.2.1, D.2.1.2.2 : | AG88: VV | AH88: 0
C89: T-kus : 5,00 | E89: 5 | AG89: VV | AH89: 0
A90: 28 | B90: 31945366R50/10 | C90: T- kus 90° nerez DN 50/10 | D90: kus | E90: 2 | G90: =ROUND(E90*F90,2) -> 0 | H90: 1396 | I90: =ROUND(E90*H90,2) -> 2792 | J90: 0 | K90: =ROUND(E90*J90,2) -> 0 | L90: 21 | M90: =G90*(1+L90/100) -> 0 | N90: 0.00041 | O90: =ROUND(E90*N90,2) -> 0 | P90: 0 | Q90: =ROUND(E90*P90,2) -> 0 | S90: Vlastní | T90: Indiv | U90: 0 | V90: =ROUND(E90*U90,2) -> 0 | X90: Specifikace | Y90: Běžná | AG90: POL3_
C91: viz příloha D.2.1.1, D.2.1.2.1, D.2.1.2.2 : | AG91: VV | AH91: 0
C92: T-kus : 2,00 | E92: 2 | AG92: VV | AH92: 0
A93: 29 | B93: 31945315R25/25 | C93: T- kus 90° nerez DN 25/25 | D93: kus | E93: 1 | G93: =ROUND(E93*F93,2) -> 0 | H93: 649 | I93: =ROUND(E93*H93,2) -> 649 | J93: 0 | K93: =ROUND(E93*J93,2) -> 0 | L93: 21 | M93: =G93*(1+L93/100) -> 0 | N93: 0.00014 | O93: =ROUND(E93*N93,2) -> 0 | P93: 0 | Q93: =ROUND(E93*P93,2) -> 0 | S93: Vlastní | T93: Indiv | U93: 0 | V93: =ROUND(E93*U93,2) -> 0 | X93: Specifikace | Y93: Běžná | AG93: POL3_
C94: viz příloha D.2.1.1, D.2.1.2.1, D.2.1.2.2 : | AG94: VV | AH94: 0
C95: T-kus : 1,00 | E95: 1 | AG95: VV | AH95: 0
A96: 30 | B96: 31945315R25/20 | C96: T- kus 90° nerez DN 25/20 | D96: kus | E96: 1 | G96: =ROUND(E96*F96,2) -> 0 | H96: 628 | I96: =ROUND(E96*H96,2) -> 628 | J96: 0 | K96: =ROUND(E96*J96,2) -> 0 | L96: 21 | M96: =G96*(1+L96/100) -> 0 | N96: 0.00014 | O96: =ROUND(E96*N96,2) -> 0 | P96: 0 | Q96: =ROUND(E96*P96,2) -> 0 | S96: Vlastní | T96: Indiv | U96: 0 | V96: =ROUND(E96*U96,2) -> 0 | X96: Specifikace | Y96: Běžná | AG96: POL3_
C97: viz příloha D.2.1.1, D.2.1.2.1, D.2.1.2.2 : | AG97: VV | AH97: 0
C98: T-kus : 1,00 | E98: 1 | AG98: VV | AH98: 0
A99: 31 | B99: 31945315R20/20 | C99: T- kus 90° nerez DN 20/20 | D99: kus | E99: 2 | G99: =ROUND(E99*F99,2) -> 0 | H99: 530 | I99: =ROUND(E99*H99,2) -> 1060 | J99: 0 | K99: =ROUND(E99*J99,2) -> 0 | L99: 21 | M99: =G99*(1+L99/100) -> 0 | N99: 0.00014 | O99: =ROUND(E99*N99,2) -> 0 | P99: 0 | Q99: =ROUND(E99*P99,2) -> 0 | S99: Vlastní | T99: Indiv | U99: 0 | V99: =ROUND(E99*U99,2) -> 0 | X99: Specifikace | Y99: Běžná | AG99: POL3_
C100: viz příloha D.2.1.1, D.2.1.2.1, D.2.1.2.2 : | AG100: VV | AH100: 0
C101: T-kus : 2,00 | E101: 2 | AG101: VV | AH101: 0
A102: 32 | B102: 31946412R150 | C102: Příruba nerez DN 150 | D102: kus | E102: 1 | G102: =ROUND(E102*F102,2) -> 0 | H102: 4750 | I102: =ROUND(E102*H102,2) -> 4750 | J102: 0 | K102: =ROUND(E102*J102,2) -> 0 | L102: 21 | M102: =G102*(1+L102/100) -> 0 | N102: 0.00778 | O102: =ROUND(E102*N102,2) -> 0.01 | P102: 0 | Q102: =ROUND(E102*P102,2) -> 0 | S102: Vlastní | T102: Indiv | U102: 0 | V102: =ROUND(E102*U102,2) -> 0 | X102: Specifikace | Y102: Běžná | AG102: POL3_
...

Sheet PS-01 PS-01.2 Pol
A1: Položkový soupis prací a dodávek | AG1: #TypZaznamu#
A2: S: | B2: 1625923-72 | C2: Obec Chuchelna - lokalita Bačov a Komárov - doplnění a obnova vodohospodářské infrastruktury | AG2: STA
A3: O: | B3: PS-01 | C3: Strojně-technologická část | AC3: PRO | AG3: OBJ
A4: R: | B4: PS-01.2 | C4: Šachta nad vrtem - trubní vystrojení | AG4: ROZ
A6: P.č. | B6: Číslo položky | C6: Název položky | D6: MJ | E6: Množství | F6: Cena / MJ | G6: Celkem | H6: Dodávka | I6: Dodávka celk. | J6: Montáž | K6: Montáž celk. | L6: DPH | M6: Cena s DPH | N6: Hmotnost / MJ | O6: Hmotnost celk.(t) | P6: Dem. hmotnost / MJ | Q6: Dem. hmotnost celk.(t) | R6: Ceník | S6: Cen. soustava / platnost | T6: Cenová úroveň | U6: Nhod / MJ | V6: Nhod celk. | W6: Dodavatel | X6: Typ položky | Y6: Stav položky
A8: Díl: | B8: 8 | C8: Trubní vedení | G8: =SUMIF(AG9:AG76,"<>NOR",G9:G76) -> 0 | I8: =SUM(I9:I76) -> 105926.95 | K8: =SUM(K9:K76) -> 124710 | M8: =SUM(M9:M76) -> 0 | O8: =SUM(O9:O76) -> 0.25 | Q8: =SUM(Q9:Q76) -> 0.07 | V8: =SUM(V9:V76) -> 14.62 | AG8: DIL
A9: 1 | B9: 001 | C9: Potrubí - nerez ocel 1.4541 D 54 x 2 mm, dodávka a montáž | D9: m | E9: 30.15 | G9: =ROUND(E9*F9,2) -> 0 | H9: 2813 | I9: =ROUND(E9*H9,2) -> 84811.95 | J9: 0 | K9: =ROUND(E9*J9,2) -> 0 | L9: 21 | M9: =G9*(1+L9/100) -> 0 | N9: 0.00563 | O9: =ROUND(E9*N9,2) -> 0.17 | P9: 0 | Q9: =ROUND(E9*P9,2) -> 0 | S9: Vlastní | T9: Indiv | U9: 0 | V9: =ROUND(E9*U9,2) -> 0 | X9: Práce | Y9: Běžná | AG9: POL1_
C10: alternativně nerez ocel 1.4401 | AG10: POP
C11: včetně zástrčného spoje hagudosta po 6m na potrubí ve vrtu | AG11: POP
C12: viz příloha D.2.1.1, D.2.1.3 : | AG12: VV | AH12: 0
C13: potrubí DN50 : | AG13: VV | AH13: 0
C14: ve vrtu : 28,50 | E14: 28.5 | AG14: VV | AH14: 0
C15: v šachtě : 1,65 | E15: 1.65 | AG15: VV | AH15: 0
A16: 2 | B16: 002 | C16: Šoupátko E3 s ručním kolem DN 50, dodávka a montáž | D16: kus | E16: 1 | G16: =ROUND(E16*F16,2) -> 0 | H16: 7530 | I16: =ROUND(E16*H16,2) -> 7530 | J16: 0 | K16: =ROUND(E16*J16,2) -> 0 | L16: 21 | M16: =G16*(1+L16/100) -> 0 | N16: 0.011 | O16: =ROUND(E16*N16,2) -> 0.01 | P16: 0 | Q16: =ROUND(E16*P16,2) -> 0 | S16: Vlastní | T16: Indiv | U16: 0 | V16: =ROUND(E16*U16,2) -> 0 | X16: Práce | Y16: Běžná | AG16: POL1_
C17: viz příloha D.2.1.1, D.2.1.3 : | AG17: VV | AH17: 0
C18: šoupě : 1 | E18: 1 | AG18: VV | AH18: 0
A19: 3 | B19: 003 | C19: Příruba s jištěním proti posunu nerez DN 50, dodávka a montáž | D19: kus | E19: 1 | G19: =ROUND(E19*F19,2) -> 0 | H19: 0 | I19: =ROUND(E19*H19,2) -> 0 | J19: 3240 | K19: =ROUND(E19*J19,2) -> 3240 | L19: 21 | M19: =G19*(1+L19/100) -> 0 | N19: 0 | O19: =ROUND(E19*N19,2) -> 0 | P19: 0 | Q19: =ROUND(E19*P19,2) -> 0 | S19: Vlastní | T19: Indiv | U19: 0 | V19: =ROUND(E19*U19,2) -> 0 | X19: Práce | Y19: Běžná | AG19: POL1_
C20: viz příloha D.2.1.1, D.2.1.3 : | AG20: VV | AH20: 0
C21: příruba s jištěním proti posunu : 1 | E21: 1 | AG21: VV | AH21: 0
A22: 4 | B22: 004 | C22: Zpětná klapka nerez DN 50, dodávka a montáž | D22: kus | E22: 1 | G22: =ROUND(E22*F22,2) -> 0 | H22: 6306 | I22: =ROUND(E22*H22,2) -> 6306 | J22: 0 | K22: =ROUND(E22*J22,2) -> 0 | L22: 21 | M22: =G22*(1+L22/100) -> 0 | N22: 0.0075 | O22: =ROUND(E22*N22,2) -> 0.01 | P22: 0 | Q22: =ROUND(E22*P22,2) -> 0 | S22: Vlastní | T22: Indiv | U22: 0 | V22: =ROUND(E22*U22,2) -> 0 | X22: Práce | Y22: Běžná | AG22: POL1_
C23: viz příloha D.2.1.1, D.2.1.3 : | AG23: VV | AH23: 0
C24: zpětná klapka : 1 | E24: 1 | AG24: VV | AH24: 0
A25: 5 | B25: 005 | C25: Příruba nerez DN 50, dodávka a montáž | D25: kus | E25: 1 | G25: =ROUND(E25*F25,2) -> 0 | H25: 2587 | I25: =ROUND(E25*H25,2) -> 2587 | J25: 0 | K25: =ROUND(E25*J25,2) -> 0 | L25: 21 | M25: =G25*(1+L25/100) -> 0 | N25: 0.00252 | O25: =ROUND(E25*N25,2) -> 0 | P25: 0 | Q25: =ROUND(E25*P25,2) -> 0 | S25: Vlastní | T25: Indiv | U25: 0 | V25: =ROUND(E25*U25,2) -> 0 | X25: Práce | Y25: Běžná | AG25: POL1_
C26: viz příloha D.2.1.1, D.2.1.3 : | AG26: VV | AH26: 0
C27: příruba : 1 | E27: 1 | AG27: VV | AH27: 0
A28: 6 | B28: 006 | C28: Potrubní spojka na nerez potrubí DN 50, dodávka a montáž | D28: kus | E28: 1 | G28: =ROUND(E28*F28,2) -> 0 | H28: 2932 | I28: =ROUND(E28*H28,2) -> 2932 | J28: 0 | K28: =ROUND(E28*J28,2) -> 0 | L28: 21 | M28: =G28*(1+L28/100) -> 0 | N28: 0.0008 | O28: =ROUND(E28*N28,2) -> 0 | P28: 0 | Q28: =ROUND(E28*P28,2) -> 0 | S28: Vlastní | T28: Indiv | U28: 0 | V28: =ROUND(E28*U28,2) -> 0 | X28: Práce | Y28: Běžná | AG28: POL1_
C29: viz příloha D.2.1.1, D.2.1.3 : | AG29: VV | AH29: 0
C30: spojka : 1 | E30: 1 | AG30: VV | AH30: 0
A31: 7 | B31: 007 | C31: Koleno 90° nerez DN 50, dodávka a montáž | D31: kus | E31: 1 | G31: =ROUND(E31*F31,2) -> 0 | H31: 1760 | I31: =ROUND(E31*H31,2) -> 1760 | J31: 0 | K31: =ROUND(E31*J31,2) -> 0 | L31: 21 | M31: =G31*(1+L31/100) -> 0 | N31: 0.00036 | O31: =ROUND(E31*N31,2) -> 0 | P31: 0 | Q31: =ROUND(E31*P31,2) -> 0 | S31: Vlastní | T31: Indiv | U31: 0 | V31: =ROUND(E31*U31,2) -> 0 | X31: Práce | Y31: Běžná | AG31: POL1_
C32: viz příloha D.2.1.1, D.2.1.3 : | AG32: VV | AH32: 0
C33: koleno : 1 | E33: 1 | AG33: VV | AH33: 0
A34: 8 | B34: 008 | C34: Ponorné čerpadlo Grundfos Q=0,56 l/s, H=33,0m, P=0,55kW, dodávka a montáž | D34: kompl | E34: 1 | G34: =ROUND(E34*F34,2) -> 0 | H34: 0 | I34: =ROUND(E34*H34,2) -> 0 | J34: 25000 | K34: =ROUND(E34*J34,2) -> 25000 | L34: 21 | M34: =G34*(1+L34/100) -> 0 | N34: 0.03799 | O34: =ROUND(E34*N34,2) -> 0.04 | P34: 0 | Q34: =ROUND(E34*P34,2) -> 0 | S34: Vlastní | T34: Indiv | U34: 6.3 | V34: =ROUND(E34*U34,2) -> 6.3 | X34: Práce | Y34: Běžná | AG34: POL1_
C35: 2x Celonerezové vertikální čerpadlo | AG35: POP
C36: Parametry 1 čerpadla: Qč = cca 1 l/s, při Hč = 74 m v.s.; 2.2 kW, 4,65 A, 2 890 -2910 ot/min, IP 55, hmotnost 45.4 kg. | AG36: POP | BA36: =C36 -> Parametry 1 čerpadla: Qč = cca 1 l/s, při Hč = 74 m v.s.; 2.2 kW, 4,65 A, 2 890 -2910 ot/min, IP 55, hmotnost 45.4 kg.
C37: Komplet vč. tlakové nádoby 150 l, rozvaděče a dalšího příslušenství.a dalšího příslušenství. | AG37: POP
C38: viz příloha D.2.1.1, D.2.1.3 : | AG38: VV | AH38: 0
C39: čerpadla : 1,00 | E39: 1 | AG39: VV | AH39: 0
A40: 9 | B40: 009 | C40: Kalové čerpadlo s plovákovým spínačem Q=1,6 l/s, h=3,0m, P=0,06kW, dodávka a montáž, včetně tvarovek pro napojení na potrubí D32 | D40: kus | E40: 1 | G40: =ROUND(E40*F40,2) -> 0 | H40: 0 | I40: =ROUND(E40*H40,2) -> 0 | J40: 6848 | K40: =ROUND(E40*J40,2) -> 6848 | L40: 21 | M40: =G40*(1+L40/100) -> 0 | N40: 0 | O40: =ROUND(E40*N40,2) -> 0 | P40: 0 | Q40: =ROUND(E40*P40,2) -> 0 | S40: Vlastní | T40: Indiv | U40: 0 | V40: =ROUND(E40*U40,2) -> 0 | X40: Práce | Y40: Běžná | AG40: POL1_
C41: napojení na potrubí D32 : | AG41: POP
C42: = elektrokoleno D32 ... 1ks | AG42: POP
C43: = ISO násuvná spojka se závitem D25 ... 2ks | AG43: POP
C44: = mosazná zpětná klapka 1" ... 1ks | AG44: POP
C45: = ISO spojka redukovaná D32/25 ... 1ks | AG45: POP
C46: viz příloha D.2.1.1 : | AG46: VV | AH46: 0
C47: osazeno v čerpací jímce na dně šachty : 1 | E47: 1 | AG47: VV | AH47: 0
A48: 10 | B48: 010 | C48: Nátrubek 2" se zátkou, dodávka a montáž | D48: kus | E48: 1 | G48: =ROUND(E48*F48,2) -> 0 | H48: 0 | I48: =ROUND(E48*H48,2) -> 0 | J48: 1040 | K48: =ROUND(E48*J48,2) -> 1040 | L48: 21 | M48: =G48*(1+L48/100) -> 0 | N48: 0 | O48: =ROUND(E48*N48,2) -> 0 | P48: 0 | Q48: =ROUND(E48*P48,2) -> 0 | S48: Vlastní | T48: Indiv | U48: 0 | V48: =ROUND(E48*U48,2) -> 0 | X48: Práce | Y48: Běžná | AG48: POL1_
C49: viz příloha D.2.1.1, D.2.1.3 : | AG49: VV | AH49: 0
C50: nátrubek se zátkou : 1 | E50: 1 | AG50: VV | AH50: 0
A51: 11 | B51: 011 | C51: Nátrubek 2" se zátkou s kabelovou průchodkou, dodávka a montáž | D51: kus | E51: 1 | G51: =ROUND(E51*F51,2) -> 0 | H51: 0 | I51: =ROUND(E51*H51,2) -> 0 | J51: 1620 | K51: =ROUND(E51*J51,2) -> 1620 | L51: 21 | M51: =G51*(1+L51/100) -> 0 | N51: 0 | O51: =ROUND(E51*N51,2) -> 0 | P51: 0 | Q51: =ROUND(E51*P51,2) -> 0 | S51: Vlastní | T51: Indiv | U51: 0 | V51: =ROUND(E51*U51,2) -> 0 | X51: Práce | Y51: Běžná | AG51: POL1_
C52: viz příloha D.2.1.1, D.2.1.3 : | AG52: VV | AH52: 0
C53: nátrubek se zátkou a kabelovou průchodkou : 1 | E53: 1 | AG53: VV | AH53: 0
A54: 12 | B54: 012 | C54: Zaslepovací příruba pro potrubí a kabely DN 500, dodávka a montáž | D54: kus | E54: 1 | G54: =ROUND(E54*F54,2) -> 0 | H54: 0 | I54: =ROUND(E54*H54,2) -> 0 | J54: 28000 | K54: =ROUND(E54*J54,2) -> 28000 | L54: 21 | M54: =G54*(1+L54/100) -> 0 | N54: 0 | O54: =ROUND(E54*N54,2) -> 0 | P54: 0 | Q54: =ROUND(E54*P54,2) -> 0 | S54: Vlastní | T54: Indiv | U54: 0 | V54: =ROUND(E54*U54,2) -> 0 | X54: Práce | Y54: Běžná | AG54: POL1_
C55: viz příloha D.2.1.1, D.2.1.3 : | AG55: VV | AH55: 0
C56: zaslep.příruba : 1 | E56: 1 | AG56: VV | AH56: 0
A57: 13 | B57: 013 | C57: Příruba nerez DN 500, dodávka a montáž | D57: kus | E57: 1 | G57: =ROUND(E57*F57,2) -> 0 | H57: 0 | I57: =ROUND(E57*H57,2) -> 0 | J57: 42000 | K57: =ROUND(E57*J57,2) -> 42000 | L57: 21 | M57: =G57*(1+L57/100) -> 0 | N57: 0 | O57: =ROUND(E57*N57,2) -> 0 | P57: 0 | Q57: =ROUND(E57*P57,2) -> 0 | S57: Vlastní | T57: Indiv | U57: 0 | V57: =ROUND(E57*U57,2) -> 0 | X57: Práce | Y57: Běžná | AG57: POL1_
C58: viz příloha D.2.1.1, D.2.1.3 : | AG58: VV | AH58: 0
C59: příruba DN500 : 1 | E59: 1 | AG59: VV | AH59: 0
A60: 14 | B60: 014 | C60: Potrubí - nerez ocel 1.4541 DN 500, dodávka a montáž | D60: m | E60: 0.5 | G60: =ROUND(E60*F60,2) -> 0 | H60: 0 | I60: =ROUND(E60*H60,2) -> 0 | J60: 7200 | K60: =ROUND(E60*J60,2) -> 3600 | L60: 21 | M60: =G60*(1+L60/100) -> 0 | N60: 0 | O60: =ROUND(E60*N60,2) -> 0 | P60: 0 | Q60: =ROUND(E60*P60,2) -> 0 | S60: Vlastní | T60: Indiv | U60: 0 | V60: =ROUND(E60*U60,2) -> 0 | X60: Práce | Y60: Běžná | AG60: POL1_
C61: viz příloha D.2.1.1, D.2.1.3 : | AG61: VV | AH61: 0
C62: potrubí DN500 : 0,5 | E62: 0.5 | AG62: VV | AH62: 0
A63: 15 | B63: 015 | C63: Nerez límec D 508/708 plech tl.8mm včetně podtmelení, dodávka a montáž | D63: kus | E63: 1 | G63: =ROUND(E63*F63,2) -> 0 | H63: 0 | I63: =ROUND(E63*H63,2) -> 0 | J63: 5500 | K63: =ROUND(E63*J63,2) -> 5500 | L63: 21 | M63: =G63*(1+L63/100) -> 0 | N63: 0 | O63: =ROUND(E63*N63,2) -> 0 | P63: 0 | Q63: =ROUND(E63*P63,2) -> 0 | S63: Vlastní | T63: Indiv | U63: 0 | V63: =ROUND(E63*U63,2) -> 0 | X63: Práce | Y63: Běžná | AG63: POL1_
C64: viz příloha D.2.1.1, D.2.1.3 : | AG64: VV | AH64: 0
C65: nerez límec : 1 | E65: 1 | AG65: VV | AH65: 0
A66: 16 | B66: 016 | C66: Vrtání a těsnění horizontálního prostupu dobetonováním a bobtnavým páskem DN150, vč. potřebné úpravy | D66: kus | E66: 2 | G66: =ROUND(E66*F66,2) -> 0 | H66: 0 | I66: =ROUND(E66*H66,2) -> 0 | J66: 2681 | K66: =ROUND(E66*J66,2) -> 5362 | L66: 21 | M66: =G66*(1+L66/100) -> 0 | N66: 0.00204 | O66: =ROUND(E66*N66,2) -> 0 | P66: 0.03617 | Q66: =ROUND(E66*P66,2) -> 0.07 | S66: Vlastní | T66: Indiv | U66: 4 | V66: =ROUND(E66*U66,2) -> 8 | X66: Práce | Y66: Běžná | AG66: POL1_
C67: viz příloha D.2.1.1, D.2.1.3 : | AG67: VV | AH67: 0
C68: vrtání a těsnění : | AG68: VV | AH68: 0
C69: prostup pro potrubí D63 : 1 | E69: 1 | AG69: VV | AH69: 0
C70: prostup pro potrubí D32 : 1 | E70: 1 | AG70: VV | AH70: 0
A71: 17 | B71: 017 | C71: Ochrana potrubí, armatur a zařízení při stavebních pracích vhodnými obaly | D71: kompl | E71: 1 | G71: =ROUND(E71*F71,2) -> 0 | H71: 0 | I71: =ROUND(E71*H71,2) -> 0 | J71: 1000 | K71: =ROUND(E71*J71,2) -> 1000 | L71: 21 | M71: =G71*(1+L71/100) -> 0 | N71: 0.01778 | O71: =ROUND(E71*N71,2) -> 0.02 | P71: 0 | Q71: =ROUND(E71*P71,2) -> 0 | S71: Vlastní | T71: Indiv | U71: 0.05 | V71: =ROUND(E71*U71,2) -> 0.05 | X71: Práce | Y71: Běžná | AG71: POL1_
C72: viz příloha D.2.1.1, D.2.1.2.1, D.2.1.2.2 : | AG72: VV | AH72: 0
C73: ochrana : 1,00 | E73: 1 | AG73: VV | AH73: 0
A74: 18 | B74: 018 | C74: Přírubové a ostatní spoje - spojovací materiál a kotevní materiál nerez, dodávka a montáž, (těsnění, šrouby a podložky z nerez oceli, matky nerez ap.) | D74: kompl | E74: 1 | G74: =ROUND(E74*F74,2) -> 0 | H74: 0 | I74: =ROUND(E74*H74,2) -> 0 | J74: 1500 | K74: =ROUND(E74*J74,2) -> 1500 | L74: 21 | M74: =G74*(1+L74/100) -> 0 | N74: 0 | O74: =ROUND(E74*N74,2) -> 0 | P74: 0 | Q74: =ROUND(E74*P74,2) -> 0 | S74: Vlastní | T74: Indiv | U74: 0.27 | V74: =ROUND(E74*U74,2) -> 0.27 | X74: Práce | Y74: Běžná | AG74: POL1_
C75: viz příloha D.2.1.1, D.2.1.3 : | AG75: VV | AH75: 0
C76: spoje : 1,00 | E76: 1 | AG76: VV | AH76: 0
AE77: 12 | AF77: 21 | AG77: DPH
B78: Celkem | G78: =G8 -> 0 | AE78: =SUMIF(L7:L76,AE77,G7:G76) -> 0 | AF78: =SUMIF(L7:L76,AF77,G7:G76) -> 0 | AG78: SUM
A79: JKSO:
B80: 825.55 | C80: šachty čerpací | AG80: JKSO
B81: m | C81: způsob rozpojování hloubení z povrchu území | AG81: JKSOChar
C82: rekonstrukce a modernizace objektu s opravou | AG82: JKSOAkce
AG84: END

Sheet PS-02 PS-02.1 Pol
A1: Položkový soupis prací a dodávek | AG1: #TypZaznamu#
A2: S: | B2: 1625923-72 | C2: Obec Chuchelna - lokalita Bačov a Komárov - doplnění a obnova vodohospodářské infrastruktury | AG2: STA
A3: O: | B3: PS-02 | C3: Elektro-technologická část | AC3: PRO | AG3: OBJ
A4: R: | B4: PS-02.1 | C4: Elektro-technologická část | AG4: ROZ
A6: P.č. | B6: Číslo položky | C6: Název položky | D6: MJ | E6: Množství | F6: Cena / MJ | G6: Celkem | H6: Dodávka | I6: Dodávka celk. | J6: Montáž | K6: Montáž celk. | L6: DPH | M6: Cena s DPH | N6: Hmotnost / MJ | O6: Hmotnost celk.(t) | P6: Dem. hmotnost / MJ | Q6: Dem. hmotnost celk.(t) | R6: Ceník | S6: Cen. soustava / platnost | T6: Cenová úroveň | U6: Nhod / MJ | V6: Nhod celk. | W6: Dodavatel | X6: Typ položky | Y6: Stav položky
A8: Díl: | B8: M01.2 | C8: Rozvaděč RMD1 | G8: =SUMIF(AG9:AG94,"<>NOR",G9:G94) -> 0 | I8: =SUM(I9:I94) -> 357286.8 | K8: =SUM(K9:K94) -> 128000 | M8: =SUM(M9:M94) -> 0 | O8: =SUM(O9:O94) -> 0 | Q8: =SUM(Q9:Q94) -> 0 | V8: =SUM(V9:V94) -> 0 | AG8: DIL
A9: 1 | B9: 01.2EM01 | C9: D - Typový plastový rozvaděč RMD1 | D9: kompl | E9: 1 | G9: =ROUND(E9*F9,2) -> 0 | H9: 46818 | I9: =ROUND(E9*H9,2) -> 46818 | J9: 0 | K9: =ROUND(E9*J9,2) -> 0 | L9: 21 | M9: =G9*(1+L9/100) -> 0 | N9: 0 | O9: =ROUND(E9*N9,2) -> 0 | P9: 0 | Q9: =ROUND(E9*P9,2) -> 0 | S9: Vlastní | T9: Indiv | U9: 0 | V9: =ROUND(E9*U9,2) -> 0 | X9: Specifikace | Y9: Běžná | AG9: POL3_
C10: Plastový ropzvaděč o celkových předpokládaných rozměrech v. 1500 x š. 1000 x h. 320 mm, s montážním plechem a DIN lištami a příslušenstvím (zámek FAB, ...). Krytí IP54/IP20, přívody a vývody vrchem. | AG10: POP | BA10: =C10 -> Plastový ropzvaděč o celkových předpokládaných rozměrech v. 1500 x š. 1000 x h. 320 mm, s montážním plechem a DIN lištami a příslušenstvím (zámek FAB, ...). Krytí IP54/IP20, přívody a vývody vrchem.
A11: 2 | B11: 01.2EM02 | C11: D - Přípojnice Cu pro In=63A | D11: kpl | E11: 1 | G11: =ROUND(E11*F11,2) -> 0 | H11: 1690 | I11: =ROUND(E11*H11,2) -> 1690 | J11: 0 | K11: =ROUND(E11*J11,2) -> 0 | L11: 21 | M11: =G11*(1+L11/100) -> 0 | N11: 0 | O11: =ROUND(E11*N11,2) -> 0 | P11: 0 | Q11: =ROUND(E11*P11,2) -> 0 | S11: Vlastní | T11: Indiv | U11: 0 | V11: =ROUND(E11*U11,2) -> 0 | X11: Specifikace | Y11: Běžná | AG11: POL3_
A12: 3 | B12: 01.2EM03 | C12: D - Trojpólová ochrana proti přepětí 400V, typ 1+2 | D12: ks | E12: 1 | G12: =ROUND(E12*F12,2) -> 0 | H12: 9763 | I12: =ROUND(E12*H12,2) -> 9763 | J12: 0 | K12: =ROUND(E12*J12,2) -> 0 | L12: 21 | M12: =G12*(1+L12/100) -> 0 | N12: 0 | O12: =ROUND(E12*N12,2) -> 0 | P12: 0 | Q12: =ROUND(E12*P12,2) -> 0 | S12: Vlastní | T12: Indiv | U12: 0 | V12: =ROUND(E12*U12,2) -> 0 | X12: Specifikace | Y12: Běžná | AG12: POL3_
C13: Trojpólová ochrana proti přepětí, typ 1+2 na vstupu, výměnné moduly, signalizace, síť TN-C. Přepěťové ochrany pro PRS, MaR, ASŘ a komunikace budou dodány od jednoho výrobce !!! | AG13: POP | BA13: =C13 -> Trojpólová ochrana proti přepětí, typ 1+2 na vstupu, výměnné moduly, signalizace, síť TN-C. Přepěťové ochrany pro PRS, MaR, ASŘ a komunikace budou dodány od jednoho výrobce !!!
A14: 4 | B14: 01.2EM04 | C14: D - Trojpólový vypínač 63A/400V pro montáž na dveře | D14: ks | E14: 1 | G14: =ROUND(E14*F14,2) -> 0 | H14: 1244 | I14: =ROUND(E14*H14,2) -> 1244 | J14: 0 | K14: =ROUND(E14*J14,2) -> 0 | L14: 21 | M14: =G14*(1+L14/100) -> 0 | N14: 0 | O14: =ROUND(E14*N14,2) -> 0 | P14: 0 | Q14: =ROUND(E14*P14,2) -> 0 | S14: Vlastní | T14: Indiv | U14: 0 | V14: =ROUND(E14*U14,2) -> 0 | X14: Specifikace | Y14: Běžná | AG14: POL3_
A15: 5 | B15: 01.2EM05 | C15: D - Dvojpólová ochrana proti přepětí 230V, typ 3 | D15: ks | E15: 1 | G15: =ROUND(E15*F15,2) -> 0 | H15: 2265 | I15: =ROUND(E15*H15,2) -> 2265 | J15: 0 | K15: =ROUND(E15*J15,2) -> 0 | L15: 21 | M15: =G15*(1+L15/100) -> 0 | N15: 0 | O15: =ROUND(E15*N15,2) -> 0 | P15: 0 | Q15: =ROUND(E15*P15,2) -> 0 | S15: Vlastní | T15: Indiv | U15: 0 | V15: =ROUND(E15*U15,2) -> 0 | X15: Specifikace | Y15: Běžná | AG15: POL3_
C16: Dvojpólová ochrana proti přepětí, typ 3 před zařízením MaR,ASŘ, vf filtr, výměnné moduly, signalizace, síť TN-S včetně předjištění. Přepěťové ochrany pro PRS, MaR, ASŘ a komunikace budou dodány od jednoho výrobce !!! | AG16: POP | BA16: =C16 -> Dvojpólová ochrana proti přepětí, typ 3 před zařízením MaR,ASŘ, vf filtr, výměnné moduly, signalizace, síť TN-S včetně předjištění. Přepěťové ochrany pro PRS, MaR, ASŘ a komunikace budou dodány od jednoho výrobce !!!
A17: 6 | B17: 01.2EM06 | C17: D- Pojistkový odpínač do 3x125A, včetně pojistek 3x100A gG, řadové svorky | D17: kpl | E17: 1 | G17: =ROUND(E17*F17,2) -> 0 | H17: 2265 | I17: =ROUND(E17*H17,2) -> 2265 | J17: 0 | K17: =ROUND(E17*J17,2) -> 0 | L17: 21 | M17: =G17*(1+L17/100) -> 0 | N17: 0 | O17: =ROUND(E17*N17,2) -> 0 | P17: 0 | Q17: =ROUND(E17*P17,2) -> 0 | S17: Vlastní | T17: Indiv | U17: 0 | V17: =ROUND(E17*U17,2) -> 0 | X17: Specifikace | Y17: Běžná | AG17: POL3_
A18: 7 | B18: 01.2EM07 | C18: D - Rázová oddělovací tlumivka 16A | D18: ks | E18: 2 | G18: =ROUND(E18*F18,2) -> 0 | H18: 705 | I18: =ROUND(E18*H18,2) -> 1410 | J18: 0 | K18: =ROUND(E18*J18,2) -> 0 | L18: 21 | M18: =G18*(1+L18/100) -> 0 | N18: 0 | O18: =ROUND(E18*N18,2) -> 0 | P18: 0 | Q18: =ROUND(E18*P18,2) -> 0 | S18: Vlastní | T18: Indiv | U18: 0 | V18: =ROUND(E18*U18,2) -> 0 | X18: Specifikace | Y18: Běžná | AG18: POL3_
A19: 8 | B19: 01.2EM08 | C19: D - Vyhodnocovací síťové relé 400V | D19: kpl | E19: 1 | G19: =ROUND(E19*F19,2) -> 0 | H19: 3300 | I19: =ROUND(E19*H19,2) -> 3300 | J19: 0 | K19: =ROUND(E19*J19,2) -> 0 | L19: 21 | M19: =G19*(1+L19/100) -> 0 | N19: 0 | O19: =ROUND(E19*N19,2) -> 0 | P19: 0 | Q19: =ROUND(E19*P19,2) -> 0 | S19: Vlastní | T19: Indiv | U19: 0 | V19: =ROUND(E19*U19,2) -> 0 | X19: Specifikace | Y19: Běžná | AG19: POL3_
C20: Vyhodnocovací síťové relé 400V včetně odjištění | AG20: POP
A21: 9 | B21: 01.2EM09 | C21: D - Indikační signálka LED 230V | D21: ks | E21: 1 | G21: =ROUND(E21*F21,2) -> 0 | H21: 435 | I21: =ROUND(E21*H21,2) -> 435 | J21: 0 | K21: =ROUND(E21*J21,2) -> 0 | L21: 21 | M21: =G21*(1+L21/100) -> 0 | N21: 0 | O21: =ROUND(E21*N21,2) -> 0 | P21: 0 | Q21: =ROUND(E21*P21,2) -> 0 | S21: Vlastní | T21: Indiv | U21: 0 | V21: =ROUND(E21*U21,2) -> 0 | X21: Specifikace | Y21: Běžná | AG21: POL3_
C22: Indikační signálka LED 230V, bílá, včetně odjištění | AG22: POP
A23: 10 | B23: 01.2EM10 | C23: D - Temperace rozvaděče 230V | D23: kpl | E23: 1 | G23: =ROUND(E23*F23,2) -> 0 | H23: 4800 | I23: =ROUND(E23*H23,2) -> 4800 | J23: 0 | K23: =ROUND(E23*J23,2) -> 0 | L23: 21 | M23: =G23*(1+L23/100) -> 0 | N23: 0 | O23: =ROUND(E23*N23,2) -> 0 | P23: 0 | Q23: =ROUND(E23*P23,2) -> 0 | S23: Vlastní | T23: Indiv | U23: 0 | V23: =ROUND(E23*U23,2) -> 0 | X23: Specifikace | Y23: Běžná | AG23: POL3_
C24: El.topné těleso 150W, 230V pro montáž do rozvaděče, termostat na DIN včetně odjištění | AG24: POP
A25: 11 | B25: 01.2EM11 | C25: D - Osvětlení rozvaděče 230V | D25: kpl | E25: 1 | G25: =ROUND(E25*F25,2) -> 0 | H25: 2910 | I25: =ROUND(E25*H25,2) -> 2910 | J25: 0 | K25: =ROUND(E25*J25,2) -> 0 | L25: 21 | M25: =G25*(1+L25/100) -> 0 | N25: 0 | O25: =ROUND(E25*N25,2) -> 0 | P25: 0 | Q25: =ROUND(E25*P25,2) -> 0 | S25: Vlastní | T25: Indiv | U25: 0 | V25: =ROUND(E25*U25,2) -> 0 | X25: Specifikace | Y25: Běžná | AG25: POL3_
C26: Zářivkové svítidlo 11W, 230V, IP20 s vlastním vypínačem včetně odjištění | AG26: POP
A27: 12 | B27: 01.2EM12 | C27: D - Odjištěný vývod napájení PZTS | D27: ks | E27: 1 | G27: =ROUND(E27*F27,2) -> 0 | H27: 194 | I27: =ROUND(E27*H27,2) -> 194 | J27: 0 | K27: =ROUND(E27*J27,2) -> 0 | L27: 21 | M27: =G27*(1+L27/100) -> 0 | N27: 0 | O27: =ROUND(E27*N27,2) -> 0 | P27: 0 | Q27: =ROUND(E27*P27,2) -> 0 | S27: Vlastní | T27: Indiv | U27: 0 | V27: =ROUND(E27*U27,2) -> 0 | X27: Specifikace | Y27: Běžná | AG27: POL3_
C28: Odjištěný vývod jističem 6B/1 napájení ústředny PZTS. Řadové svorky. | AG28: POP
A29: 13 | B29: 01.2EM13 | C29: D - Jistič jednopólový 6/1/B, 6A | D29: ks | E29: 1 | G29: =ROUND(E29*F29,2) -> 0 | H29: 174 | I29: =ROUND(E29*H29,2) -> 174 | J29: 0 | K29: =ROUND(E29*J29,2) -> 0 | L29: 21 | M29: =G29*(1+L29/100) -> 0 | N29: 0 | O29: =ROUND(E29*N29,2) -> 0 | P29: 0 | Q29: =ROUND(E29*P29,2) -> 0 | S29: Vlastní | T29: Indiv | U29: 0 | V29: =ROUND(E29*U29,2) -> 0 | X29: Specifikace | Y29: Běžná | AG29: POL3_
A30: 14 | B30: 01.2EM14 | C30: D - Jistič jednopólový 10/1/B, 10A | D30: ks | E30: 1 | G30: =ROUND(E30*F30,2) -> 0 | H30: 144 | I30: =ROUND(E30*H30,2) -> 144 | J30: 0 | K30: =ROUND(E30*J30,2) -> 0 | L30: 21 | M30: =G30*(1+L30/100) -> 0 | N30: 0 | O30: =ROUND(E30*N30,2) -> 0 | P30: 0 | Q30: =ROUND(E30*P30,2) -> 0 | S30: Vlastní | T30: Indiv | U30: 0 | V30: =ROUND(E30*U30,2) -> 0 | X30: Specifikace | Y30: Běžná | AG30: POL3_
A31: 15 | B31: 01.2EM15 | C31: D - Jistič trojpólový 16/1/B, 16A | D31: ks | E31: 1 | G31: =ROUND(E31*F31,2) -> 0 | H31: 120 | I31: =ROUND(E31*H31,2) -> 120 | J31: 0 | K31: =ROUND(E31*J31,2) -> 0 | L31: 21 | M31: =G31*(1+L31/100) -> 0 | N31: 0 | O31: =ROUND(E31*N31,2) -> 0 | P31: 0 | Q31: =ROUND(E31*P31,2) -> 0 | S31: Vlastní | T31: Indiv | U31: 0 | V31: =ROUND(E31*U31,2) -> 0 | X31: Specifikace | Y31: Běžná | AG31: POL3_
A32: 16 | B32: 01.2EM16 | C32: D - Proudový chránič 40A/4/0,03A, 40A | D32: ks | E32: 1 | G32: =ROUND(E32*F32,2) -> 0 | H32: 3954 | I32: =ROUND(E32*H32,2) -> 3954 | J32: 0 | K32: =ROUND(E32*J32,2) -> 0 | L32: 21 | M32: =G32*(1+L32/100) -> 0 | N32: 0 | O32: =ROUND(E32*N32,2) -> 0 | P32: 0 | Q32: =ROUND(E32*P32,2) -> 0 | S32: Vlastní | T32: Indiv | U32: 0 | V32: =ROUND(E32*U32,2) -> 0 | X32: Specifikace | Y32: Běžná | AG32: POL3_
A33: 17 | B33: 01.2EM17 | C33: D - Odjištěný vývod pro zásuvkovou skříň | D33: kpl | E33: 2 | G33: =ROUND(E33*F33,2) -> 0 | H33: 852 | I33: =ROUND(E33*H33,2) -> 1704 | J33: 0 | K33: =ROUND(E33*J33,2) -> 0 | L33: 21 | M33: =G33*(1+L33/100) -> 0 | N33: 0 | O33: =ROUND(E33*N33,2) -> 0 | P33: 0 | Q33: =ROUND(E33*P33,2) -> 0 | S33: Vlastní | T33: Indiv | U33: 0 | V33: =ROUND(E33*U33,2) -> 0 | X33: Specifikace | Y33: Běžná | AG33: POL3_
C34: Odjištěný vývod jističem 20B/3 pro zásuvkovou skříň v provedení 2x230/16, 1x400/32/5P za společným proudovým chráničem 40/4/0,03. Proudový chránič je samostatná položka. Řadové svorky. | AG34: POP | BA34: =C34 -> Odjištěný vývod jističem 20B/3 pro zásuvkovou skříň v provedení 2x230/16, 1x400/32/5P za společným proudovým chráničem 40/4/0,03. Proudový chránič je samostatná položka. Řadové svorky.
A35: 18 | B35: 01.2EM18 | C35: D - Odjištěný vývod pro zásuvku temperace, 230V | D35: kpl | E35: 1 | G35: =ROUND(E35*F35,2) -> 0 | H35: 1638 | I35: =ROUND(E35*H35,2) -> 1638 | J35: 0 | K35: =ROUND(E35*J35,2) -> 0 | L35: 21 | M35: =G35*(1+L35/100) -> 0 | N35: 0 | O35: =ROUND(E35*N35,2) -> 0 | P35: 0 | Q35: =ROUND(E35*P35,2) -> 0 | S35: Vlastní | T35: Indiv | U35: 0 | V35: =ROUND(E35*U35,2) -> 0 | X35: Specifikace | Y35: Běžná | AG35: POL3_
C36: Odjištěný vývod pro zásuvku temperace 230V, jistič za společným proudovým chráničem. Proudový chránič je samostatná položka. Povelové relé a řadové svorky. | AG36: POP | BA36: =C36 -> Odjištěný vývod pro zásuvku temperace 230V, jistič za společným proudovým chráničem. Proudový chránič je samostatná položka. Povelové relé a řadové svorky.
A37: 19 | B37: 01.2EM19 | C37: D - Odjištěný vývod pro okruh osvětlení | D37: kpl | E37: 2 | G37: =ROUND(E37*F37,2) -> 0 | H37: 2239 | I37: =ROUND(E37*H37,2) -> 4478 | J37: 0 | K37: =ROUND(E37*J37,2) -> 0 | L37: 21 | M37: =G37*(1+L37/100) -> 0 | N37: 0 | O37: =ROUND(E37*N37,2) -> 0 | P37: 0 | Q37: =ROUND(E37*P37,2) -> 0 | S37: Vlastní | T37: Indiv | U37: 0 | V37: =ROUND(E37*U37,2) -> 0 | X37: Specifikace | Y37: Běžná | AG37: POL3_
C38: Odjištěný vývod proudovým chráničem s nadproudovou ochranou 10C/1N/0,03. Řadové svorky. | AG38: POP
A39: 20 | B39: 01.2EM20 | C39: D - Odjištěný vývod pro nereverzovaný pohon 400V | D39: kpl | E39: 2 | G39: =ROUND(E39*F39,2) -> 0 | H39: 6213 | I39: =ROUND(E39*H39,2) -> 12426 | J39: 0 | K39: =ROUND(E39*J39,2) -> 0 | L39: 21 | M39: =G39*(1+L39/100) -> 0 | N39: 0 | O39: =ROUND(E39*N39,2) -> 0 | P39: 0 | Q39: =ROUND(E39*P39,2) -> 0 | S39: Vlastní | T39: Indiv | U39: 0 | V39: =ROUND(E39*U39,2) -> 0 | X39: Specifikace | Y39: Běžná | AG39: POL3_
C40: Odjištěný vývod motorovým spouštěčem pro čerpadlo (M1, M2) o výkonu do 2,2 kW, 400V, přímý rozběh, stykač. Ovládací napětí 24V DC - pojistková řadová svorkovnice s LED signalizací ovládacího obvodu, pomocná, povelová relé. Řadové svorky. | AG40: POP | BA40: =C40 -> Odjištěný vývod motorovým spouštěčem pro čerpadlo (M1, M2) o výkonu do 2,2 kW, 400V, přímý rozběh, stykač. Ovládací napětí 24V DC - pojistková řadová svorkovnice s LED signalizací ovládacího obvodu, pomocná, povelová relé. Řadové svorky.
C41: Třípolohový přepínač R-0-A - 1ks, signálka CHOD, PORUCHA - 2ks. | AG41: POP
A42: 21 | B42: 01.2EM21 | C42: D - Odjištěný vývod pro nereverzovaný pohon 400V | D42: kpl | E42: 1 | G42: =ROUND(E42*F42,2) -> 0 | H42: 9279 | I42: =ROUND(E42*H42,2) -> 9279 | J42: 0 | K42: =ROUND(E42*J42,2) -> 0 | L42: 21 | M42: =G42*(1+L42/100) -> 0 | N42: 0 | O42: =ROUND(E42*N42,2) -> 0 | P42: 0 | Q42: =ROUND(E42*P42,2) -> 0 | S42: Vlastní | T42: Indiv | U42: 0 | V42: =ROUND(E42*U42,2) -> 0 | X42: Specifikace | Y42: Běžná | AG42: POL3_
C43: Odjištěný vývod motorovým spouštěčem + proudový chránič 30mA pro čerpadlo (M4) o výkonu do 0,6 kW, 400V, přímý rozběh, stykač. Ovládací napětí 24V DC - pojistková řadová svorkovnice s LED signalizací ovládacího obvodu, pomocná, povelová relé. Řadové svorky. | AG43: POP | BA43: =C43 -> Odjištěný vývod motorovým spouštěčem + proudový chránič 30mA pro čerpadlo (M4) o výkonu do 0,6 kW, 400V, přímý rozběh, stykač. Ovládací napětí 24V DC - pojistková řadová svorkovnice s LED signalizací ovládacího obvodu, pomocná, povelová relé. Řadové svorky.
C44: Třípolohový přepínač R-0-A - 1ks, signálka CHOD, PORUCHA - 2ks. | AG44: POP
A45: 22 | B45: 01.2EM22 | C45: D - Odjištěný vývod pro reverzovaný pohon 400V | D45: kpl | E45: 3 | G45: =ROUND(E45*F45,2) -> 0 | H45: 9862 | I45: =ROUND(E45*H45,2) -> 29586 | J45: 0 | K45: =ROUND(E45*J45,2) -> 0 | L45: 21 | M45: =G45*(1+L45/100) -> 0 | N45: 0 | O45: =ROUND(E45*N45,2) -> 0 | P45: 0 | Q45: =ROUND(E45*P45,2) -> 0 | S45: Vlastní | T45: Indiv | U45: 0 | V45: =ROUND(E45*U45,2) -> 0 | X45: Specifikace | Y45: Běžná | AG45: POL3_
C46: Odjištěný vývod motorovým spouštěčem pro (M3, M6, M7) reverzovaný pohon (servopohon) o výkonu do 0,75 kW, 400V, přímý rozběh, stykače. Pojistková řadová svorkovnice s LED signalizací ovládacího obvodu, pomocná, povelová relé. Třípolohový přepínač R-0-A - 1ks, třípolohový přepínač ZAV-0-OTE - 1ks, signálka OTEVŘENO, ZAVŘENO, PORUCHA - 3ks. Ovládací napětí 24V DC. Řadové svorky. | AG46: POP | BA46: =C46 -> Odjištěný vývod motorovým spouštěčem pro (M3, M6, M7) reverzovaný pohon (servopohon) o výkonu do 0,75 kW, 400V, přímý rozběh, stykače. Pojistková řadová svorkovnice s LED signalizací ovládacího obvodu, pomocná, povelová relé. Třípolohový přepínač R-0-A - 1ks, třípolohový přepínač ZAV-0-OTE - 1ks, signálka OTEVŘENO, ZAVŘENO, PORUCHA - 3ks. Ovládací napětí 24V DC. Řadové svorky.
A47: 23 | B47: 01.2EM23 | C47: D - Vývod pro čerpadlo podlahových vod 230V | D47: kpl | E47: 1 | G47: =ROUND(E47*F47,2) -> 0 | H47: 1834 | I47: =ROUND(E47*H47,2) -> 1834 | J47: 0 | K47: =ROUND(E47*J47,2) -> 0 | L47: 21 | M47: =G47*(1+L47/100) -> 0 | N47: 0 | O47: =ROUND(E47*N47,2) -> 0 | P47: 0 | Q47: =ROUND(E47*P47,2) -> 0 | S47: Vlastní | T47: Indiv | U47: 0 | V47: =ROUND(E47*U47,2) -> 0 | X47: Specifikace | Y47: Běžná | AG47: POL3_
C48: Vývod vybavený kombichráničem pro zásuvku čerpadla podlahových vod (M5) o výkonu do 0,55 kW, 230V, přímý rozběh (čerpadlo s vlastním plovákem), Proudový chránič s nadproudovou ochranou 10B/1N/0,03, reziduální proud 30mA. Řadové svorky. | AG48: POP | BA48: =C48 -> Vývod vybavený kombichráničem pro zásuvku čerpadla podlahových vod (M5) o výkonu do 0,55 kW, 230V, přímý rozběh (čerpadlo s vlastním plovákem), Proudový chránič s nadproudovou ochranou 10B/1N/0,03, reziduální proud 30mA. Řadové svorky.
A49: 24 | B49: 01.2EM24 | C49: D - Odjištěný vývod pro dávkovací čerpadlo, 230V | D49: kpl | E49: 2 | G49: =ROUND(E49*F49,2) -> 0 | H49: 2878 | I49: =ROUND(E49*H49,2) -> 5756 | J49: 0 | K49: =ROUND(E49*J49,2) -> 0 | L49: 21 | M49: =G49*(1+L49/100) -> 0 | N49: 0 | O49: =ROUND(E49*N49,2) -> 0 | P49: 0 | Q49: =ROUND(E49*P49,2) -> 0 | S49: Vlastní | T49: Indiv | U49: 0 | V49: =ROUND(E49*U49,2) -> 0 | X49: Specifikace | Y49: Běžná | AG49: POL3_
C50: Odjištěný vývod proudovým chráničem 6B/1N/0.03A s nadproudovou ochranou, stykač, pomocná, povelová relé, Ovládací napětí 230V. Řadové svorky. | AG50: POP | BA50: =C50 -> Odjištěný vývod proudovým chráničem 6B/1N/0.03A s nadproudovou ochranou, stykač, pomocná, povelová relé, Ovládací napětí 230V. Řadové svorky.
A51: 25 | B51: 01.2EM25 | C51: D - Zásuvka na DIN, 230V | D51: kpl | E51: 1 | G51: =ROUND(E51*F51,2) -> 0 | H51: 565 | I51: =ROUND(E51*H51,2) -> 565 | J51: 0 | K51: =ROUND(E51*J51,2) -> 0 | L51: 21 | M51: =G51*(1+L51/100) -> 0 | N51: 0 | O51: =ROUND(E51*N51,2) -> 0 | P51: 0 | Q51: =ROUND(E51*P51,2) -> 0 | S51: Vlastní | T51: Indiv | U51: 0 | V51: =ROUND(E51*U51,2) -> 0 | X51: Specifikace | Y51: Běžná | AG51: POL3_
C52: Zásuvka na lištu DIN, včetně odjištění. | AG52: POP
A53: 26 | B53: 01.2EM26 | C53: D - Odjištěný vývod čidlo MaR 24V DC, výstupy 1x 4-20mA | D53: kpl | E53: 2 | G53: =ROUND(E53*F53,2) -> 0 | H53: 181 | I53: =ROUND(E53*H53,2) -> 362 | J53: 0 | K53: =ROUND(E53*J53,2) -> 0 | L53: 21 | M53: =G53*(1+L53/100) -> 0 | N53: 0 | O53: =ROUND(E53*N53,2) -> 0 | P53: 0 | Q53: =ROUND(E53*P53,2) -> 0 | S53: Vlastní | T53: Indiv | U53: 0 | V53: =ROUND(E53*U53,2) -> 0 | X53: Specifikace | Y53: Běžná | AG53: POL3_
C54: Odjištěný vývod pojistkovou řadovou svorkovnicí s LED signalizací pro senzor MaR s analogovým výstupem 1x4-20mA. Řadové svorky. | AG54: POP | BA54: =C54 -> Odjištěný vývod pojistkovou řadovou svorkovnicí s LED signalizací pro senzor MaR s analogovým výstupem 1x4-20mA. Řadové svorky.
A55: 27 | B55: 01.2EM27 | C55: D - Odjištěný vývod čidlo MaR 24V DC, výstup 4-20mA | D55: ks | E55: 1 | G55: =ROUND(E55*F55,2) -> 0 | H55: 2300 | I55: =ROUND(E55*H55,2) -> 2300 | J55: 0 | K55: =ROUND(E55*J55,2) -> 0 | L55: 21 | M55: =G55*(1+L55/100) -> 0 | N55: 0 | O55: =ROUND(E55*N55,2) -> 0 | P55: 0 | Q55: =ROUND(E55*P55,2) -> 0 | S55: Vlastní | T55: Indiv | U55: 0 | V55: =ROUND(E55*U55,2) -> 0 | X55: Specifikace | Y55: Běžná | AG55: POL3_
C56: Odjištěný vývod pojistkovou řadovou svorkovnicí s LED signalizací pro senzor MaR s analogovým výstupem 4-20mA, 24V DC, včetně přepěťových ochran na vstupu do ŘS. Řadové svorky. | AG56: POP | BA56: =C56 -> Odjištěný vývod pojistkovou řadovou svorkovnicí s LED signalizací pro senzor MaR s analogovým výstupem 4-20mA, 24V DC, včetně přepěťových ochran na vstupu do ŘS. Řadové svorky.
A57: 28 | B57: 01.2EM28 | C57: D - Odjištěný vývod čidlo MaR 24V DC, výstupy 2x 0/1 | D57: kpl | E57: 1 | G57: =ROUND(E57*F57,2) -> 0 | H57: 1500 | I57: =ROUND(E57*H57,2) -> 1500 | J57: 0 | K57: =ROUND(E57*J57,2) -> 0 | L57: 21 | M57: =G57*(1+L57/100) -> 0 | N57: 0 | O57: =ROUND(E57*N57,2) -> 0 | P57: 0 | Q57: =ROUND(E57*P57,2) -> 0 | S57: Vlastní | T57: Indiv | U57: 0 | V57: =ROUND(E57*U57,2) -> 0 | X57: Specifikace | Y57: Běžná | AG57: POL3_
C58: Odjištěný vývod pojistkovou řadovou svorkovnicí s LED signalizací pro senzor MaR s 2 x digitálním výstupem 0/1. Pomocná relé. Řadové svorky. | AG58: POP | BA58: =C58 -> Odjištěný vývod pojistkovou řadovou svorkovnicí s LED signalizací pro senzor MaR s 2 x digitálním výstupem 0/1. Pomocná relé. Řadové svorky.
A59: 29 | B59: 01.2EM29 | C59: D - Odjištěný vývod čidlo MaR 24V DC, výstup 0/1 | D59: ks | E59: 4 | G59: =ROUND(E59*F59,2) -> 0 | H59: 802 | I59: =ROUND(E59*H59,2) -> 3208 | J59: 0 | K59: =ROUND(E59*J59,2) -> 0 | L59: 21 | M59: =G59*(1+L59/100) -> 0 | N59: 0 | O59: =ROUND(E59*N59,2) -> 0 | P59: 0 | Q59: =ROUND(E59*P59,2) -> 0 | S59: Vlastní | T59: Indiv | U59: 0 | V59: =ROUND(E59*U59,2) -> 0 | X59: Specifikace | Y59: Běžná | AG59: POL3_
C60: Odjištěný vývod pojistkovou řadovou svorkovnicí s LED signalizací pro senzor MaR s digitálním výstupem 0/1, pomocné relé. Řadové svorky. | AG60: POP | BA60: =C60 -> Odjištěný vývod pojistkovou řadovou svorkovnicí s LED signalizací pro senzor MaR s digitálním výstupem 0/1, pomocné relé. Řadové svorky.
A61: 30 | B61: 01.2EM30 | C61: D - Odjištěný vývod čidlo MaR 24V DC, výstupy 1x 4-20mA + 2x 0/1 | D61: ks | E61: 1 | G61: =ROUND(E61*F61,2) -> 0 | H61: 1221 | I61: =ROUND(E61*H61,2) -> 1221 | J61: 0 | K61: =ROUND(E61*J61,2) -> 0 | L61: 21 | M61: =G61*(1+L61/100) -> 0 | N61: 0 | O61: =ROUND(E61*N61,2) -> 0 | P61: 0 | Q61: =ROUND(E61*P61,2) -> 0 | S61: Vlastní | T61: Indiv | U61: 0 | V61: =ROUND(E61*U61,2) -> 0 | X61: Specifikace | Y61: Běžná | AG61: POL3_
C62: Odjištěný vývod pojistkovou řadovou svorkovnicí s LED signalizací pro senzor MaR s analogovým výstupem 1x4-20mA a 2 x digitálním výstupem 0/1. Pomocná relé. Řadové svorky. | AG62: POP | BA62: =C62 -> Odjištěný vývod pojistkovou řadovou svorkovnicí s LED signalizací pro senzor MaR s analogovým výstupem 1x4-20mA a 2 x digitálním výstupem 0/1. Pomocná relé. Řadové svorky.
A63: 31 | B63: 01.2EM31 | C63: D - Pojistková řadová svorkovnice 250V, do 10A s LED | D63: ks | E63: 4 | G63: =ROUND(E63*F63,2) -> 0 | H63: 74 | I63: =ROUND(E63*H63,2) -> 296 | J63: 0 | K63: =ROUND(E63*J63,2) -> 0 | L63: 21 | M63: =G63*(1+L63/100) -> 0 | N63: 0 | O63: =ROUND(E63*N63,2) -> 0 | P63: 0 | Q63: =ROUND(E63*P63,2) -> 0 | S63: Vlastní | T63: Indiv | U63: 0 | V63: =ROUND(E63*U63,2) -> 0 | X63: Specifikace | Y63: Běžná | AG63: POL3_
A64: 32 | B64: 01.2EM32 | C64: D - Přístrojová pojistka skleněná 048A/do 1A | D64: ks | E64: 4 | G64: =ROUND(E64*F64,2) -> 0 | H64: 6 | I64: =ROUND(E64*H64,2) -> 24 | J64: 0 | K64: =ROUND(E64*J64,2) -> 0 | L64: 21 | M64: =G64*(1+L64/100) -> 0 | N64: 0 | O64: =ROUND(E64*N64,2) -> 0 | P64: 0 | Q64: =ROUND(E64*P64,2) -> 0 | S64: Vlastní | T64: Indiv | U64: 0 | V64: =ROUND(E64*U64,2) -> 0 | X64: Specifikace | Y64: Běžná | AG64: POL3_
A65: 33 | B65: 01.2EM33 | C65: D - Relé 24V DC, 4P včetně patice | D65: ks | E65: 4 | G65: =ROUND(E65*F65,2) -> 0 | H65: 379 | I65: =ROUND(E65*H65,2) -> 1516 | J65: 0 | K65: =ROUND(E65*J65,2) -> 0 | L65: 21 | M65: =G65*(1+L65/100) -> 0 | N65: 0 | O65: =ROUND(E65*N65,2) -> 0 | P65: 0 | Q65: =ROUND(E65*P65,2) -> 0 | S65: Vlastní | T65: Indiv | U65: 0 | V65: =ROUND(E65*U65,2) -> 0 | X65: Specifikace | Y65: Běžná | AG65: POL3_
A66: 34 | B66: 01.2EM34 | C66: D - Relé 24V DC, 2P včetně patice | D66: ks | E66: 4 | G66: =ROUND(E66*F66,2) -> 0 | H66: 375 | I66: =ROUND(E66*H66,2) -> 1500 | J66: 0 | K66: =ROUND(E66*J66,2) -> 0 | L66: 21 | M66: =G66*(1+L66/100) -> 0 | N66: 0 | O66: =ROUND(E66*N66,2) -> 0 | P66: 0 | Q66: =ROUND(E66*P66,2) -> 0 | S66: Vlastní | T66: Indiv | U66: 0 | V66: =ROUND(E66*U66,2) -> 0 | X66: Specifikace | Y66: Běžná | AG66: POL3_
A67: 35 | B67: 01.2EM35 | C67: D - Napájecí zdroj AC/DC+dobíječ, 230V AC/13,8V DC, 5A | D67: kpl | E67: 1 | G67: =ROUND(E67*F67,2) -> 0 | H67: 6830 | I67: =ROUND(E67*H67,2) -> 6830 | J67: 0 | K67: =ROUND(E67*J67,2) -> 0 | L67: 21 | M67: =G67*(1+L67/100) -> 0 | N67: 0 | O67: =ROUND(E67*N67,2) -> 0 | P67: 0 | Q67: =ROUND(E67*P67,2) -> 0 | S67: Vlastní | T67: Indiv | U67: 0 | V67: =ROUND(E67*U67,2) -> 0 | X67: Specifikace | Y67: Běžná | AG67: POL3_
C68: Napájecí zdroj AC/DC+dobíječ, 230V AC/13,8V DC, 5A, včetně odjištění | AG68: POP
A69: 36 | B69: 01.2EM36 | C69: D - Akumulátor, 7,2Ah | D69: ks | E69: 1 | G69: =ROUND(E69*F69,2) -> 0 | H69: 705 | I69: =ROUND(E69*H69,2) -> 705 | J69: 0 | K69: =ROUND(E69*J69,2) -> 0 | L69: 21 | M69: =G69*(1+L69/100) -> 0 | N69: 0 | O69: =ROUND(E69*N69,2) -> 0 | P69: 0 | Q69: =ROUND(E69*P69,2) -> 0 | S69: Vlastní | T69: Indiv | U69: 0 | V69: =ROUND(E69*U69,2) -> 0 | X69: Specifikace | Y69: Běžná | AG69: POL3_
A70: 37 | B70: 01.2EM37 | C70: D - Řadové svorky | D70: kpl | E70: 1 | G70: =ROUND(E70*F70,2) -> 0 | H70: 975 | I70: =ROUND(E70*H70,2) -> 975 | J70: 0 | K70: =ROUND(E70*J70,2) -> 0 | L70: 21 | M70: =G70*(1+L70/100) -> 0 | N70: 0 | O70: =ROUND(E70*N70,2) -> 0 | P70: 0 | Q70: =ROUND(E70*P70,2) -> 0 | S70: Vlastní | T70: Indiv | U70: 0 | V70: =ROUND(E70*U70,2) -> 0 | X70: Specifikace | Y70: Běžná | AG70: POL3_
A71: 38 | B71: 01.2EM38 | C71: D - Kabelové vývodky | D71: kpl | E71: 1 | G71: =ROUND(E71*F71,2) -> 0 | H71: 4000 | I71: =ROUND(E71*H71,2) -> 4000 | J71: 0 | K71: =ROUND(E71*J71,2) -> 0 | L71: 21 | M71: =G71*(1+L71/100) -> 0 | N71: 0 | O71: =ROUND(E71*N71,2) -> 0 | P71: 0 | Q71: =ROUND(E71*P71,2) -> 0 | S71: Vlastní | T71: Indiv | U71: 0 | V71: =ROUND(E71*U71,2) -> 0 | X71: Specifikace | Y71: Běžná | AG71: POL3_
A72: 39 | B72: 01.2EM39 | C72: D - Sběrnice PEN | D72: kpl | E72: 1 | G72: =ROUND(E72*F72,2) -> 0 | H72: 600 | I72: =ROUND(E72*H72,2) -> 600 | J72: 0 | K72: =ROUND(E72*J72,2) -> 0 | L72: 21 | M72: =G72*(1+L72/100) -> 0 | N72: 0 | O72: =ROUND(E72*N72,2) -> 0 | P72: 0 | Q72: =ROUND(E72*P72,2) -> 0 | S72: Vlastní | T72: Indiv | U72: 0 | V72: =ROUND(E72*U72,2) -> 0 | X72: Specifikace | Y72: Běžná | AG72: POL3_
A73: 40 | B73: 01.2EM40 | C73: D - Sběrnice N | D73: kpl | E73: 1 | G73: =ROUND(E73*F73,2) -> 0 | H73: 600 | I73: =ROUND(E73*H73,2) -> 600 | J73: 0 | K73: =ROUND(E73*J73,2) -> 0 | L73: 21 | M73: =G73*(1+L73/100) -> 0 | N73: 0 | O73: =ROUND(E73*N73,2) -> 0 | P73: 0 | Q73: =ROUND(E73*P73,2) -> 0 | S73: Vlastní | T73: Indiv | U73: 0 | V73: =ROUND(E73*U73,2) -> 0 | X73: Specifikace | Y73: Běžná | AG73: POL3_
A74: 41 | B74: 01.2EM41 | C74: D - Sběrnice PE | D74: kpl | E74: 1 | G74: =ROUND(E74*F74,2) -> 0 | H74: 600 | I74: =ROUND(E74*H74,2) -> 600 | J74: 0 | K74: =ROUND(E74*J74,2) -> 0 | L74: 21 | M74: =G74*(1+L74/100) -> 0 | N74: 0 | O74: =ROUND(E74*N74,2) -> 0 | P74: 0 | Q74: =ROUND(E74*P74,2) -> 0 | S74: Vlastní | T74: Indiv | U74: 0 | V74: =ROUND(E74*U74,2) -> 0 | X74: Specifikace | Y74: Běžná | AG74: POL3_
A75: 42 | B75: 01.2EM42 | C75: D - Úložný a nosný materiál | D75: kpl | E75: 1 | G75: =ROUND(E75*F75,2) -> 0 | H75: 600 | I75: =ROUND(E75*H75,2) -> 600 | J75: 0 | K75: =ROUND(E75*J75,2) -> 0 | L75: 21 | M75: =G75*(1+L75/100) -> 0 | N75: 0 | O75: =ROUND(E75*N75,2) -> 0 | P75: 0 | Q75: =ROUND(E75*P75,2) -> 0 | S75: Vlastní | T75: Indiv | U75: 0 | V75: =ROUND(E75*U75,2) -> 0 | X75: Specifikace | Y75: Běžná | AG75: POL3_
A76: 43 | B76: 01.2EM43 | C76: D - Drobný montážní materiál | D76: kpl | E76: 1 | G76: =ROUND(E76*F76,2) -> 0 | H76: 600 | I76: =ROUND(E76*H76,2) -> 600 | J76: 0 | K76: =ROUND(E76*J76,2) -> 0 | L76: 21 | M76: =G76*(1+L76/100) -> 0 | N76: 0 | O76: =ROUND(E76*N76,2) -> 0 | P76: 0 | Q76: =ROUND(E76*P76,2) -> 0 | S76: Vlastní | T76: Indiv | U76: 0 | V76: =ROUND(E76*U76,2) -> 0 | X76: Specifikace | Y76: Běžná | AG76: POL3_
A77: 44 | B77: 01.2EM44 | C77: M - Osazení přístrojů do rozvaděče včetně prodrátování | D77: kpl | E77: 1 | G77: =ROUND(E77*F77,2) -> 0 | H77: 49917.8 | I77: =ROUND(E77*H77,2) -> 49917.8 | J77: 0 | K77: =ROUND(E77*J77,2) -> 0 | L77: 21 | M77: =G77*(1+L77/100) -> 0 | N77: 0 | O77: =ROUND(E77*N77,2) -> 0 | P77: 0 | Q77: =ROUND(E77*P77,2) -> 0 | S77: Vlastní | T77: Indiv | U77: 0 | V77: =ROUND(E77*U77,2) -> 0 | X77: Práce | Y77: Běžná | AG77: POL1_
A78: 45 | B78: 01.2EM45 | C78: D - Zpracování projekční realizační a výrobní dokumentace rozvaděče dle dodaných komponent | D78: kpl | E78: 1 | G78: =ROUND(E78*F78,2) -> 0 | H78: 10500 | I78: =ROUND(E78*H78,2) -> 10500 | J78: 0 | K78: =ROUND(E78*J78,2) -> 0 | L78: 21 | M78: =G78*(1+L78/100) -> 0 | N78: 0 | O78: =ROUND(E78*N78,2) -> 0 | P78: 0 | Q78: =ROUND(E78*P78,2) -> 0 | S78: Vlastní | T78: Indiv | U78: 0 | V78: =ROUND(E78*U78,2) -> 0 | X78: Práce | Y78: Běžná | AG78: POL1_
A79: 46 | B79: 01.2EM46 | C79: D+M - Řídicí systém | D79: kpl | E79: 1 | G79: =ROUND(E79*F79,2) -> 0 | H79: 120680 | I79: =ROUND(E79*H79,2) -> 120680 | J79: 128000 | K79: =ROUND(E79*J79,2) -> 128000 | L79: 21 | M79: =G79*(1+L79/100) -> 0 | N79: 0 | O79: =ROUND(E79*N79,2) -> 0 | P79: 0 | Q79: =ROUND(E79*P79,2) -> 0 | S79: Vlastní | T79: Indiv | U79: 0 | V79: =ROUND(E79*U79,2) -> 0 | X79: Práce | Y79: Běžná | AG79: POL1_9
C80: Řídící systém PLC | AG80: POP
C81: Počet uvedených vstupů/výstupů: | AG81: POP
C82: 45xDI, 5xAI, 13xDO +20% rezerva, 1x RS485, 1xRS232/485, Ethernet Procesorová karta, | AG82: POP | BA82: =C82 -> 45xDI, 5xAI, 13xDO +20% rezerva, 1x RS485, 1xRS232/485, Ethernet Procesorová karta,
C83: Karty digitálních a analogových vstupů a výstupů 24V DC, 4-20mA | AG83: POP
C84: Komunikační karta, | AG84: POP
C85: Grafický panel HMI, 4,3" montáž do dveří, IP54, komunikace Modbus | AG85: POP
C86: Včetně propojovací kabeláže, koncovek a drobného materiálu. | AG86: POP
C87: • SW analýza (zadání pro SW) | AG87: POP
C88: • zpracování veličin, řídicí programy | AG88: POP
C89: • přenos dat a komunikace | AG89: POP
C90: • místní vizualizace | AG90: POP
C91: • SW PLC | AG91: POP
C92: Poznámka: | AG92: POP
C93: Zařízení musí být kompatibilní se stávajícím zařízením provozovatele! | AG93: POP
C94: Po dokončení prací bude investorovi předána záloha aplikačních programů PLC (USB flash disk nebo CD) | AG94: POP
A95: Díl: | B95: M02 | C95: Montážní materiál | G95: =SUMIF(AG96:AG136,"<>NOR",G96:G136) -> 0 | I95: =SUM(I96:I136) -> 79256 | K95: =SUM(K96:K136) -> 51385 | M95: =SUM(M96:M136) -> 0 | O95: =SUM(O96:O136) -> 0 | Q95: =SUM(Q96:Q136) -> 0 | V95: =SUM(V96:V136) -> 0 | AG95: DIL
A96: 47 | B96: 02EM01 | C96: D+M - Kabel s měděným jádrem CYKY-J 4x10 | D96: m | E96: 15 | G96: =ROUND(E96*F96,2) -> 0 | H96: 86 | I96: =ROUND(E96*H96,2) -> 1290 | J96: 47 | K96: =ROUND(E96*J96,2) -> 705 | L96: 21 | M96: =G96*(1+L96/100) -> 0 | N96: 0 | O96: =ROUND(E96*N96,2) -> 0 | P96: 0 | Q96: =ROUND(E96*P96,2) -> 0 | S96: Vlastní | T96: Indiv | U96: 0 | V96: =ROUND(E96*U96,2) -> 0 | X96: Práce | Y96: Běžná | AG96: POL1_9
A97: 48 | B97: 02EM02 | C97: D+M - Kabel směděným jádrem CYKY-J 3x1,5 | D97: m | E97: 144 | G97: =ROUND(E97*F97,2) -> 0 | H97: 15 | I97: =ROUND(E97*H97,2) -> 2160 | J97: 40 | K97: =ROUND(E97*J97,2) -> 5760 | L97: 21 | M97: =G97*(1+L97/100) -> 0 | N97: 0 | O97: =ROUND(E97*N97,2) -> 0 | P97: 0 | Q97: =ROUND(E97*P97,2) -> 0 | S97: Vlastní | T97: Indiv | U97: 0 | V97: =ROUND(E97*U97,2) -> 0 | X97: Práce | Y97: Běžná | AG97: POL1_9
A98: 49 | B98: 02EM03 | C98: D+M - Kabel směděným jádrem CYKY-J 3x2,5 | D98: m | E98: 36 | G98: =ROUND(E98*F98,2) -> 0 | H98: 23 | I98: =ROUND(E98*H98,2) -> 828 | J98: 40 | K98: =ROUND(E98*J98,2) -> 1440 | L98: 21 | M98: =G98*(1+L98/100) -> 0 | N98: 0 | O98: =ROUND(E98*N98,2) -> 0 | P98: 0 | Q98: =ROUND(E98*P98,2) -> 0 | S98: Vlastní | T98: Indiv | U98: 0 | V98: =ROUND(E98*U98,2) -> 0 | X98: Práce | Y98: Běžná | AG98: POL1_9
A99: 50 | B99: 02EM04 | C99: D+M - Kabel směděným jádrem CYKY-J 4x1,5 | D99: m | E99: 54 | G99: =ROUND(E99*F99,2) -> 0 | H99: 19 | I99: =ROUND(E99*H99,2) -> 1026 | J99: 40 | K99: =ROUND(E99*J99,2) -> 2160 | L99: 21 | M99: =G99*(1+L99/100) -> 0 | N99: 0 | O99: =ROUND(E99*N99,2) -> 0 | P99: 0 | Q99: =ROUND(E99*P99,2) -> 0 | S99: Vlastní | T99: Indiv | U99: 0 | V99: =ROUND(E99*U99,2) -> 0 | X99: Práce | Y99: Běžná | AG99: POL1_9
A100: 51 | B100: 02EM05 | C100: D+M - Kabel směděným jádrem CYKY-J 4x2,5 | D100: m | E100: 60 | G100: =ROUND(E100*F100,2) -> 0 | H100: 28 | I100: =ROUND(E100*H100,2) -> 1680 | J100: 40 | K100: =ROUND(E100*J100,2) -> 2400 | L100: 21 | M100: =G100*(1+L100/100) -> 0 | N100: 0 | O100: =ROUND(E100*N100,2) -> 0 | P100: 0 | Q100: =ROUND(E100*P100,2) -> 0 | S100: Vlastní | T100: Indiv | U100: 0 | V100: =ROUND(E100*U100,2) -> 0 | X100: Práce | Y100: Běžná | AG100: POL1_9
A101: 52 | B101: 02EM06 | C101: D+M - Kabel směděným jádrem CYKY-J 5x6 | D101: m | E101: 30 | G101: =ROUND(E101*F101,2) -> 0 | H101: 96 | I101: =ROUND(E101*H101,2) -> 2880 | J101: 48 | K101: =ROUND(E101*J101,2) -> 1440 | L101: 21 | M101: =G101*(1+L101/100) -> 0 | N101: 0 | O101: =ROUND(E101*N101,2) -> 0 | P101: 0 | Q101: =ROUND(E101*P101,2) -> 0 | S101: Vlastní | T101: Indiv | U101: 0 | V101: =ROUND(E101*U101,2) -> 0 | X101: Práce | Y101: Běžná | AG101: POL1_9
A102: 53 | B102: 02EM07 | C102: D+M - Kabel směděným jádrem CYKY-J 7x1,5 | D102: m | E102: 78 | G102: =ROUND(E102*F102,2) -> 0 | H102: 35 | I102: =ROUND(E102*H102,2) -> 2730 | J102: 42 | K102: =ROUND(E102*J102,2) -> 3276 | L102: 21 | M102: =G102*(1+L102/100) -> 0 | N102: 0 | O102: =ROUND(E102*N102,2) -> 0 | P102: 0 | Q102: =ROUND(E102*P102,2) -> 0 | S102: Vlastní | T102: Indiv | U102: 0 | V102: =ROUND(E102*U102,2) -> 0 | X102: Práce | Y102: Běžná | AG102: POL1_9
...
