Workbook

Sheet Rekapitulace stavby
A1: Export Komplet | BA1: 2.0 | BT1: False | BU1: False | BV1: {aeb41aa5-56c9-4d09-b43b-f56ba1839215}
AR2: >> skryté sloupce << | BS2: 0,01 | BT2: 21
BS3: 0,01 | BT3: 15
D4: REKAPITULACE STAVBY | AS4: v --- níže se nacházejí doplnkové a pomocné údaje k sestavám --- v | BS4: 0,001
D5: Kód: | K5: 20210049 | BS5: 0,01
D6: Stavba: | K6: Semily - obnova vodovodní shybky u sauny | BS6: 0,01
D7: KSO: | AK7: CC-CZ: | BS7: 0,01
D8: Místo: | K8: Semily | AK8: Datum: | AN8: 19. 4. 2022 | BS8: 0,01
BS9: 0,01
D10: Zadavatel: | AK10: IČ: | BS10: 0,01
E11: VHS Turnov, Antonína Dvořáka 287, 511 01 Turnov | AK11: DIČ: | BS11: 0,01
BS12: 0,01
D13: Zhotovitel: | AK13: IČ: | BS13: 0,01
E14: Dle výběrového řízení | AK14: DIČ: | BS14: 0,01
BS15: False
D16: Projektant: | AK16: IČ: | AN16: 26003236 | BS16: False
E17: ŠINDLAR s.r.o. | AK17: DIČ: | AN17: CZ 260 03 236 | BS17: True
BS18: 0,01
D19: Zpracovatel: | AK19: IČ: | BS19: 0,01
E20: Roman Bárta | AK20: DIČ: | BS20: False
D22: Poznámka:
E23: Soupis prací je sestaven s využitím Cenové soustavy ÚRS. Položky, které pochází z této cenové soustavy, jsou ve sloupci 'Cenová soustava' označeny popisem 'CS ÚRS' a úrovní příslušného kalendářního pololetí. Veškeré další informace vymezující popis a podmínky použití těchto položek z Cenové soustavy, které nejsou uvedeny přímo v soupisu prací, jsou neomezeně dálkově k dispozici na webu podminky.urs.cz.
D26: Cena bez DPH | AK26: =ROUND(AG94,2) -> 100000
L28: Sazba daně | W28: Základ daně | AK28: Výše daně
D29: DPH | F29: základní | L29: 0.21 | W29: =ROUND(AZ94, 2) -> 100000 | AK29: =ROUND(AV94, 2) -> 21000
F30: snížená | L30: 0.15 | W30: =ROUND(BA94, 2) -> 0 | AK30: =ROUND(AW94, 2) -> 0
F31: zákl. přenesená | L31: 0.21 | W31: =ROUND(BB94, 2) -> 0 | AK31: 0
F32: sníž. přenesená | L32: 0.15 | W32: =ROUND(BC94, 2) -> 0 | AK32: 0
F33: nulová | L33: 0 | W33: =ROUND(BD94, 2) -> 0 | AK33: 0
D35: Cena s DPH | T35: v | X35: CZK | AK35: =SUM(AK26:AK33) -> 121000
D49: Projektant | AH49: Zpracovatel
D60: Datum a podpis: | V60: Razítko | AH60: Datum a podpis: | AM60: Razítko
D64: Objednavatel | AH64: Zhotovitel
D75: Datum a podpis: | V75: Razítko | AH75: Datum a podpis: | AM75: Razítko
C82: REKAPITULACE OBJEKTŮ STAVBY A SOUPISŮ PRACÍ
C84: Kód: | L84: =K5 -> 20210049
C85: Stavba: | L85: =K6 -> Semily - obnova vodovodní shybky u sauny
C87: Místo: | L87: =IF(K8="","",K8) -> Semily | AI87: Datum: | AM87: =IF(AN8= "","",AN8) -> 19. 4. 2022
C89: Zadavatel: | L89: =IF(E11= "","",E11) -> VHS Turnov, Antonína Dvořáka 287, 511 01 Turnov | AI89: Projektant: | AM89: =IF(E17="","",E17) -> ŠINDLAR s.r.o. | AS89: Informatívní údaje z listů zakázek
C90: Zhotovitel: | L90: =IF(E14="","",E14) -> Dle výběrového řízení | AI90: Zpracovatel: | AM90: =IF(E20="","",E20) -> Roman Bárta
C92: Kód | I92: Popis | AG92: Cena bez DPH [CZK] | AN92: Cena s DPH [CZK] | AQ92: Typ | AS92: z toho Ostat._x000D_ náklady [CZK] | AT92: DPH [CZK] | AU92: Normohodiny [h] | AV92: DPH základní [CZK] | AW92: DPH snížená [CZK] | AX92: DPH základní přenesená_x000D_ [CZK] | AY92: DPH snížená přenesená_x000D_ [CZK] | AZ92: Základna_x000D_ DPH základní | BA92: Základna_x000D_ DPH snížená | BB92: Základna_x000D_ DPH zákl. přenesená | BC92: Základna_x000D_ DPH sníž. přenesená | BD92: Základna_x000D_ DPH nulová
C94: Náklady z rozpočtů | AG94: =ROUND(AG95,2) -> 100000 | AN94: =SUM(AG94,AT94) -> 121000 | AS94: =ROUND(AS95,2) -> 0 | AT94: =ROUND(SUM(AV94:AW94),2) -> 21000 | AU94: =ROUND(AU95,5) -> 1552.53 | AV94: =ROUND(AZ94*L29,2) -> 21000 | AW94: =ROUND(BA94*L30,2) -> 0 | AX94: =ROUND(BB94*L29,2) -> 0 | AY94: =ROUND(BC94*L30,2) -> 0 | AZ94: =ROUND(AZ95,2) -> 100000 | BA94: =ROUND(BA95,2) -> 0 | BB94: =ROUND(BB95,2) -> 0 | BC94: =ROUND(BC95,2) -> 0 | BD94: =ROUND(BD95,2) -> 0 | BS94: D | BT94: 0 | BU94: ###NOIMPORT### | BV94: IMPORT | BW94: {aeb41aa5-56c9-4d09-b43b-f56ba1839215} | BX94: {00000000-0000-0000-0000-000000000000}
D95: 01 | J95: DOS | AG95: =ROUND(SUM(AG96:AG97),2) -> 100000 | AN95: =SUM(AG95,AT95) -> 121000 | AQ95: STA | AS95: =ROUND(SUM(AS96:AS97),2) -> 0 | AT95: =ROUND(SUM(AV95:AW95),2) -> 21000 | AU95: =ROUND(SUM(AU96:AU97),5) -> 1552.53 | AV95: =ROUND(AZ95*L29,2) -> 21000 | AW95: =ROUND(BA95*L30,2) -> 0 | AX95: =ROUND(BB95*L29,2) -> 0 | AY95: =ROUND(BC95*L30,2) -> 0 | AZ95: =ROUND(SUM(AZ96:AZ97),2) -> 100000 | BA95: =ROUND(SUM(BA96:BA97),2) -> 0 | BB95: =ROUND(SUM(BB96:BB97),2) -> 0 | BC95: =ROUND(SUM(BC96:BC97),2) -> 0 | BD95: =ROUND(SUM(BD96:BD97),2) -> 0 | BS95: D | BT95: 1 | BU95: ###NOIMPORT### | BV95: IMPORT | BW95: {3fb64b79-0db5-49ce-854b-3ccb39464cd6} | BX95: {aeb41aa5-56c9-4d09-b43b-f56ba1839215} | CM95: 2
A96: / | E96: SO 03 | K96: Shybka vodovodu U Sauny | AG96: ='SO 03 - Shybka vodovodu U...'!J32 -> 0 | AN96: =SUM(AG96,AT96) -> 0 | AQ96: Soupis | AS96: 0 | AT96: =ROUND(SUM(AV96:AW96),2) -> 0 | AU96: ='SO 03 - Shybka vodovodu U...'!P134 -> 1552.53 | AV96: ='SO 03 - Shybka vodovodu U...'!J35 -> 0 | AW96: ='SO 03 - Shybka vodovodu U...'!J36 -> 0 | AX96: ='SO 03 - Shybka vodovodu U...'!J37 -> 0 | AY96: ='SO 03 - Shybka vodovodu U...'!J38 -> 0 | AZ96: ='SO 03 - Shybka vodovodu U...'!F35 -> 0 | BA96: ='SO 03 - Shybka vodovodu U...'!F36 -> 0 | BB96: ='SO 03 - Shybka vodovodu U...'!F37 -> 0 | BC96: ='SO 03 - Shybka vodovodu U...'!F38 -> 0 | BD96: ='SO 03 - Shybka vodovodu U...'!F39 -> 0 | BT96: 2 | BV96: IMPORT | BW96: {e022164d-3869-4fff-9201-2563cc6f74dd} | BX96: {3fb64b79-0db5-49ce-854b-3ccb39464cd6}
A97: / | E97: 12 | K97: Vedlejší a ostatní náklady | AG97: ='12 - Vedlejší a ostatní n...'!J32 -> 100000 | AN97: =SUM(AG97,AT97) -> 121000 | AQ97: Soupis | AS97: 0 | AT97: =ROUND(SUM(AV97:AW97),2) -> 21000 | AU97: ='12 - Vedlejší a ostatní n...'!P121 -> 0 | AV97: ='12 - Vedlejší a ostatní n...'!J35 -> 21000 | AW97: ='12 - Vedlejší a ostatní n...'!J36 -> 0 | AX97: ='12 - Vedlejší a ostatní n...'!J37 -> 0 | AY97: ='12 - Vedlejší a ostatní n...'!J38 -> 0 | AZ97: ='12 - Vedlejší a ostatní n...'!F35 -> 100000 | BA97: ='12 - Vedlejší a ostatní n...'!F36 -> 0 | BB97: ='12 - Vedlejší a ostatní n...'!F37 -> 0 | BC97: ='12 - Vedlejší a ostatní n...'!F38 -> 0 | BD97: ='12 - Vedlejší a ostatní n...'!F39 -> 0 | BT97: 2 | BV97: IMPORT | BW97: {75366627-a761-498f-959d-e42e452a8dbb} | BX97: {3fb64b79-0db5-49ce-854b-3ccb39464cd6}

Sheet SO 03 - Shybka vodovodu U...
AT2: {e022164d-3869-4fff-9201-2563cc6f74dd}
AT3: 2
D4: KRYCÍ LIST SOUPISU PRACÍ | M4: v --- níže se nacházejí doplnkové a pomocné údaje k sestavám --- v | AT4: False
D6: Stavba:
E7: ='Rekapitulace stavby'!K6 -> Semily - obnova vodovodní shybky u sauny
D8: Objekt:
E9: 01 - DOS
D10: Soupis:
E11: SO 03 - Shybka vodovodu U Sauny
D13: KSO: | I13: CC-CZ:
D14: Místo: | F14: Semily | I14: Datum: | J14: ='Rekapitulace stavby'!AN8 -> 19. 4. 2022
D16: Zadavatel: | I16: IČ:
E17: VHS Turnov, Antonína Dvořáka 287, 511 01 Turnov | I17: DIČ:
D19: Zhotovitel: | I19: IČ:
E20: Dle výběrového řízení | I20: DIČ:
D22: Projektant: | I22: IČ: | J22: 26003236
E23: ŠINDLAR s.r.o. | I23: DIČ: | J23: CZ 260 03 236
D25: Zpracovatel: | I25: IČ:
E26: Roman Bárta | I26: DIČ:
D28: Poznámka:
E29: Soupis prací je sestaven s využitím Cenové soustavy ÚRS. Položky, které pochází z této cenové soustavy, jsou ve sloupci 'Cenová soustava' označeny popisem 'CS ÚRS' a úrovní příslušného kalendářního pololetí. Veškeré další informace vymezující popis a podmínky použití těchto položek z Cenové soustavy, které nejsou uvedeny přímo v soupisu prací, jsou neomezeně dálkově k dispozici na webu podminky.urs.cz.
D32: Cena bez DPH | J32: =ROUND(J134, 2) -> 0
F34: Základ daně | I34: Sazba daně | J34: Výše daně
D35: DPH | E35: základní | F35: =ROUND((SUM(BE134:BE525)), 2) -> 0 | I35: 0.21 | J35: =ROUND(((SUM(BE134:BE525))*I35), 2) -> 0
E36: snížená | F36: =ROUND((SUM(BF134:BF525)), 2) -> 0 | I36: 0.15 | J36: =ROUND(((SUM(BF134:BF525))*I36), 2) -> 0
E37: zákl. přenesená | F37: =ROUND((SUM(BG134:BG525)), 2) -> 0 | I37: 0.21 | J37: =0 -> 0
E38: sníž. přenesená | F38: =ROUND((SUM(BH134:BH525)), 2) -> 0 | I38: 0.15 | J38: =0 -> 0
E39: nulová | F39: =ROUND((SUM(BI134:BI525)), 2) -> 0 | I39: 0 | J39: =0 -> 0
D41: Cena s DPH | G41: v | H41: CZK | J41: =SUM(J32:J39) -> 0
D50: Projektant | G50: Zpracovatel
D61: Datum a podpis: | F61: Razítko | G61: Datum a podpis: | J61: Razítko
D65: Objednavatel | G65: Zhotovitel
D76: Datum a podpis: | F76: Razítko | G76: Datum a podpis: | J76: Razítko
C82: REKAPITULACE ČLENĚNÍ SOUPISU PRACÍ
C84: Stavba:
E85: =E7 -> Semily - obnova vodovodní shybky u sauny
C86: Objekt:
E87: 01 - DOS
C88: Soupis:
E89: =E11 -> SO 03 - Shybka vodovodu U Sauny
C91: Místo: | F91: =F14 -> Semily | I91: Datum: | J91: =IF(J14="","",J14) -> 19. 4. 2022
C93: Zadavatel: | F93: =E17 -> VHS Turnov, Antonína Dvořáka 287, 511 01 Turnov | I93: Projektant: | J93: =E23 -> ŠINDLAR s.r.o.
C94: Zhotovitel: | F94: =IF(E20="","",E20) -> Dle výběrového řízení | I94: Zpracovatel: | J94: =E26 -> Roman Bárta
C96: Kód dílu - Popis | J96: Cena celkem [CZK]
C98: Náklady ze soupisu prací | J98: =J134 -> 0 | AU98: -1
D99: HSV - Práce a dodávky HSV | J99: =J135 -> 0
D100: 1 - Zemní práce | J100: =J136 -> 0
D101: 2 - Zakládání | J101: =J300 -> 0
D102: 3 - Svislé a kompletní konstrukce | J102: =J308 -> 0
D103: 4 - Vodorovné konstrukce | J103: =J316 -> 0
D104: 5 - Komunikace pozemní | J104: =J357 -> 0
D105: 6 - Úpravy povrchů, podlahy a osazování výplní | J105: =J399 -> 0
D106: 8 - Trubní vedení | J106: =J402 -> 0
D107: 9 - Ostatní konstrukce a práce, bourání | J107: =J474 -> 0
D108: 997 - Přesun sutě | J108: =J489 -> 0
D109: 998 - Přesun hmot | J109: =J500 -> 0
D110: PSV - Práce a dodávky PSV | J110: =J502 -> 0
D111: 711 - Izolace proti vodě, vlhkosti a plynům | J111: =J503 -> 0
D112: 722 - Zdravotechnika - vnitřní vodovod | J112: =J520 -> 0
C119: SOUPIS PRACÍ
C121: Stavba:
E122: =E7 -> Semily - obnova vodovodní shybky u sauny
C123: Objekt:
E124: 01 - DOS
C125: Soupis:
E126: =E11 -> SO 03 - Shybka vodovodu U Sauny
C128: Místo: | F128: =F14 -> Semily | I128: Datum: | J128: =IF(J14="","",J14) -> 19. 4. 2022
C130: Zadavatel: | F130: =E17 -> VHS Turnov, Antonína Dvořáka 287, 511 01 Turnov | I130: Projektant: | J130: =E23 -> ŠINDLAR s.r.o.
C131: Zhotovitel: | F131: =IF(E20="","",E20) -> Dle výběrového řízení | I131: Zpracovatel: | J131: =E26 -> Roman Bárta
C133: PČ | D133: Typ | E133: Kód | F133: Popis | G133: MJ | H133: Množství | I133: J.cena [CZK] | J133: Cena celkem [CZK] | K133: Cenová soustava | N133: DPH | O133: J. Nh [h] | P133: Nh celkem [h] | Q133: J. hmotnost [t] | R133: Hmotnost celkem [t] | S133: J. suť [t] | T133: Suť Celkem [t]
C134: Náklady soupisu celkem | J134: =BK134 -> 0 | P134: =P135+P502 -> 1552.53 | R134: =R135+R502 -> 379.44783 | T134: =T135+T502 -> 71.45783 | AT134: D | AU134: -1 | BK134: =BK135+BK502 -> 0
D135: D | E135: HSV | F135: Práce a dodávky HSV | J135: =BK135 -> 0 | P135: =P136+P300+P308+P316+P357+P399+P402+P474+P489+P500 -> 1536.898 | R135: =R136+R300+R308+R316+R357+R399+R402+R474+R489+R500 -> 379.35935 | T135: =T136+T300+T308+T316+T357+T399+T402+T474+T489+T500 -> 71.45783 | AR135: 1 | AT135: D | AU135: 0 | AY135: ROZPOCET | BK135: =BK136+BK300+BK308+BK316+BK357+BK399+BK402+BK474+BK489+BK500 -> 0
D136: D | E136: 1 | F136: Zemní práce | J136: =BK136 -> 0 | P136: =SUM(P137:P299) -> 656.55933 | R136: =SUM(R137:R299) -> 64.853721 | T136: =SUM(T137:T299) -> 60.85684 | AR136: 1 | AT136: D | AU136: 1 | AY136: ROZPOCET | BK136: =SUM(BK137:BK299) -> 0
C137: 1 | D137: K | E137: 113107322 | F137: Odstranění podkladů nebo krytů strojně plochy jednotlivě do 50 m2 s přemístěním hmot na skládku na vzdálenost do 3 m nebo s naložením na dopravní prostředek z kameniva hrubého drceného, o tl. vrstvy přes 100 do 200 mm | G137: m2 | H137: 12.11 | I137: 0 | J137: =ROUND(I137*H137,2) -> 0 | K137: CS ÚRS 2025 01 | N137: základní | O137: 0.116 | P137: =O137*H137 -> 1.40476 | Q137: 0 | R137: =Q137*H137 -> 0 | S137: 0.29 | T137: =S137*H137 -> 3.5119 | AR137: 4 | AT137: K | AU137: 2 | AY137: ROZPOCET | BE137: =IF(N137="základní",J137,0) -> 0 | BF137: =IF(N137="snížená",J137,0) -> 0 | BG137: =IF(N137="zákl. přenesená",J137,0) -> 0 | BH137: =IF(N137="sníž. přenesená",J137,0) -> 0 | BI137: =IF(N137="nulová",J137,0) -> 0 | BJ137: 1 | BK137: =ROUND(I137*H137,2) -> 0 | BL137: 4 | BM137: 2086035560
D138: VV | F138: D.1.5 | AT138: VV | AU138: 2 | AV138: 1 | AW138: True | AX138: 0 | AY138: ROZPOCET
D139: VV | F139: 3,6*2,6 | H139: 9.36 | AT139: VV | AU139: 2 | AV139: 2 | AW139: True | AX139: 0 | AY139: ROZPOCET
D140: VV | F140: D.1.3 | AT140: VV | AU140: 2 | AV140: 1 | AW140: True | AX140: 0 | AY140: ROZPOCET
D141: VV | F141: 2,5*1,1 "asf | H141: 2.75 | AT141: VV | AU141: 2 | AV141: 2 | AW141: True | AX141: 0 | AY141: ROZPOCET
D142: VV | F142: Součet | H142: 12.11 | AT142: VV | AU142: 2 | AV142: 4 | AW142: True | AX142: 1 | AY142: ROZPOCET
C143: 2 | D143: K | E143: 113107324 | F143: Odstranění podkladů nebo krytů strojně plochy jednotlivě do 50 m2 s přemístěním hmot na skládku na vzdálenost do 3 m nebo s naložením na dopravní prostředek z kameniva hrubého drceného, o tl. vrstvy přes 300 do 400 mm | G143: m2 | H143: 5.522 | I143: 0 | J143: =ROUND(I143*H143,2) -> 0 | K143: CS ÚRS 2025 01 | N143: základní | O143: 0.232 | P143: =O143*H143 -> 1.281104 | Q143: 0 | R143: =Q143*H143 -> 0 | S143: 0.58 | T143: =S143*H143 -> 3.20276 | AR143: 4 | AT143: K | AU143: 2 | AY143: ROZPOCET | BE143: =IF(N143="základní",J143,0) -> 0 | BF143: =IF(N143="snížená",J143,0) -> 0 | BG143: =IF(N143="zákl. přenesená",J143,0) -> 0 | BH143: =IF(N143="sníž. přenesená",J143,0) -> 0 | BI143: =IF(N143="nulová",J143,0) -> 0 | BJ143: 1 | BK143: =ROUND(I143*H143,2) -> 0 | BL143: 4 | BM143: -1295932500
D144: VV | F144: D.1.3 | AT144: VV | AU144: 2 | AV144: 1 | AW144: True | AX144: 0 | AY144: ROZPOCET
D145: VV | F145: 5,02*1,1 "štěrk | H145: 5.522 | AT145: VV | AU145: 2 | AV145: 2 | AW145: True | AX145: 1 | AY145: ROZPOCET
C146: 3 | D146: K | E146: 113107331 | F146: Odstranění podkladů nebo krytů strojně plochy jednotlivě do 50 m2 s přemístěním hmot na skládku na vzdálenost do 3 m nebo s naložením na dopravní prostředek z betonu prostého, o tl. vrstvy přes 100 do 150 mm | G146: m2 | H146: 12.11 | I146: 0 | J146: =ROUND(I146*H146,2) -> 0 | K146: CS ÚRS 2025 01 | N146: základní | O146: 0.305 | P146: =O146*H146 -> 3.69355 | Q146: 0 | R146: =Q146*H146 -> 0 | S146: 0.325 | T146: =S146*H146 -> 3.93575 | AR146: 4 | AT146: K | AU146: 2 | AY146: ROZPOCET | BE146: =IF(N146="základní",J146,0) -> 0 | BF146: =IF(N146="snížená",J146,0) -> 0 | BG146: =IF(N146="zákl. přenesená",J146,0) -> 0 | BH146: =IF(N146="sníž. přenesená",J146,0) -> 0 | BI146: =IF(N146="nulová",J146,0) -> 0 | BJ146: 1 | BK146: =ROUND(I146*H146,2) -> 0 | BL146: 4 | BM146: 134315724
D147: VV | F147: D.1.5 | AT147: VV | AU147: 2 | AV147: 1 | AW147: True | AX147: 0 | AY147: ROZPOCET
D148: VV | F148: 3,6*2,6 | H148: 9.36 | AT148: VV | AU148: 2 | AV148: 2 | AW148: True | AX148: 0 | AY148: ROZPOCET
D149: VV | F149: D.1.3 | AT149: VV | AU149: 2 | AV149: 1 | AW149: True | AX149: 0 | AY149: ROZPOCET
D150: VV | F150: 2,5*1,1 "asf | H150: 2.75 | AT150: VV | AU150: 2 | AV150: 2 | AW150: True | AX150: 0 | AY150: ROZPOCET
D151: VV | F151: Součet | H151: 12.11 | AT151: VV | AU151: 2 | AV151: 4 | AW151: True | AX151: 1 | AY151: ROZPOCET
C152: 4 | D152: K | E152: 113107341 | F152: Odstranění podkladů nebo krytů strojně plochy jednotlivě do 50 m2 s přemístěním hmot na skládku na vzdálenost do 3 m nebo s naložením na dopravní prostředek živičných, o tl. vrstvy do 50 mm | G152: m2 | H152: 12.11 | I152: 0 | J152: =ROUND(I152*H152,2) -> 0 | K152: CS ÚRS 2025 01 | N152: základní | O152: 0.094 | P152: =O152*H152 -> 1.13834 | Q152: 0 | R152: =Q152*H152 -> 0 | S152: 0.098 | T152: =S152*H152 -> 1.18678 | AR152: 4 | AT152: K | AU152: 2 | AY152: ROZPOCET | BE152: =IF(N152="základní",J152,0) -> 0 | BF152: =IF(N152="snížená",J152,0) -> 0 | BG152: =IF(N152="zákl. přenesená",J152,0) -> 0 | BH152: =IF(N152="sníž. přenesená",J152,0) -> 0 | BI152: =IF(N152="nulová",J152,0) -> 0 | BJ152: 1 | BK152: =ROUND(I152*H152,2) -> 0 | BL152: 4 | BM152: -1565099293
D153: VV | F153: D.1.5 | AT153: VV | AU153: 2 | AV153: 1 | AW153: True | AX153: 0 | AY153: ROZPOCET
D154: VV | F154: 3,6*2,6 | H154: 9.36 | AT154: VV | AU154: 2 | AV154: 2 | AW154: True | AX154: 0 | AY154: ROZPOCET
D155: VV | F155: D.1.3 | AT155: VV | AU155: 2 | AV155: 1 | AW155: True | AX155: 0 | AY155: ROZPOCET
D156: VV | F156: 2,5*1,1 | H156: 2.75 | AT156: VV | AU156: 2 | AV156: 2 | AW156: True | AX156: 0 | AY156: ROZPOCET
D157: VV | F157: Součet | H157: 12.11 | AT157: VV | AU157: 2 | AV157: 4 | AW157: True | AX157: 1 | AY157: ROZPOCET
C158: 5 | D158: K | E158: 113154513 | F158: Frézování živičného podkladu nebo krytu s naložením hmot na dopravní prostředek plochy do 500 m2 pruhu šířky do 0,5 m, tloušťky vrstvy 50 mm | G158: m2 | H158: 20.31 | I158: 0 | J158: =ROUND(I158*H158,2) -> 0 | K158: CS ÚRS 2025 01 | N158: základní | O158: 0.105 | P158: =O158*H158 -> 2.13255 | Q158: 1e-05 | R158: =Q158*H158 -> 0.0002031 | S158: 0.115 | T158: =S158*H158 -> 2.33565 | AR158: 4 | AT158: K | AU158: 2 | AY158: ROZPOCET | BE158: =IF(N158="základní",J158,0) -> 0 | BF158: =IF(N158="snížená",J158,0) -> 0 | BG158: =IF(N158="zákl. přenesená",J158,0) -> 0 | BH158: =IF(N158="sníž. přenesená",J158,0) -> 0 | BI158: =IF(N158="nulová",J158,0) -> 0 | BJ158: 1 | BK158: =ROUND(I158*H158,2) -> 0 | BL158: 4 | BM158: -20731073
D159: VV | F159: D.1.5 | AT159: VV | AU159: 2 | AV159: 1 | AW159: True | AX159: 0 | AY159: ROZPOCET
D160: VV | F160: 4,6*3,6 | H160: 16.56 | AT160: VV | AU160: 2 | AV160: 2 | AW160: True | AX160: 0 | AY160: ROZPOCET
D161: VV | F161: D.1.3 | AT161: VV | AU161: 2 | AV161: 1 | AW161: True | AX161: 0 | AY161: ROZPOCET
D162: VV | F162: 2,5*1,5 | H162: 3.75 | AT162: VV | AU162: 2 | AV162: 2 | AW162: True | AX162: 0 | AY162: ROZPOCET
D163: VV | F163: Součet | H163: 20.31 | AT163: VV | AU163: 2 | AV163: 4 | AW163: True | AX163: 1 | AY163: ROZPOCET
...

Sheet 12 - Vedlejší a ostatní n...
AT2: {75366627-a761-498f-959d-e42e452a8dbb}
AT3: 2
D4: KRYCÍ LIST SOUPISU PRACÍ | M4: v --- níže se nacházejí doplnkové a pomocné údaje k sestavám --- v | AT4: False
D6: Stavba:
E7: ='Rekapitulace stavby'!K6 -> Semily - obnova vodovodní shybky u sauny
D8: Objekt:
E9: 01 - DOS
D10: Soupis:
E11: 12 - Vedlejší a ostatní náklady
D13: KSO: | I13: CC-CZ:
D14: Místo: | F14: Semily | I14: Datum: | J14: ='Rekapitulace stavby'!AN8 -> 19. 4. 2022
D16: Zadavatel: | I16: IČ:
E17: VHS Turnov, Antonína Dvořáka 287, 511 01 Turnov | I17: DIČ:
D19: Zhotovitel: | I19: IČ:
E20: Dle výběrového řízení | I20: DIČ:
D22: Projektant: | I22: IČ: | J22: 26003236
E23: ŠINDLAR s.r.o. | I23: DIČ: | J23: CZ 260 03 236
D25: Zpracovatel: | I25: IČ:
E26: Roman Bárta | I26: DIČ:
D28: Poznámka:
E29: Soupis prací je sestaven s využitím Cenové soustavy ÚRS. Položky, které pochází z této cenové soustavy, jsou ve sloupci 'Cenová soustava' označeny popisem 'CS ÚRS' a úrovní příslušného kalendářního pololetí. Veškeré další informace vymezující popis a podmínky použití těchto položek z Cenové soustavy, které nejsou uvedeny přímo v soupisu prací, jsou neomezeně dálkově k dispozici na webu podminky.urs.cz.
D32: Cena bez DPH | J32: =ROUND(J121, 2) -> 100000
F34: Základ daně | I34: Sazba daně | J34: Výše daně
D35: DPH | E35: základní | F35: =ROUND((SUM(BE121:BE151)), 2) -> 100000 | I35: 0.21 | J35: =ROUND(((SUM(BE121:BE151))*I35), 2) -> 21000
E36: snížená | F36: =ROUND((SUM(BF121:BF151)), 2) -> 0 | I36: 0.15 | J36: =ROUND(((SUM(BF121:BF151))*I36), 2) -> 0
E37: zákl. přenesená | F37: =ROUND((SUM(BG121:BG151)), 2) -> 0 | I37: 0.21 | J37: =0 -> 0
E38: sníž. přenesená | F38: =ROUND((SUM(BH121:BH151)), 2) -> 0 | I38: 0.15 | J38: =0 -> 0
E39: nulová | F39: =ROUND((SUM(BI121:BI151)), 2) -> 0 | I39: 0 | J39: =0 -> 0
D41: Cena s DPH | G41: v | H41: CZK | J41: =SUM(J32:J39) -> 121000
D50: Projektant | G50: Zpracovatel
D61: Datum a podpis: | F61: Razítko | G61: Datum a podpis: | J61: Razítko
D65: Objednavatel | G65: Zhotovitel
D76: Datum a podpis: | F76: Razítko | G76: Datum a podpis: | J76: Razítko
C82: REKAPITULACE ČLENĚNÍ SOUPISU PRACÍ
C84: Stavba:
E85: =E7 -> Semily - obnova vodovodní shybky u sauny
C86: Objekt:
E87: 01 - DOS
C88: Soupis:
E89: =E11 -> 12 - Vedlejší a ostatní náklady
C91: Místo: | F91: =F14 -> Semily | I91: Datum: | J91: =IF(J14="","",J14) -> 19. 4. 2022
C93: Zadavatel: | F93: =E17 -> VHS Turnov, Antonína Dvořáka 287, 511 01 Turnov | I93: Projektant: | J93: =E23 -> ŠINDLAR s.r.o.
C94: Zhotovitel: | F94: =IF(E20="","",E20) -> Dle výběrového řízení | I94: Zpracovatel: | J94: =E26 -> Roman Bárta
C96: Kód dílu - Popis | J96: Cena celkem [CZK]
C98: Náklady ze soupisu prací | J98: =J121 -> 100000 | AU98: -1
D99: D1 - Ostatní náklady stavby | J99: =J122 -> 100000
C106: SOUPIS PRACÍ
C108: Stavba:
E109: =E7 -> Semily - obnova vodovodní shybky u sauny
C110: Objekt:
E111: 01 - DOS
C112: Soupis:
E113: =E11 -> 12 - Vedlejší a ostatní náklady
C115: Místo: | F115: =F14 -> Semily | I115: Datum: | J115: =IF(J14="","",J14) -> 19. 4. 2022
C117: Zadavatel: | F117: =E17 -> VHS Turnov, Antonína Dvořáka 287, 511 01 Turnov | I117: Projektant: | J117: =E23 -> ŠINDLAR s.r.o.
C118: Zhotovitel: | F118: =IF(E20="","",E20) -> Dle výběrového řízení | I118: Zpracovatel: | J118: =E26 -> Roman Bárta
C120: PČ | D120: Typ | E120: Kód | F120: Popis | G120: MJ | H120: Množství | I120: J.cena [CZK] | J120: Cena celkem [CZK] | K120: Cenová soustava | N120: DPH | O120: J. Nh [h] | P120: Nh celkem [h] | Q120: J. hmotnost [t] | R120: Hmotnost celkem [t] | S120: J. suť [t] | T120: Suť Celkem [t]
C121: Náklady soupisu celkem | J121: =BK121 -> 100000 | P121: =P122 -> 0 | R121: =R122 -> 0 | T121: =T122 -> 0 | AT121: D | AU121: -1 | BK121: =BK122 -> 100000
D122: D | E122: D1 | F122: Ostatní náklady stavby | J122: =BK122 -> 100000 | P122: =SUM(P123:P151) -> 0 | R122: =SUM(R123:R151) -> 0 | T122: =SUM(T123:T151) -> 0 | AR122: 1 | AT122: D | AU122: 0 | AY122: ROZPOCET | BK122: =SUM(BK123:BK151) -> 100000
C123: 1 | D123: K | E123: Pol1 | F123: Zajištění prostoru a vybudování zařízení staveniště včetně potřebných staveništních komunikací | G123: soubor | H123: 1 | I123: 0 | J123: =ROUND(I123*H123,2) -> 0 | N123: základní | O123: 0 | P123: =O123*H123 -> 0 | Q123: 0 | R123: =Q123*H123 -> 0 | S123: 0 | T123: =S123*H123 -> 0 | AR123: 4 | AT123: K | AU123: 1 | AY123: ROZPOCET | BE123: =IF(N123="základní",J123,0) -> 0 | BF123: =IF(N123="snížená",J123,0) -> 0 | BG123: =IF(N123="zákl. přenesená",J123,0) -> 0 | BH123: =IF(N123="sníž. přenesená",J123,0) -> 0 | BI123: =IF(N123="nulová",J123,0) -> 0 | BJ123: 1 | BK123: =ROUND(I123*H123,2) -> 0 | BL123: 4 | BM123: 2
C124: 2 | D124: K | E124: Pol2 | F124: Zajištění bezpečnosti při provádění stavby ve smyslu bezpečnosti práce i ochrany životního prostředí a zeleně | G124: soubor | H124: 1 | I124: 0 | J124: =ROUND(I124*H124,2) -> 0 | N124: základní | O124: 0 | P124: =O124*H124 -> 0 | Q124: 0 | R124: =Q124*H124 -> 0 | S124: 0 | T124: =S124*H124 -> 0 | AR124: 4 | AT124: K | AU124: 1 | AY124: ROZPOCET | BE124: =IF(N124="základní",J124,0) -> 0 | BF124: =IF(N124="snížená",J124,0) -> 0 | BG124: =IF(N124="zákl. přenesená",J124,0) -> 0 | BH124: =IF(N124="sníž. přenesená",J124,0) -> 0 | BI124: =IF(N124="nulová",J124,0) -> 0 | BJ124: 1 | BK124: =ROUND(I124*H124,2) -> 0 | BL124: 4 | BM124: 4
C125: 3 | D125: K | E125: Pol3 | F125: Vytýčení stavby a hranic pozemků při provádění stavby | G125: soubor | H125: 1 | I125: 0 | J125: =ROUND(I125*H125,2) -> 0 | N125: základní | O125: 0 | P125: =O125*H125 -> 0 | Q125: 0 | R125: =Q125*H125 -> 0 | S125: 0 | T125: =S125*H125 -> 0 | AR125: 4 | AT125: K | AU125: 1 | AY125: ROZPOCET | BE125: =IF(N125="základní",J125,0) -> 0 | BF125: =IF(N125="snížená",J125,0) -> 0 | BG125: =IF(N125="zákl. přenesená",J125,0) -> 0 | BH125: =IF(N125="sníž. přenesená",J125,0) -> 0 | BI125: =IF(N125="nulová",J125,0) -> 0 | BJ125: 1 | BK125: =ROUND(I125*H125,2) -> 0 | BL125: 4 | BM125: 6
C126: 4 | D126: K | E126: Pol4 | F126: Zajištění včasného oznámení o zahájení prací majitelům pozemků a správců sítí dotčených stavbou | G126: soubor | H126: 1 | I126: 0 | J126: =ROUND(I126*H126,2) -> 0 | N126: základní | O126: 0 | P126: =O126*H126 -> 0 | Q126: 0 | R126: =Q126*H126 -> 0 | S126: 0 | T126: =S126*H126 -> 0 | AR126: 4 | AT126: K | AU126: 1 | AY126: ROZPOCET | BE126: =IF(N126="základní",J126,0) -> 0 | BF126: =IF(N126="snížená",J126,0) -> 0 | BG126: =IF(N126="zákl. přenesená",J126,0) -> 0 | BH126: =IF(N126="sníž. přenesená",J126,0) -> 0 | BI126: =IF(N126="nulová",J126,0) -> 0 | BJ126: 1 | BK126: =ROUND(I126*H126,2) -> 0 | BL126: 4 | BM126: 8
C127: 5 | D127: K | E127: Pol5 | F127: Spolupráce s vlastníky pozemků při případném uvolnění pozemků pro stavbu (např. skládky osobního materiálu vlastníků) | G127: soubor | H127: 1 | I127: 0 | J127: =ROUND(I127*H127,2) -> 0 | N127: základní | O127: 0 | P127: =O127*H127 -> 0 | Q127: 0 | R127: =Q127*H127 -> 0 | S127: 0 | T127: =S127*H127 -> 0 | AR127: 4 | AT127: K | AU127: 1 | AY127: ROZPOCET | BE127: =IF(N127="základní",J127,0) -> 0 | BF127: =IF(N127="snížená",J127,0) -> 0 | BG127: =IF(N127="zákl. přenesená",J127,0) -> 0 | BH127: =IF(N127="sníž. přenesená",J127,0) -> 0 | BI127: =IF(N127="nulová",J127,0) -> 0 | BJ127: 1 | BK127: =ROUND(I127*H127,2) -> 0 | BL127: 4 | BM127: 10
C128: 6 | D128: K | E128: Pol6 | F128: Zajištění vytýčení podzemních zařízení, a v případě jejich křížení či souběhu v otevřeném výkopu, jejich písemné předání zpět jejich správcům před zásypem | G128: soubor | H128: 1 | I128: 0 | J128: =ROUND(I128*H128,2) -> 0 | N128: základní | O128: 0 | P128: =O128*H128 -> 0 | Q128: 0 | R128: =Q128*H128 -> 0 | S128: 0 | T128: =S128*H128 -> 0 | AR128: 4 | AT128: K | AU128: 1 | AY128: ROZPOCET | BE128: =IF(N128="základní",J128,0) -> 0 | BF128: =IF(N128="snížená",J128,0) -> 0 | BG128: =IF(N128="zákl. přenesená",J128,0) -> 0 | BH128: =IF(N128="sníž. přenesená",J128,0) -> 0 | BI128: =IF(N128="nulová",J128,0) -> 0 | BJ128: 1 | BK128: =ROUND(I128*H128,2) -> 0 | BL128: 4 | BM128: 12
C129: 7 | D129: K | E129: Pol7 | F129: Vypracování a projednání návrhu dočasných dopravních opatření (případně i po etapách dle zvoleného postupu prací zhotovitelem) | G129: soubor | H129: 1 | I129: 0 | J129: =ROUND(I129*H129,2) -> 0 | N129: základní | O129: 0 | P129: =O129*H129 -> 0 | Q129: 0 | R129: =Q129*H129 -> 0 | S129: 0 | T129: =S129*H129 -> 0 | AR129: 4 | AT129: K | AU129: 1 | AY129: ROZPOCET | BE129: =IF(N129="základní",J129,0) -> 0 | BF129: =IF(N129="snížená",J129,0) -> 0 | BG129: =IF(N129="zákl. přenesená",J129,0) -> 0 | BH129: =IF(N129="sníž. přenesená",J129,0) -> 0 | BI129: =IF(N129="nulová",J129,0) -> 0 | BJ129: 1 | BK129: =ROUND(I129*H129,2) -> 0 | BL129: 4 | BM129: 14
C130: 8 | D130: K | E130: Pol8 | F130: Zajištění povolení zvláštního užívání komunikací v souladu s postupem výstavby,včetně správních poplatků a povolení k užívání dalších, stavbou dotčených pozemků (skládky materiálu, mezideponie atd.) | G130: soubor | H130: 1 | I130: 0 | J130: =ROUND(I130*H130,2) -> 0 | N130: základní | O130: 0 | P130: =O130*H130 -> 0 | Q130: 0 | R130: =Q130*H130 -> 0 | S130: 0 | T130: =S130*H130 -> 0 | AR130: 4 | AT130: K | AU130: 1 | AY130: ROZPOCET | BE130: =IF(N130="základní",J130,0) -> 0 | BF130: =IF(N130="snížená",J130,0) -> 0 | BG130: =IF(N130="zákl. přenesená",J130,0) -> 0 | BH130: =IF(N130="sníž. přenesená",J130,0) -> 0 | BI130: =IF(N130="nulová",J130,0) -> 0 | BJ130: 1 | BK130: =ROUND(I130*H130,2) -> 0 | BL130: 4 | BM130: 16
C131: 9 | D131: K | E131: Pol9 | F131: Zřízení, údržba a likvidace dopravního opatření po dobu realizace stavby (případně i po etapách dle zvoleného postupu prací zhotovitelem) | G131: soubor | H131: 1 | I131: 0 | J131: =ROUND(I131*H131,2) -> 0 | N131: základní | O131: 0 | P131: =O131*H131 -> 0 | Q131: 0 | R131: =Q131*H131 -> 0 | S131: 0 | T131: =S131*H131 -> 0 | AR131: 4 | AT131: K | AU131: 1 | AY131: ROZPOCET | BE131: =IF(N131="základní",J131,0) -> 0 | BF131: =IF(N131="snížená",J131,0) -> 0 | BG131: =IF(N131="zákl. přenesená",J131,0) -> 0 | BH131: =IF(N131="sníž. přenesená",J131,0) -> 0 | BI131: =IF(N131="nulová",J131,0) -> 0 | BJ131: 1 | BK131: =ROUND(I131*H131,2) -> 0 | BL131: 4 | BM131: 18
C132: 10 | D132: K | E132: Pol12 | F132: Zajištění čistoty na staveništi a v jeho okolí, zajištění každodenního čištění komunikací dotčených provozem zhotovitele | G132: soubor | H132: 1 | I132: 0 | J132: =ROUND(I132*H132,2) -> 0 | N132: základní | O132: 0 | P132: =O132*H132 -> 0 | Q132: 0 | R132: =Q132*H132 -> 0 | S132: 0 | T132: =S132*H132 -> 0 | AR132: 4 | AT132: K | AU132: 1 | AY132: ROZPOCET | BE132: =IF(N132="základní",J132,0) -> 0 | BF132: =IF(N132="snížená",J132,0) -> 0 | BG132: =IF(N132="zákl. přenesená",J132,0) -> 0 | BH132: =IF(N132="sníž. přenesená",J132,0) -> 0 | BI132: =IF(N132="nulová",J132,0) -> 0 | BJ132: 1 | BK132: =ROUND(I132*H132,2) -> 0 | BL132: 4 | BM132: 24
C133: 11 | D133: K | E133: Pol13 | F133: Fotodokumentace průběhu díla; zhotovitel zajistí a předá objednateli průběžnou fotodokumentaci realizace díla. Fotodokumentace bude dokladovat průběh díla a bude zejména dokumentovat části stavby a konstrukce před jejich zakrytím | G133: soubor | H133: 1 | I133: 0 | J133: =ROUND(I133*H133,2) -> 0 | N133: základní | O133: 0 | P133: =O133*H133 -> 0 | Q133: 0 | R133: =Q133*H133 -> 0 | S133: 0 | T133: =S133*H133 -> 0 | AR133: 4 | AT133: K | AU133: 1 | AY133: ROZPOCET | BE133: =IF(N133="základní",J133,0) -> 0 | BF133: =IF(N133="snížená",J133,0) -> 0 | BG133: =IF(N133="zákl. přenesená",J133,0) -> 0 | BH133: =IF(N133="sníž. přenesená",J133,0) -> 0 | BI133: =IF(N133="nulová",J133,0) -> 0 | BJ133: 1 | BK133: =ROUND(I133*H133,2) -> 0 | BL133: 4 | BM133: 26
C134: 12 | D134: K | E134: Pol14 | F134: Péče o nepředané objekty nebo jejich části a konstrukce stavby, jejich ošetřování a nutný rozsah pojištění | G134: soubor | H134: 1 | I134: 0 | J134: =ROUND(I134*H134,2) -> 0 | N134: základní | O134: 0 | P134: =O134*H134 -> 0 | Q134: 0 | R134: =Q134*H134 -> 0 | S134: 0 | T134: =S134*H134 -> 0 | AR134: 4 | AT134: K | AU134: 1 | AY134: ROZPOCET | BE134: =IF(N134="základní",J134,0) -> 0 | BF134: =IF(N134="snížená",J134,0) -> 0 | BG134: =IF(N134="zákl. přenesená",J134,0) -> 0 | BH134: =IF(N134="sníž. přenesená",J134,0) -> 0 | BI134: =IF(N134="nulová",J134,0) -> 0 | BJ134: 1 | BK134: =ROUND(I134*H134,2) -> 0 | BL134: 4 | BM134: 28
... C139: 17 | D139: K | E139: Pol20 | F139: Monitoring objektů během realizace stavby. | G139: soubor | H139: 5 | I139: 0 | J139: =ROUND(I139*H139,2) -> 0 | N139: základní | O139: 0 | P139: =O139*H139 -> 0 | Q139: 0 | R139: =Q139*H139 -> 0 | S139: 0 | T139: =S139*H139 -> 0 | AR139: 4 | AT139: K | AU139: 1 | AY139: ROZPOCET | BE139: =IF(N139="základní",J139,0) -> 0 | BF139: =IF(N139="snížená",J139,0) -> 0 | BG139: =IF(N139="zákl. přenesená",J139,0) -> 0 | BH139: =IF(N139="sníž. přenesená",J139,0) -> 0 | BI139: =IF(N139="nulová",J139,0) -> 0 | BJ139: 1 | BK139: =ROUND(I139*H139,2) -> 0 | BL139: 4 | BM139: 40
C140: 18 | D140: K | E140: Pol21 | F140: Zpracování a projednání Havarijního a povodňového plánu s Povodím Labe a vodoprávním úřadem | G140: soubor | H140: 1 | I140: 0 | J140: =ROUND(I140*H140,2) -> 0 | BK140: =ROUND(I140*H140,2) -> 0
C141: 19 | D141: K | E141: Pol23 | F141: Ostatní činnosti nutné ke zdárnému provedení díla, které jsou vymezeny zejména v technické specifikaci stavby | G141: soubor | H141: 1 | I141: 0 | J141: =ROUND(I141*H141,2) -> 0 | N141: základní | O141: 0 | P141: =O141*H141 -> 0 | Q141: 0 | R141: =Q141*H141 -> 0 | S141: 0 | T141: =S141*H141 -> 0 | AR141: 4 | AT141: K | AU141: 1 | AY141: ROZPOCET | BE141: =IF(N141="základní",J141,0) -> 0 | BF141: =IF(N141="snížená",J141,0) -> 0 | BG141: =IF(N141="zákl. přenesená",J141,0) -> 0 | BH141: =IF(N141="sníž. přenesená",J141,0) -> 0 | BI141: =IF(N141="nulová",J141,0) -> 0 | BJ141: 1 | BK141: =ROUND(I141*H141,2) -> 0 | BL141: 4 | BM141: 44
C142: 20 | D142: K | E142: Pol24 | F142: Proplachy, kontrola průchodnosti, dezinfekce potrubí a zařízení, krácené rozbory kvality vody | G142: soubor | H142: 1 | I142: 0 | J142: =ROUND(I142*H142,2) -> 0 | BK142: =ROUND(I142*H142,2) -> 0
C143: 22 | D143: K | E143: 052203000-R | F143: Jednotná rezerva díla | G143: Soub | H143: 1 | I143: 100000 | J143: =ROUND(I143*H143,2) -> 100000 | N143: základní | O143: 0 | P143: =O143*H143 -> 0 | Q143: 0 | R143: =Q143*H143 -> 0 | S143: 0 | T143: =S143*H143 -> 0 | AR143: 1024 | AT143: K | AU143: 1 | AY143: ROZPOCET | BE143: =IF(N143="základní",J143,0) -> 100000 | BF143: =IF(N143="snížená",J143,0) -> 0 | BG143: =IF(N143="zákl. přenesená",J143,0) -> 0 | BH143: =IF(N143="sníž. přenesená",J143,0) -> 0 | BI143: =IF(N143="nulová",J143,0) -> 0 | BJ143: 1 | BK143: =ROUND(I143*H143,2) -> 100000 | BL143: 1024 | BM143: 1714621930
C144: 23 | D144: K | E144: Pol31 | F144: Náhradní výsadba | G144: ks | H144: 2 | I144: 0 | J144: =ROUND(I144*H144,2) -> 0 | N144: základní | O144: 0 | P144: =O144*H144 -> 0 | Q144: 0 | R144: =Q144*H144 -> 0 | S144: 0 | T144: =S144*H144 -> 0 | AR144: 1024 | AT144: K | AU144: 1 | AY144: ROZPOCET | BE144: =IF(N144="základní",J144,0) -> 0 | BF144: =IF(N144="snížená",J144,0) -> 0 | BG144: =IF(N144="zákl. přenesená",J144,0) -> 0 | BH144: =IF(N144="sníž. přenesená",J144,0) -> 0 | BI144: =IF(N144="nulová",J144,0) -> 0 | BJ144: 1 | BK144: =ROUND(I144*H144,2) -> 0 | BL144: 1024 | BM144: -1262346054
D145: VV | F145: jilm horský obvod kmínku 10 - 12 cm | AT145: VV | AU145: 1 | AV145: 1 | AW145: True | AX145: 0 | AY145: ROZPOCET
D146: VV | F146: 2 | H146: 2 | AT146: VV | AU146: 1 | AV146: 2 | AW146: True | AX146: 1 | AY146: ROZPOCET
C147: 24 | D147: K | E147: R046 | F147: Zajištění slovení rybí osádky | G147: Soub | H147: 2 | I147: 0 | J147: =ROUND(I147*H147,2) -> 0 | N147: základní | O147: 0 | P147: =O147*H147 -> 0 | Q147: 0 | R147: =Q147*H147 -> 0 | S147: 0 | T147: =S147*H147 -> 0 | AR147: 1024 | AT147: K | AU147: 1 | AY147: ROZPOCET | BE147: =IF(N147="základní",J147,0) -> 0 | BF147: =IF(N147="snížená",J147,0) -> 0 | BG147: =IF(N147="zákl. přenesená",J147,0) -> 0 | BH147: =IF(N147="sníž. přenesená",J147,0) -> 0 | BI147: =IF(N147="nulová",J147,0) -> 0 | BJ147: 1 | BK147: =ROUND(I147*H147,2) -> 0 | BL147: 1024 | BM147: -258062773
D148: VV | F148: Zajištění slovení rybí osádky k tomu oprávněnou osobou | AT148: VV | AU148: 1 | AV148: 1 | AW148: True | AX148: 0 | AY148: ROZPOCET
D149: VV | F149: včetně pořízení protokolu a zajištění oznámení zahájení prací na vodním toku | AT149: VV | AU149: 1 | AV149: 1 | AW149: True | AX149: 0 | AY149: ROZPOCET
D150: VV | F150: příslušnému uživateli rybářského revíru | AT150: VV | AU150: 1 | AV150: 1 | AW150: True | AX150: 0 | AY150: ROZPOCET
D151: VV | F151: 2 | H151: 2 | AT151: VV | AU151: 1 | AV151: 2 | AW151: True | AX151: 1 | AY151: ROZPOCET
