Workbook

Sheet Rekapitulace stavby
A1: Export Komplet | BA1: 2.0 | BT1: False | BU1: False | BV1: {aeb41aa5-56c9-4d09-b43b-f56ba1839215}
AR2: >> skryté sloupce << | BS2: 0,01 | BT2: 21
BS3: 0,01 | BT3: 15
D4: REKAPITULACE STAVBY | AS4: v --- níže se nacházejí doplnkové a pomocné údaje k sestavám --- v | BS4: 0,001
D5: Kód: | K5: 20210049 | BS5: 0,01
D6: Stavba: | K6: Semily - obnova vodovodní shybky u sauny | BS6: 0,01
D7: KSO: | AK7: CC-CZ: | BS7: 0,01
D8: Místo: | K8: Semily | AK8: Datum: | AN8: 19. 4. 2022 | BS8: 0,01
BS9: 0,01
D10: Zadavatel: | AK10: IČ: | BS10: 0,01
E11: VHS Turnov, Antonína Dvořáka 287, 511 01 Turnov | AK11: DIČ: | BS11: 0,01
BS12: 0,01
D13: Zhotovitel: | AK13: IČ: | BS13: 0,01
E14: Dle výběrového řízení | AK14: DIČ: | BS14: 0,01
BS15: False
D16: Projektant: | AK16: IČ: | AN16: 26003236 | BS16: False
E17: ŠINDLAR s.r.o. | AK17: DIČ: | AN17: CZ 260 03 236 | BS17: True
BS18: 0,01
D19: Zpracovatel: | AK19: IČ: | BS19: 0,01
E20: Roman Bárta | AK20: DIČ: | BS20: False
D22: Poznámka:
E23: Soupis prací je sestaven s využitím Cenové soustavy ÚRS. Položky, které pochází z této cenové soustavy, jsou ve sloupci 'Cenová soustava' označeny popisem 'CS ÚRS' a úrovní příslušného kalendářního pololetí. Veškeré další informace vymezující popis a podmínky použití těchto položek z Cenové soustavy, které nejsou uvedeny přímo v soupisu prací, jsou neomezeně dálkově k dispozici na webu podminky.urs.cz.
D26: Cena bez DPH | AK26: =ROUND(AG94,2) -> 100000
L28: Sazba daně | W28: Základ daně | AK28: Výše daně
D29: DPH | F29: základní | L29: 0.21 | W29: =ROUND(AZ94, 2) -> 100000 | AK29: =ROUND(AV94, 2) -> 21000
F30: snížená | L30: 0.15 | W30: =ROUND(BA94, 2) -> 0 | AK30: =ROUND(AW94, 2) -> 0
F31: zákl. přenesená | L31: 0.21 | W31: =ROUND(BB94, 2) -> 0 | AK31: 0
F32: sníž. přenesená | L32: 0.15 | W32: =ROUND(BC94, 2) -> 0 | AK32: 0
F33: nulová | L33: 0 | W33: =ROUND(BD94, 2) -> 0 | AK33: 0
D35: Cena s DPH | T35: v | X35: CZK | AK35: =SUM(AK26:AK33) -> 121000
D49: Projektant | AH49: Zpracovatel
D60: Datum a podpis: | V60: Razítko | AH60: Datum a podpis: | AM60: Razítko
D64: Objednavatel | AH64: Zhotovitel
D75: Datum a podpis: | V75: Razítko | AH75: Datum a podpis: | AM75: Razítko
C82: REKAPITULACE OBJEKTŮ STAVBY A SOUPISŮ PRACÍ
C84: Kód: | L84: =K5 -> 20210049
C85: Stavba: | L85: =K6 -> Semily - obnova vodovodní shybky u sauny
C87: Místo: | L87: =IF(K8="","",K8) -> Semily | AI87: Datum: | AM87: =IF(AN8= "","",AN8) -> 19. 4. 2022
C89: Zadavatel: | L89: =IF(E11= "","",E11) -> VHS Turnov, Antonína Dvořáka 287, 511 01 Turnov | AI89: Projektant: | AM89: =IF(E17="","",E17) -> ŠINDLAR s.r.o. | AS89: Informatívní údaje z listů zakázek
C90: Zhotovitel: | L90: =IF(E14="","",E14) -> Dle výběrového řízení | AI90: Zpracovatel: | AM90: =IF(E20="","",E20) -> Roman Bárta
...

Sheet SO 03 - Shybka vodovodu U...
AT2: {e022164d-3869-4fff-9201-2563cc6f74dd}
AT3: 2
D4: KRYCÍ LIST SOUPISU PRACÍ | M4: v --- níže se nacházejí doplnkové a pomocné údaje k sestavám --- v | AT4: False
D6: Stavba:
E7: ='Rekapitulace stavby'!K6 -> Semily - obnova vodovodní shybky u sauny
D8: Objekt:
E9: 01 - DOS
D10: Soupis:
E11: SO 03 - Shybka vodovodu U Sauny
D13: KSO: | I13: CC-CZ:
D14: Místo: | F14: Semily | I14: Datum: | J14: ='Rekapitulace stavby'!AN8 -> 19. 4. 2022
D16: Zadavatel: | I16: IČ:
E17: VHS Turnov, Antonína Dvořáka 287, 511 01 Turnov | I17: DIČ:
D19: Zhotovitel: | I19: IČ:
E20: Dle výběrového řízení | I20: DIČ:
D22: Projektant: | I22: IČ: | J22: 26003236
E23: ŠINDLAR s.r.o. | I23: DIČ: | J23: CZ 260 03 236
D25: Zpracovatel: | I25: IČ:
E26: Roman Bárta | I26: DIČ:
D28: Poznámka:
E29: Soupis prací je sestaven s využitím Cenové soustavy ÚRS. Položky, které pochází z této cenové soustavy, jsou ve sloupci 'Cenová soustava' označeny popisem 'CS ÚRS' a úrovní příslušného kalendářního pololetí. Veškeré další informace vymezující popis a podmínky použití těchto položek z Cenové soustavy, které nejsou uvedeny přímo v soupisu prací, jsou neomezeně dálkově k dispozici na webu podminky.urs.cz.
D32: Cena bez DPH | J32: =ROUND(J134, 2) -> 0
F34: Základ daně | I34: Sazba daně | J34: Výše daně
D35: DPH | E35: základní | F35: =ROUND((SUM(BE134:BE525)), 2) -> 0 | I35: 0.21 | J35: =ROUND(((SUM(BE134:BE525))*I35), 2) -> 0
E36: snížená | F36: =ROUND((SUM(BF134:BF525)), 2) -> 0 | I36: 0.15 | J36: =ROUND(((SUM(BF134:BF525))*I36), 2) -> 0
E37: zákl. přenesená | F37: =ROUND((SUM(BG134:BG525)), 2) -> 0 | I37: 0.21 | J37: =0 -> 0
E38: sníž. přenesená | F38: =ROUND((SUM(BH134:BH525)), 2) -> 0 | I38: 0.15 | J38: =0 -> 0
E39: nulová | F39: =ROUND((SUM(BI134:BI525)), 2) -> 0 | I39: 0 | J39: =0 -> 0
D41: Cena s DPH | G41: v | H41: CZK | J41: =SUM(J32:J39) -> 0
D50: Projektant | G50: Zpracovatel
D61: Datum a podpis: | F61: Razítko | G61: Datum a podpis: | J61: Razítko
D65: Objednavatel | G65: Zhotovitel
D76: Datum a podpis: | F76: Razítko | G76: Datum a podpis: | J76: Razítko
C82: REKAPITULACE ČLENĚNÍ SOUPISU PRACÍ
C84: Stavba:
E85: =E7 -> Semily - obnova vodovodní shybky u sauny
C86: Objekt:
E87: 01 - DOS
C88: Soupis:
E89: =E11 -> SO 03 - Shybka vodovodu U Sauny
...

Sheet 12 - Vedlejší a ostatní n...
AT2: {75366627-a761-498f-959d-e42e452a8dbb}
AT3: 2
D4: KRYCÍ LIST SOUPISU PRACÍ | M4: v --- níže se nacházejí doplnkové a pomocné údaje k sestavám --- v | AT4: False
D6: Stavba:
E7: ='Rekapitulace stavby'!K6 -> Semily - obnova vodovodní shybky u sauny
D8: Objekt:
E9: 01 - DOS
D10: Soupis:
E11: 12 - Vedlejší a ostatní náklady
D13: KSO: | I13: CC-CZ:
D14: Místo: | F14: Semily | I14: Datum: | J14: ='Rekapitulace stavby'!AN8 -> 19. 4. 2022
D16: Zadavatel: | I16: IČ:
E17: VHS Turnov, Antonína Dvořáka 287, 511 01 Turnov | I17: DIČ:
D19: Zhotovitel: | I19: IČ:
E20: Dle výběrového řízení | I20: DIČ:
D22: Projektant: | I22: IČ: | J22: 26003236
E23: ŠINDLAR s.r.o. | I23: DIČ: | J23: CZ 260 03 236
D25: Zpracovatel: | I25: IČ:
E26: Roman Bárta | I26: DIČ:
D28: Poznámka:
E29: Soupis prací je sestaven s využitím Cenové soustavy ÚRS. Položky, které pochází z této cenové soustavy, jsou ve sloupci 'Cenová soustava' označeny popisem 'CS ÚRS' a úrovní příslušného kalendářního pololetí. Veškeré další informace vymezující popis a podmínky použití těchto položek z Cenové soustavy, které nejsou uvedeny přímo v soupisu prací, jsou neomezeně dálkově k dispozici na webu podminky.urs.cz.
D32: Cena bez DPH | J32: =ROUND(J121, 2) -> 100000
F34: Základ daně | I34: Sazba daně | J34: Výše daně
D35: DPH | E35: základní | F35: =ROUND((SUM(BE121:BE151)), 2) -> 100000 | I35: 0.21 | J35: =ROUND(((SUM(BE121:BE151))*I35), 2) -> 21000
E36: snížená | F36: =ROUND((SUM(BF121:BF151)), 2) -> 0 | I36: 0.15 | J36: =ROUND(((SUM(BF121:BF151))*I36), 2) -> 0
E37: zákl. přenesená | F37: =ROUND((SUM(BG121:BG151)), 2) -> 0 | I37: 0.21 | J37: =0 -> 0
E38: sníž. přenesená | F38: =ROUND((SUM(BH121:BH151)), 2) -> 0 | I38: 0.15 | J38: =0 -> 0
E39: nulová | F39: =ROUND((SUM(BI121:BI151)), 2) -> 0 | I39: 0 | J39: =0 -> 0
D41: Cena s DPH | G41: v | H41: CZK | J41: =SUM(J32:J39) -> 121000
D50: Projektant | G50: Zpracovatel
D61: Datum a podpis: | F61: Razítko | G61: Datum a podpis: | J61: Razítko
D65: Objednavatel | G65: Zhotovitel
D76: Datum a podpis: | F76: Razítko | G76: Datum a podpis: | J76: Razítko
C82: REKAPITULACE ČLENĚNÍ SOUPISU PRACÍ
C84: Stavba:
E85: =E7 -> Semily - obnova vodovodní shybky u sauny
C86: Objekt:
E87: 01 - DOS
C88: Soupis:
E89: =E11 -> 12 - Vedlejší a ostatní náklady
...
